Back to Multiple platform build/check report for BioC 3.11
ABCDEFGHIJKL[M]NOPQRSTUVWXYZ

CHECK report for MOSim on celaya2

This page was generated on 2019-12-12 14:11:11 -0500 (Thu, 12 Dec 2019).

Package 1075/1808HostnameOS / ArchINSTALLBUILDCHECKBUILD BIN
MOSim 1.1.0
Carlos Martínez
Snapshot Date: 2019-12-11 16:45:15 -0500 (Wed, 11 Dec 2019)
URL: https://git.bioconductor.org/packages/MOSim
Branch: master
Last Commit: 15af082
Last Changed Date: 2019-10-29 13:43:38 -0500 (Tue, 29 Oct 2019)
malbec2 Linux (Ubuntu 18.04.3 LTS) / x86_64  OK  OK  OK UNNEEDED, same version exists in internal repository
tokay2 Windows Server 2012 R2 Standard / x64  OK  OK  OK  OK UNNEEDED, same version exists in internal repository
celaya2 OS X 10.11.6 El Capitan / x86_64  OK  OK [ OK ] OK UNNEEDED, same version exists in internal repository

Summary

Package: MOSim
Version: 1.1.0
Command: /Library/Frameworks/R.framework/Versions/Current/Resources/bin/R CMD check --install=check:MOSim.install-out.txt --library=/Library/Frameworks/R.framework/Versions/Current/Resources/library --no-vignettes --timings MOSim_1.1.0.tar.gz
StartedAt: 2019-12-12 05:04:22 -0500 (Thu, 12 Dec 2019)
EndedAt: 2019-12-12 05:20:31 -0500 (Thu, 12 Dec 2019)
EllapsedTime: 969.3 seconds
RetCode: 0
Status:  OK 
CheckDir: MOSim.Rcheck
Warnings: 0

Command output

##############################################################################
##############################################################################
###
### Running command:
###
###   /Library/Frameworks/R.framework/Versions/Current/Resources/bin/R CMD check --install=check:MOSim.install-out.txt --library=/Library/Frameworks/R.framework/Versions/Current/Resources/library --no-vignettes --timings MOSim_1.1.0.tar.gz
###
##############################################################################
##############################################################################


* using log directory ‘/Users/biocbuild/bbs-3.11-bioc/meat/MOSim.Rcheck’
* using R Under development (unstable) (2019-11-03 r77362)
* using platform: x86_64-apple-darwin15.6.0 (64-bit)
* using session charset: UTF-8
* using option ‘--no-vignettes’
* checking for file ‘MOSim/DESCRIPTION’ ... OK
* this is package ‘MOSim’ version ‘1.1.0’
* package encoding: UTF-8
* checking package namespace information ... OK
* checking package dependencies ... OK
* checking if this is a source package ... OK
* checking if there is a namespace ... OK
* checking for hidden files and directories ... OK
* checking for portable file names ... OK
* checking for sufficient/correct file permissions ... OK
* checking whether package ‘MOSim’ can be installed ... OK
* checking installed package size ... OK
* checking package directory ... OK
* checking ‘build’ directory ... OK
* checking DESCRIPTION meta-information ... OK
* checking top-level files ... OK
* checking for left-over files ... OK
* checking index information ... OK
* checking package subdirectories ... OK
* checking R files for non-ASCII characters ... OK
* checking R files for syntax errors ... OK
* checking whether the package can be loaded ... OK
* checking whether the package can be loaded with stated dependencies ... OK
* checking whether the package can be unloaded cleanly ... OK
* checking whether the namespace can be loaded with stated dependencies ... OK
* checking whether the namespace can be unloaded cleanly ... OK
* checking dependencies in R code ... OK
* checking S3 generic/method consistency ... OK
* checking replacement functions ... OK
* checking foreign function calls ... OK
* checking R code for possible problems ... OK
* checking Rd files ... OK
* checking Rd metadata ... OK
* checking Rd cross-references ... OK
* checking for missing documentation entries ... OK
* checking for code/documentation mismatches ... OK
* checking Rd \usage sections ... OK
* checking Rd contents ... OK
* checking for unstated dependencies in examples ... OK
* checking contents of ‘data’ directory ... OK
* checking data for non-ASCII characters ... OK
* checking data for ASCII and uncompressed saves ... OK
* checking sizes of PDF files under ‘inst/doc’ ... OK
* checking files in ‘vignettes’ ... OK
* checking examples ... OK
Examples with CPU (user + system) or elapsed time > 5s
                      user system elapsed
omicSettings       139.778 29.431 169.289
plotProfile        130.100 30.058 160.675
mosim              121.651 27.137 149.059
experimentalDesign 120.614 26.434 147.053
omicResults        118.370 26.607 146.296
omicSim              7.985  0.471   8.457
omicData             5.985  0.227   6.393
* checking for unstated dependencies in ‘tests’ ... OK
* checking tests ...
  Running ‘testthat.R’
 OK
* checking for unstated dependencies in vignettes ... OK
* checking package vignettes in ‘inst/doc’ ... OK
* checking running R code from vignettes ... SKIPPED
* checking re-building of vignette outputs ... SKIPPED
* checking PDF version of manual ... OK
* DONE

Status: OK


Installation output

MOSim.Rcheck/00install.out

##############################################################################
##############################################################################
###
### Running command:
###
###   /Library/Frameworks/R.framework/Versions/Current/Resources/bin/R CMD INSTALL MOSim
###
##############################################################################
##############################################################################


* installing to library ‘/Library/Frameworks/R.framework/Versions/4.0/Resources/library’
* installing *source* package ‘MOSim’ ...
** using staged installation
** R
** data
** byte-compile and prepare package for lazy loading
Creating a new generic function for ‘simulate’ in package ‘MOSim’
** help
*** installing help indices
** building package indices
** installing vignettes
** testing if installed package can be loaded from temporary location
** testing if installed package can be loaded from final location
** testing if installed package keeps a record of temporary installation path
* DONE (MOSim)

Tests output

MOSim.Rcheck/tests/testthat.Rout


R Under development (unstable) (2019-11-03 r77362) -- "Unsuffered Consequences"
Copyright (C) 2019 The R Foundation for Statistical Computing
Platform: x86_64-apple-darwin15.6.0 (64-bit)

R is free software and comes with ABSOLUTELY NO WARRANTY.
You are welcome to redistribute it under certain conditions.
Type 'license()' or 'licence()' for distribution details.

R is a collaborative project with many contributors.
Type 'contributors()' for more information and
'citation()' on how to cite R or R packages in publications.

Type 'demo()' for some demos, 'help()' for on-line help, or
'help.start()' for an HTML browser interface to help.
Type 'q()' to quit R.

> library(testthat)
> library(MOSim)
> 
> test_check("MOSim")
Simulation settings of class MOSimulation:
- Default depth: 74
- Total genes: 200
- Dif. expressed genes: 30
- Replicates: 3
- Factor levels (groups): 2
- Time vector length: 5
Simulation settings of class MOSimulation:
- Default depth: 74
- Total genes: 200
- Dif. expressed genes: 30
- Replicates: 3
- Factor levels (groups): 2
- Time vector length: 5
Simulation settings of class MOSimulation:
- Default depth: 74
- Total genes: 20
- Dif. expressed genes: 3
- Replicates: 3
- Factor levels (groups): 2
- Time vector length: 3
Simulation settings of class MOSimulation:
- Default depth: 74
- Total genes: 300
- Dif. expressed genes: 45
- Replicates: 3
- Factor levels (groups): 2
- Time vector length: 5
══ testthat results  ═══════════════════════════════════════════════════════════
[ OK: 7 | SKIPPED: 0 | WARNINGS: 0 | FAILED: 0 ]
> 
> proc.time()
   user  system elapsed 
 37.675   1.532  39.290 

Example timings

MOSim.Rcheck/MOSim-Ex.timings

nameusersystemelapsed
experimentalDesign120.614 26.434147.053
mosim121.651 27.137149.059
omicData5.9850.2276.393
omicResults118.370 26.607146.296
omicSettings139.778 29.431169.289
omicSim7.9850.4718.457
plotProfile130.100 30.058160.675