Back to Multiple platform build/check report for BioC 3.11 |
|
This page was generated on 2019-12-12 14:11:12 -0500 (Thu, 12 Dec 2019).
Package 1075/1808 | Hostname | OS / Arch | INSTALL | BUILD | CHECK | BUILD BIN | ||||||
MOSim 1.1.0 Carlos Martínez
| malbec2 | Linux (Ubuntu 18.04.3 LTS) / x86_64 | OK | OK | OK | |||||||
tokay2 | Windows Server 2012 R2 Standard / x64 | OK | OK | OK | OK | |||||||
celaya2 | OS X 10.11.6 El Capitan / x86_64 | OK | OK | OK | [ OK ] |
Package: MOSim |
Version: 1.1.0 |
Command: rm -rf MOSim.buildbin-libdir && mkdir MOSim.buildbin-libdir && /Users/biocbuild/BBS/utils/build-universal.sh MOSim_1.1.0.tar.gz /Library/Frameworks/R.framework/Versions/Current/Resources/bin/R MOSim.buildbin-libdir |
StartedAt: 2019-12-12 09:05:22 -0500 (Thu, 12 Dec 2019) |
EndedAt: 2019-12-12 09:05:40 -0500 (Thu, 12 Dec 2019) |
EllapsedTime: 18.1 seconds |
RetCode: 0 |
Status: OK |
PackageFile: MOSim_1.1.0.tgz |
PackageFileSize: 4.775 MiB |
############################################################################## ############################################################################## ### ### Running command: ### ### rm -rf MOSim.buildbin-libdir && mkdir MOSim.buildbin-libdir && /Users/biocbuild/BBS/utils/build-universal.sh MOSim_1.1.0.tar.gz /Library/Frameworks/R.framework/Versions/Current/Resources/bin/R MOSim.buildbin-libdir ### ############################################################################## ############################################################################## >>>>>>> >>>>>>> INSTALLATION WITH 'R CMD INSTALL --preclean --no-multiarch --library=MOSim.buildbin-libdir MOSim_1.1.0.tar.gz' >>>>>>> * installing *source* package ‘MOSim’ ... ** using staged installation ** R ** data ** inst ** byte-compile and prepare package for lazy loading Creating a new generic function for ‘simulate’ in package ‘MOSim’ ** help *** installing help indices ** building package indices ** installing vignettes ** testing if installed package can be loaded from temporary location ** testing if installed package can be loaded from final location ** testing if installed package keeps a record of temporary installation path * DONE (MOSim)