| Back to Multiple platform build/check report for BioC 3.11 |
|
This page was generated on 2020-10-17 11:57:11 -0400 (Sat, 17 Oct 2020).
| TO THE DEVELOPERS/MAINTAINERS OF THE MOSim PACKAGE: Please make sure to use the following settings in order to reproduce any error or warning you see on this page. |
| Package 1123/1905 | Hostname | OS / Arch | INSTALL | BUILD | CHECK | BUILD BIN | ||||||
| MOSim 1.2.0 Carlos MartÃnez
| malbec2 | Linux (Ubuntu 18.04.4 LTS) / x86_64 | OK | OK | OK | |||||||
| tokay2 | Windows Server 2012 R2 Standard / x64 | OK | OK | OK | [ OK ] | |||||||
| machv2 | macOS 10.14.6 Mojave / x86_64 | OK | OK | OK | OK |
| Package: MOSim |
| Version: 1.2.0 |
| Command: rm -rf MOSim.buildbin-libdir && mkdir MOSim.buildbin-libdir && C:\Users\biocbuild\bbs-3.11-bioc\R\bin\R.exe CMD INSTALL --merge-multiarch --build --library=MOSim.buildbin-libdir MOSim_1.2.0.tar.gz |
| StartedAt: 2020-10-17 11:04:31 -0400 (Sat, 17 Oct 2020) |
| EndedAt: 2020-10-17 11:05:15 -0400 (Sat, 17 Oct 2020) |
| EllapsedTime: 43.7 seconds |
| RetCode: 0 |
| Status: OK |
| PackageFile: MOSim_1.2.0.zip |
| PackageFileSize: 4.78 MiB |
##############################################################################
##############################################################################
###
### Running command:
###
### rm -rf MOSim.buildbin-libdir && mkdir MOSim.buildbin-libdir && C:\Users\biocbuild\bbs-3.11-bioc\R\bin\R.exe CMD INSTALL --merge-multiarch --build --library=MOSim.buildbin-libdir MOSim_1.2.0.tar.gz
###
##############################################################################
##############################################################################
install for i386
* installing *source* package 'MOSim' ...
** using staged installation
** R
** data
** inst
** byte-compile and prepare package for lazy loading
Creating a new generic function for 'simulate' in package 'MOSim'
** help
*** installing help indices
converting help for package 'MOSim'
finding HTML links ... done
MOSim-package html
MOSimulation-class html
MOSimulator-class html
Simulator-class html
experimentalDesign html
is.declared html
mosim html
omicData html
omicResults html
omicSettings html
omicSim html
plotProfile html
sampleData html
** building package indices
** installing vignettes
** testing if installed package can be loaded from temporary location
** testing if installed package can be loaded from final location
** testing if installed package keeps a record of temporary installation path
install for x64
* installing *source* package 'MOSim' ...
** testing if installed package can be loaded
* MD5 sums
packaged installation of 'MOSim' as MOSim_1.2.0.zip
* DONE (MOSim)