| Back to Multiple platform build/check report for BioC 3.11 |
|
This page was generated on 2020-10-17 11:58:40 -0400 (Sat, 17 Oct 2020).
| TO THE DEVELOPERS/MAINTAINERS OF THE HDF5Array PACKAGE: Please make sure to use the following settings in order to reproduce any error or warning you see on this page. |
| Package 805/1905 | Hostname | OS / Arch | INSTALL | BUILD | CHECK | BUILD BIN | ||||||
| HDF5Array 1.16.1 Hervé Pagès
| malbec2 | Linux (Ubuntu 18.04.4 LTS) / x86_64 | OK | OK | OK | |||||||
| tokay2 | Windows Server 2012 R2 Standard / x64 | OK | OK | WARNINGS | OK | |||||||
| machv2 | macOS 10.14.6 Mojave / x86_64 | OK | OK | [ OK ] | OK |
| Package: HDF5Array |
| Version: 1.16.1 |
| Command: /Library/Frameworks/R.framework/Versions/Current/Resources/bin/R CMD check --install=check:HDF5Array.install-out.txt --library=/Library/Frameworks/R.framework/Versions/Current/Resources/library --no-vignettes --timings HDF5Array_1.16.1.tar.gz |
| StartedAt: 2020-10-17 01:58:25 -0400 (Sat, 17 Oct 2020) |
| EndedAt: 2020-10-17 02:04:07 -0400 (Sat, 17 Oct 2020) |
| EllapsedTime: 341.5 seconds |
| RetCode: 0 |
| Status: OK |
| CheckDir: HDF5Array.Rcheck |
| Warnings: 0 |
##############################################################################
##############################################################################
###
### Running command:
###
### /Library/Frameworks/R.framework/Versions/Current/Resources/bin/R CMD check --install=check:HDF5Array.install-out.txt --library=/Library/Frameworks/R.framework/Versions/Current/Resources/library --no-vignettes --timings HDF5Array_1.16.1.tar.gz
###
##############################################################################
##############################################################################
* using log directory ‘/Users/biocbuild/bbs-3.11-bioc/meat/HDF5Array.Rcheck’
* using R version 4.0.3 (2020-10-10)
* using platform: x86_64-apple-darwin17.0 (64-bit)
* using session charset: UTF-8
* using option ‘--no-vignettes’
* checking for file ‘HDF5Array/DESCRIPTION’ ... OK
* this is package ‘HDF5Array’ version ‘1.16.1’
* package encoding: UTF-8
* checking package namespace information ... OK
* checking package dependencies ... OK
* checking if this is a source package ... OK
* checking if there is a namespace ... OK
* checking for hidden files and directories ... NOTE
Found the following hidden files and directories:
.BBSoptions
These were most likely included in error. See section ‘Package
structure’ in the ‘Writing R Extensions’ manual.
* checking for portable file names ... OK
* checking for sufficient/correct file permissions ... OK
* checking whether package ‘HDF5Array’ can be installed ... OK
* checking installed package size ... NOTE
installed size is 12.2Mb
sub-directories of 1Mb or more:
extdata 7.7Mb
libs 3.6Mb
* checking package directory ... OK
* checking DESCRIPTION meta-information ... OK
* checking top-level files ... OK
* checking for left-over files ... OK
* checking index information ... OK
* checking package subdirectories ... OK
* checking R files for non-ASCII characters ... OK
* checking R files for syntax errors ... OK
* checking whether the package can be loaded ... OK
* checking whether the package can be loaded with stated dependencies ... OK
* checking whether the package can be unloaded cleanly ... OK
* checking whether the namespace can be loaded with stated dependencies ... OK
* checking whether the namespace can be unloaded cleanly ... OK
* checking dependencies in R code ... NOTE
Unexported objects imported by ':::' calls:
‘BiocGenerics:::testPackage’ ‘S4Vectors:::anyMissingOrOutside’
‘S4Vectors:::extract_data_frame_rows’ ‘S4Vectors:::sapply_isNULL’
See the note in ?`:::` about the use of this operator.
* checking S3 generic/method consistency ... OK
* checking replacement functions ... OK
* checking foreign function calls ... OK
* checking R code for possible problems ... OK
* checking Rd files ... OK
* checking Rd metadata ... OK
* checking Rd cross-references ... OK
* checking for missing documentation entries ... OK
* checking for code/documentation mismatches ... OK
* checking Rd \usage sections ... OK
* checking Rd contents ... OK
* checking for unstated dependencies in examples ... OK
* checking line endings in C/C++/Fortran sources/headers ... OK
* checking line endings in Makefiles ... OK
* checking compilation flags in Makevars ... OK
* checking for GNU extensions in Makefiles ... NOTE
GNU make is a SystemRequirements.
* checking for portable use of $(BLAS_LIBS) and $(LAPACK_LIBS) ... OK
* checking use of PKG_*FLAGS in Makefiles ... OK
* checking compiled code ... NOTE
Note: information on .o files is not available
File ‘/Library/Frameworks/R.framework/Versions/4.0/Resources/library/HDF5Array/libs/HDF5Array.so’:
Found ‘___stderrp’, possibly from ‘stderr’ (C)
Found ‘___stdoutp’, possibly from ‘stdout’ (C)
Found ‘_abort’, possibly from ‘abort’ (C)
Found ‘_exit’, possibly from ‘exit’ (C)
Found ‘_printf’, possibly from ‘printf’ (C)
Found ‘_rand_r’, possibly from ‘rand_r’ (C)
Compiled code should not call entry points which might terminate R nor
write to stdout/stderr instead of to the console, nor use Fortran I/O
nor system RNGs. The detected symbols are linked into the code but
might come from libraries and not actually be called.
See ‘Writing portable packages’ in the ‘Writing R Extensions’ manual.
* checking examples ... OK
Examples with CPU (user + system) or elapsed time > 5s
user system elapsed
TENxMatrix-class 293.490 63.176 94.917
h5mread 42.864 1.632 45.983
writeTENxMatrix 16.440 0.858 17.562
TENxMatrixSeed-class 5.875 0.464 6.531
HDF5Array-class 4.993 0.295 5.293
* checking for unstated dependencies in ‘tests’ ... OK
* checking tests ...
Running ‘run_unitTests.R’
OK
* checking PDF version of manual ... OK
* DONE
Status: 5 NOTEs
See
‘/Users/biocbuild/bbs-3.11-bioc/meat/HDF5Array.Rcheck/00check.log’
for details.
HDF5Array.Rcheck/00install.out
##############################################################################
##############################################################################
###
### Running command:
###
### /Library/Frameworks/R.framework/Versions/Current/Resources/bin/R CMD INSTALL HDF5Array
###
##############################################################################
##############################################################################
* installing to library ‘/Library/Frameworks/R.framework/Versions/4.0/Resources/library’
* installing *source* package ‘HDF5Array’ ...
** using staged installation
** libs
clang -mmacosx-version-min=10.13 -I"/Library/Frameworks/R.framework/Resources/include" -DNDEBUG -I'/Library/Frameworks/R.framework/Versions/4.0/Resources/library/S4Vectors/include' -I'/Library/Frameworks/R.framework/Versions/4.0/Resources/library/Rhdf5lib/include' -I/usr/local/include -fPIC -Wall -g -O2 -c H5DSetDescriptor.c -o H5DSetDescriptor.o
clang -mmacosx-version-min=10.13 -I"/Library/Frameworks/R.framework/Resources/include" -DNDEBUG -I'/Library/Frameworks/R.framework/Versions/4.0/Resources/library/S4Vectors/include' -I'/Library/Frameworks/R.framework/Versions/4.0/Resources/library/Rhdf5lib/include' -I/usr/local/include -fPIC -Wall -g -O2 -c R_init_HDF5Array.c -o R_init_HDF5Array.o
clang -mmacosx-version-min=10.13 -I"/Library/Frameworks/R.framework/Resources/include" -DNDEBUG -I'/Library/Frameworks/R.framework/Versions/4.0/Resources/library/S4Vectors/include' -I'/Library/Frameworks/R.framework/Versions/4.0/Resources/library/Rhdf5lib/include' -I/usr/local/include -fPIC -Wall -g -O2 -c S4Vectors_stubs.c -o S4Vectors_stubs.o
clang -mmacosx-version-min=10.13 -I"/Library/Frameworks/R.framework/Resources/include" -DNDEBUG -I'/Library/Frameworks/R.framework/Versions/4.0/Resources/library/S4Vectors/include' -I'/Library/Frameworks/R.framework/Versions/4.0/Resources/library/Rhdf5lib/include' -I/usr/local/include -fPIC -Wall -g -O2 -c array_selection.c -o array_selection.o
clang -mmacosx-version-min=10.13 -I"/Library/Frameworks/R.framework/Resources/include" -DNDEBUG -I'/Library/Frameworks/R.framework/Versions/4.0/Resources/library/S4Vectors/include' -I'/Library/Frameworks/R.framework/Versions/4.0/Resources/library/Rhdf5lib/include' -I/usr/local/include -fPIC -Wall -g -O2 -c h5dimscales.c -o h5dimscales.o
clang -mmacosx-version-min=10.13 -I"/Library/Frameworks/R.framework/Resources/include" -DNDEBUG -I'/Library/Frameworks/R.framework/Versions/4.0/Resources/library/S4Vectors/include' -I'/Library/Frameworks/R.framework/Versions/4.0/Resources/library/Rhdf5lib/include' -I/usr/local/include -fPIC -Wall -g -O2 -c h5mread.c -o h5mread.o
h5mread.c:1309:22: warning: unused function 'select_elements_from_chunk' [-Wunused-function]
static long long int select_elements_from_chunk(
^
1 warning generated.
clang -mmacosx-version-min=10.13 -dynamiclib -Wl,-headerpad_max_install_names -undefined dynamic_lookup -single_module -multiply_defined suppress -L/Library/Frameworks/R.framework/Resources/lib -L/usr/local/lib -o HDF5Array.so H5DSetDescriptor.o R_init_HDF5Array.o S4Vectors_stubs.o array_selection.o h5dimscales.o h5mread.o /Library/Frameworks/R.framework/Versions/4.0/Resources/library/Rhdf5lib/lib/libhdf5_hl.a /Library/Frameworks/R.framework/Versions/4.0/Resources/library/Rhdf5lib/lib/libhdf5.a /Library/Frameworks/R.framework/Versions/4.0/Resources/library/Rhdf5lib/lib/libsz.a -lz -F/Library/Frameworks/R.framework/.. -framework R -Wl,-framework -Wl,CoreFoundation
installing to /Library/Frameworks/R.framework/Versions/4.0/Resources/library/00LOCK-HDF5Array/00new/HDF5Array/libs
** R
** inst
** byte-compile and prepare package for lazy loading
** help
*** installing help indices
** building package indices
** testing if installed package can be loaded from temporary location
** checking absolute paths in shared objects and dynamic libraries
** testing if installed package can be loaded from final location
** testing if installed package keeps a record of temporary installation path
* DONE (HDF5Array)
HDF5Array.Rcheck/tests/run_unitTests.Rout
R version 4.0.3 (2020-10-10) -- "Bunny-Wunnies Freak Out"
Copyright (C) 2020 The R Foundation for Statistical Computing
Platform: x86_64-apple-darwin17.0 (64-bit)
R is free software and comes with ABSOLUTELY NO WARRANTY.
You are welcome to redistribute it under certain conditions.
Type 'license()' or 'licence()' for distribution details.
R is a collaborative project with many contributors.
Type 'contributors()' for more information and
'citation()' on how to cite R or R packages in publications.
Type 'demo()' for some demos, 'help()' for on-line help, or
'help.start()' for an HTML browser interface to help.
Type 'q()' to quit R.
> require("HDF5Array") || stop("unable to load HDF5Array package")
Loading required package: HDF5Array
Loading required package: DelayedArray
Loading required package: stats4
Loading required package: matrixStats
Loading required package: BiocGenerics
Loading required package: parallel
Attaching package: 'BiocGenerics'
The following objects are masked from 'package:parallel':
clusterApply, clusterApplyLB, clusterCall, clusterEvalQ,
clusterExport, clusterMap, parApply, parCapply, parLapply,
parLapplyLB, parRapply, parSapply, parSapplyLB
The following objects are masked from 'package:stats':
IQR, mad, sd, var, xtabs
The following objects are masked from 'package:base':
Filter, Find, Map, Position, Reduce, anyDuplicated, append,
as.data.frame, basename, cbind, colnames, dirname, do.call,
duplicated, eval, evalq, get, grep, grepl, intersect, is.unsorted,
lapply, mapply, match, mget, order, paste, pmax, pmax.int, pmin,
pmin.int, rank, rbind, rownames, sapply, setdiff, sort, table,
tapply, union, unique, unsplit, which, which.max, which.min
Loading required package: S4Vectors
Attaching package: 'S4Vectors'
The following object is masked from 'package:base':
expand.grid
Loading required package: IRanges
Attaching package: 'DelayedArray'
The following objects are masked from 'package:matrixStats':
colMaxs, colMins, colRanges, rowMaxs, rowMins, rowRanges
The following objects are masked from 'package:base':
aperm, apply, rowsum
Loading required package: rhdf5
[1] TRUE
> HDF5Array:::.test()
RUNIT TEST PROTOCOL -- Sat Oct 17 02:03:56 2020
***********************************************
Number of test functions: 13
Number of errors: 0
Number of failures: 0
1 Test Suite :
HDF5Array RUnit Tests - 13 test functions, 0 errors, 0 failures
Number of test functions: 13
Number of errors: 0
Number of failures: 0
>
> proc.time()
user system elapsed
22.671 2.386 25.161
HDF5Array.Rcheck/HDF5Array-Ex.timings
| name | user | system | elapsed | |
| HDF5Array-class | 4.993 | 0.295 | 5.293 | |
| HDF5ArraySeed-class | 0.034 | 0.003 | 0.038 | |
| ReshapedHDF5Array-class | 0.168 | 0.015 | 0.182 | |
| ReshapedHDF5ArraySeed-class | 0.061 | 0.008 | 0.069 | |
| TENxMatrix-class | 293.490 | 63.176 | 94.917 | |
| TENxMatrixSeed-class | 5.875 | 0.464 | 6.531 | |
| dump-management | 0.532 | 0.042 | 0.576 | |
| h5mread | 42.864 | 1.632 | 45.983 | |
| h5mread_from_reshaped | 0.351 | 0.025 | 0.375 | |
| h5writeDimnames | 0.721 | 0.066 | 0.788 | |
| saveHDF5SummarizedExperiment | 0.975 | 0.040 | 1.015 | |
| writeHDF5Array | 0.589 | 0.049 | 0.638 | |
| writeTENxMatrix | 16.440 | 0.858 | 17.562 | |