| Back to Multiple platform build/check report for BioC 3.11 |
|
This page was generated on 2020-10-17 11:58:40 -0400 (Sat, 17 Oct 2020).
| TO THE DEVELOPERS/MAINTAINERS OF THE HDF5Array PACKAGE: Please make sure to use the following settings in order to reproduce any error or warning you see on this page. |
| Package 805/1905 | Hostname | OS / Arch | INSTALL | BUILD | CHECK | BUILD BIN | ||||||
| HDF5Array 1.16.1 Hervé Pagès
| malbec2 | Linux (Ubuntu 18.04.4 LTS) / x86_64 | OK | OK | OK | |||||||
| tokay2 | Windows Server 2012 R2 Standard / x64 | OK | OK | WARNINGS | OK | |||||||
| machv2 | macOS 10.14.6 Mojave / x86_64 | OK | OK | OK | [ OK ] |
| Package: HDF5Array |
| Version: 1.16.1 |
| Command: rm -rf HDF5Array.buildbin-libdir && mkdir HDF5Array.buildbin-libdir && /Users/biocbuild/BBS/utils/build-universal.sh HDF5Array_1.16.1.tar.gz /Library/Frameworks/R.framework/Versions/Current/Resources/bin/R HDF5Array.buildbin-libdir |
| StartedAt: 2020-10-17 07:15:12 -0400 (Sat, 17 Oct 2020) |
| EndedAt: 2020-10-17 07:15:41 -0400 (Sat, 17 Oct 2020) |
| EllapsedTime: 28.8 seconds |
| RetCode: 0 |
| Status: OK |
| PackageFile: HDF5Array_1.16.1.tgz |
| PackageFileSize: 9.58 MiB |
##############################################################################
##############################################################################
###
### Running command:
###
### rm -rf HDF5Array.buildbin-libdir && mkdir HDF5Array.buildbin-libdir && /Users/biocbuild/BBS/utils/build-universal.sh HDF5Array_1.16.1.tar.gz /Library/Frameworks/R.framework/Versions/Current/Resources/bin/R HDF5Array.buildbin-libdir
###
##############################################################################
##############################################################################
>>>>>>>
>>>>>>> INSTALLATION WITH 'R CMD INSTALL --preclean --no-multiarch --library=HDF5Array.buildbin-libdir HDF5Array_1.16.1.tar.gz'
>>>>>>>
* installing *source* package ‘HDF5Array’ ...
** using staged installation
** libs
clang -mmacosx-version-min=10.13 -I"/Library/Frameworks/R.framework/Resources/include" -DNDEBUG -I'/Library/Frameworks/R.framework/Versions/4.0/Resources/library/S4Vectors/include' -I'/Library/Frameworks/R.framework/Versions/4.0/Resources/library/Rhdf5lib/include' -I/usr/local/include -fPIC -Wall -g -O2 -c H5DSetDescriptor.c -o H5DSetDescriptor.o
clang -mmacosx-version-min=10.13 -I"/Library/Frameworks/R.framework/Resources/include" -DNDEBUG -I'/Library/Frameworks/R.framework/Versions/4.0/Resources/library/S4Vectors/include' -I'/Library/Frameworks/R.framework/Versions/4.0/Resources/library/Rhdf5lib/include' -I/usr/local/include -fPIC -Wall -g -O2 -c R_init_HDF5Array.c -o R_init_HDF5Array.o
clang -mmacosx-version-min=10.13 -I"/Library/Frameworks/R.framework/Resources/include" -DNDEBUG -I'/Library/Frameworks/R.framework/Versions/4.0/Resources/library/S4Vectors/include' -I'/Library/Frameworks/R.framework/Versions/4.0/Resources/library/Rhdf5lib/include' -I/usr/local/include -fPIC -Wall -g -O2 -c S4Vectors_stubs.c -o S4Vectors_stubs.o
clang -mmacosx-version-min=10.13 -I"/Library/Frameworks/R.framework/Resources/include" -DNDEBUG -I'/Library/Frameworks/R.framework/Versions/4.0/Resources/library/S4Vectors/include' -I'/Library/Frameworks/R.framework/Versions/4.0/Resources/library/Rhdf5lib/include' -I/usr/local/include -fPIC -Wall -g -O2 -c array_selection.c -o array_selection.o
clang -mmacosx-version-min=10.13 -I"/Library/Frameworks/R.framework/Resources/include" -DNDEBUG -I'/Library/Frameworks/R.framework/Versions/4.0/Resources/library/S4Vectors/include' -I'/Library/Frameworks/R.framework/Versions/4.0/Resources/library/Rhdf5lib/include' -I/usr/local/include -fPIC -Wall -g -O2 -c h5dimscales.c -o h5dimscales.o
clang -mmacosx-version-min=10.13 -I"/Library/Frameworks/R.framework/Resources/include" -DNDEBUG -I'/Library/Frameworks/R.framework/Versions/4.0/Resources/library/S4Vectors/include' -I'/Library/Frameworks/R.framework/Versions/4.0/Resources/library/Rhdf5lib/include' -I/usr/local/include -fPIC -Wall -g -O2 -c h5mread.c -o h5mread.o
h5mread.c:1309:22: warning: unused function 'select_elements_from_chunk' [-Wunused-function]
static long long int select_elements_from_chunk(
^
1 warning generated.
clang -mmacosx-version-min=10.13 -dynamiclib -Wl,-headerpad_max_install_names -undefined dynamic_lookup -single_module -multiply_defined suppress -L/Library/Frameworks/R.framework/Resources/lib -L/usr/local/lib -o HDF5Array.so H5DSetDescriptor.o R_init_HDF5Array.o S4Vectors_stubs.o array_selection.o h5dimscales.o h5mread.o /Library/Frameworks/R.framework/Versions/4.0/Resources/library/Rhdf5lib/lib/libhdf5_hl.a /Library/Frameworks/R.framework/Versions/4.0/Resources/library/Rhdf5lib/lib/libhdf5.a /Library/Frameworks/R.framework/Versions/4.0/Resources/library/Rhdf5lib/lib/libsz.a -lz -F/Library/Frameworks/R.framework/.. -framework R -Wl,-framework -Wl,CoreFoundation
installing to /Users/biocbuild/bbs-3.11-bioc/meat/HDF5Array.buildbin-libdir/00LOCK-HDF5Array/00new/HDF5Array/libs
** R
** inst
** byte-compile and prepare package for lazy loading
** help
*** installing help indices
** building package indices
** testing if installed package can be loaded from temporary location
** checking absolute paths in shared objects and dynamic libraries
** testing if installed package can be loaded from final location
** testing if installed package keeps a record of temporary installation path
* DONE (HDF5Array)
>>>>>>>
>>>>>>> FIXING LINKS FOR HDF5Array.buildbin-libdir/HDF5Array/libs/HDF5Array.so
>>>>>>>
install_name_tool -change "/usr/local/lib/libgcc_s.1.dylib" "/Library/Frameworks/R.framework/Versions/4.0/Resources/lib/libgcc_s.1.dylib" "HDF5Array.buildbin-libdir/HDF5Array/libs/HDF5Array.so"
install_name_tool -change "/usr/local/lib/libgfortran.5.dylib" "/Library/Frameworks/R.framework/Versions/4.0/Resources/lib/libgfortran.5.dylib" "HDF5Array.buildbin-libdir/HDF5Array/libs/HDF5Array.so"
install_name_tool -change "/usr/local/lib/libquadmath.0.dylib" "/Library/Frameworks/R.framework/Versions/4.0/Resources/lib/libquadmath.0.dylib" "HDF5Array.buildbin-libdir/HDF5Array/libs/HDF5Array.so"