| Back to Multiple platform build/check report for BioC 3.11 | 
 | 
This page was generated on 2020-10-17 11:54:47 -0400 (Sat, 17 Oct 2020).
| TO THE DEVELOPERS/MAINTAINERS OF THE GARS PACKAGE: Please make sure to use the following settings in order to reproduce any error or warning you see on this page. | 
| Package 655/1905 | Hostname | OS / Arch | INSTALL | BUILD | CHECK | BUILD BIN | ||||||
| GARS 1.8.0 Mattia Chiesa 
 | malbec2 | Linux (Ubuntu 18.04.4 LTS) / x86_64 | OK | [ OK ] | OK |  | ||||||
| tokay2 | Windows Server 2012 R2 Standard / x64 | OK | OK | OK | OK |  | ||||||
| machv2 | macOS 10.14.6 Mojave / x86_64 | OK | OK | WARNINGS | OK |  | 
| Package: GARS | 
| Version: 1.8.0 | 
| Command: /home/biocbuild/bbs-3.11-bioc/R/bin/R CMD build --keep-empty-dirs --no-resave-data GARS | 
| StartedAt: 2020-10-16 19:17:42 -0400 (Fri, 16 Oct 2020) | 
| EndedAt: 2020-10-16 19:20:03 -0400 (Fri, 16 Oct 2020) | 
| EllapsedTime: 141.0 seconds | 
| RetCode: 0 | 
| Status: OK | 
| PackageFile: GARS_1.8.0.tar.gz | 
| PackageFileSize: 428.2 KiB | 
############################################################################## ############################################################################## ### ### Running command: ### ### /home/biocbuild/bbs-3.11-bioc/R/bin/R CMD build --keep-empty-dirs --no-resave-data GARS ### ############################################################################## ############################################################################## * checking for file ‘GARS/DESCRIPTION’ ... OK * preparing ‘GARS’: * checking DESCRIPTION meta-information ... OK * installing the package to build vignettes * creating vignettes ... OK * checking for LF line-endings in source and make files and shell scripts * checking for empty or unneeded directories * building ‘GARS_1.8.0.tar.gz’