| Back to Multiple platform build/check report for BioC 3.11 |
|
This page was generated on 2020-10-17 11:56:37 -0400 (Sat, 17 Oct 2020).
| TO THE DEVELOPERS/MAINTAINERS OF THE GARS PACKAGE: Please make sure to use the following settings in order to reproduce any error or warning you see on this page. |
| Package 655/1905 | Hostname | OS / Arch | INSTALL | BUILD | CHECK | BUILD BIN | ||||||
| GARS 1.8.0 Mattia Chiesa
| malbec2 | Linux (Ubuntu 18.04.4 LTS) / x86_64 | OK | OK | OK | |||||||
| tokay2 | Windows Server 2012 R2 Standard / x64 | OK | OK | OK | [ OK ] | |||||||
| machv2 | macOS 10.14.6 Mojave / x86_64 | OK | OK | WARNINGS | OK |
| Package: GARS |
| Version: 1.8.0 |
| Command: rm -rf GARS.buildbin-libdir && mkdir GARS.buildbin-libdir && C:\Users\biocbuild\bbs-3.11-bioc\R\bin\R.exe CMD INSTALL --merge-multiarch --build --library=GARS.buildbin-libdir GARS_1.8.0.tar.gz |
| StartedAt: 2020-10-17 10:34:12 -0400 (Sat, 17 Oct 2020) |
| EndedAt: 2020-10-17 10:36:04 -0400 (Sat, 17 Oct 2020) |
| EllapsedTime: 112.4 seconds |
| RetCode: 0 |
| Status: OK |
| PackageFile: GARS_1.8.0.zip |
| PackageFileSize: 516.6 KiB |
##############################################################################
##############################################################################
###
### Running command:
###
### rm -rf GARS.buildbin-libdir && mkdir GARS.buildbin-libdir && C:\Users\biocbuild\bbs-3.11-bioc\R\bin\R.exe CMD INSTALL --merge-multiarch --build --library=GARS.buildbin-libdir GARS_1.8.0.tar.gz
###
##############################################################################
##############################################################################
install for i386
* installing *source* package 'GARS' ...
** using staged installation
** R
** data
*** moving datasets to lazyload DB
** inst
** byte-compile and prepare package for lazy loading
** help
*** installing help indices
converting help for package 'GARS'
finding HTML links ... done
AllPop html
FitScore html
GARS html
GARS_Crossover html
GARS_Elitism html
GARS_FitFun html
GARS_Fitness_score html
GARS_GA html
GARS_Mutation html
GARS_PlotFeaturesUsage html
GARS_PlotFitnessEvolution html
GARS_Selection html
GARS_classes html
GARS_create_rnd_population html
GARS_data_norm html
GARS_fit_list html
GARS_pop_list html
GARS_popul html
GARS_res_GA html
GarsSelectedFeatures-class html
LastPop html
MatrixFeatures html
** building package indices
** installing vignettes
** testing if installed package can be loaded from temporary location
** testing if installed package can be loaded from final location
** testing if installed package keeps a record of temporary installation path
install for x64
* installing *source* package 'GARS' ...
** testing if installed package can be loaded
* MD5 sums
packaged installation of 'GARS' as GARS_1.8.0.zip
* DONE (GARS)