| Back to Multiple platform build/check report for BioC 3.11 | 
 | 
This page was generated on 2020-10-17 11:58:49 -0400 (Sat, 17 Oct 2020).
| TO THE DEVELOPERS/MAINTAINERS OF THE lumi PACKAGE: Please make sure to use the following settings in order to reproduce any error or warning you see on this page. | 
| Package 961/1905 | Hostname | OS / Arch | INSTALL | BUILD | CHECK | BUILD BIN | ||||||
| lumi 2.40.0 Lei Huang 
 | malbec2 | Linux (Ubuntu 18.04.4 LTS) / x86_64 | OK | OK | WARNINGS |  | ||||||
| tokay2 | Windows Server 2012 R2 Standard / x64 | OK | OK | WARNINGS | OK |  | ||||||
| machv2 | macOS 10.14.6 Mojave / x86_64 | OK | [ OK ] | WARNINGS | OK |  | 
| Package: lumi | 
| Version: 2.40.0 | 
| Command: /Library/Frameworks/R.framework/Versions/Current/Resources/bin/R CMD build --keep-empty-dirs --no-resave-data lumi | 
| StartedAt: 2020-10-16 19:45:19 -0400 (Fri, 16 Oct 2020) | 
| EndedAt: 2020-10-16 19:45:25 -0400 (Fri, 16 Oct 2020) | 
| EllapsedTime: 6.9 seconds | 
| RetCode: 0 | 
| Status: OK | 
| PackageFile: lumi_2.40.0.tar.gz | 
| PackageFileSize: 8.033 MiB | 
############################################################################## ############################################################################## ### ### Running command: ### ### /Library/Frameworks/R.framework/Versions/Current/Resources/bin/R CMD build --keep-empty-dirs --no-resave-data lumi ### ############################################################################## ############################################################################## * checking for file ‘lumi/DESCRIPTION’ ... OK * preparing ‘lumi’: * checking DESCRIPTION meta-information ... OK * checking for LF line-endings in source and make files and shell scripts * checking for empty or unneeded directories * looking to see if a ‘data/datalist’ file should be added * building ‘lumi_2.40.0.tar.gz’