| Back to Multiple platform build/check report for BioC 3.11 | 
 | 
This page was generated on 2020-10-17 11:58:49 -0400 (Sat, 17 Oct 2020).
| TO THE DEVELOPERS/MAINTAINERS OF THE lumi PACKAGE: Please make sure to use the following settings in order to reproduce any error or warning you see on this page. | 
| Package 961/1905 | Hostname | OS / Arch | INSTALL | BUILD | CHECK | BUILD BIN | ||||||
| lumi 2.40.0 Lei Huang 
 | malbec2 | Linux (Ubuntu 18.04.4 LTS) / x86_64 | OK | OK | WARNINGS |  | ||||||
| tokay2 | Windows Server 2012 R2 Standard / x64 | OK | OK | WARNINGS | OK |  | ||||||
| machv2 | macOS 10.14.6 Mojave / x86_64 | OK | OK | WARNINGS | [ OK ] |  | 
| Package: lumi | 
| Version: 2.40.0 | 
| Command: rm -rf lumi.buildbin-libdir && mkdir lumi.buildbin-libdir && /Users/biocbuild/BBS/utils/build-universal.sh lumi_2.40.0.tar.gz /Library/Frameworks/R.framework/Versions/Current/Resources/bin/R lumi.buildbin-libdir | 
| StartedAt: 2020-10-17 07:23:02 -0400 (Sat, 17 Oct 2020) | 
| EndedAt: 2020-10-17 07:24:09 -0400 (Sat, 17 Oct 2020) | 
| EllapsedTime: 66.9 seconds | 
| RetCode: 0 | 
| Status: OK | 
| PackageFile: lumi_2.40.0.tgz | 
| PackageFileSize: 4.727 MiB | 
############################################################################## ############################################################################## ### ### Running command: ### ### rm -rf lumi.buildbin-libdir && mkdir lumi.buildbin-libdir && /Users/biocbuild/BBS/utils/build-universal.sh lumi_2.40.0.tar.gz /Library/Frameworks/R.framework/Versions/Current/Resources/bin/R lumi.buildbin-libdir ### ############################################################################## ############################################################################## >>>>>>> >>>>>>> INSTALLATION WITH 'R CMD INSTALL --preclean --no-multiarch --library=lumi.buildbin-libdir lumi_2.40.0.tar.gz' >>>>>>> * installing *source* package ‘lumi’ ... ** using staged installation ** R ** data ** inst ** byte-compile and prepare package for lazy loading No methods found in package ‘RSQLite’ for request: ‘dbListFields’ when loading ‘lumi’ ** help *** installing help indices ** building package indices ** installing vignettes ** testing if installed package can be loaded from temporary location No methods found in package ‘RSQLite’ for request: ‘dbListFields’ when loading ‘lumi’ ** testing if installed package can be loaded from final location No methods found in package ‘RSQLite’ for request: ‘dbListFields’ when loading ‘lumi’ ** testing if installed package keeps a record of temporary installation path * DONE (lumi)