| Back to Multiple platform build/check report for BioC 3.10 | 
 | 
This page was generated on 2020-04-15 12:42:16 -0400 (Wed, 15 Apr 2020).
| Package 1783/1823 | Hostname | OS / Arch | INSTALL | BUILD | CHECK | BUILD BIN | ||||||
| variancePartition 1.16.1 Gabriel E. Hoffman 
 | malbec1 | Linux (Ubuntu 18.04.4 LTS) / x86_64 | OK | OK | OK |  | ||||||
| tokay1 | Windows Server 2012 R2 Standard / x64 | OK | OK | OK | OK |  | ||||||
| merida1 | OS X 10.11.6 El Capitan / x86_64 | OK | OK | [ OK ] | OK |  | 
| Package: variancePartition | 
| Version: 1.16.1 | 
| Command: /Library/Frameworks/R.framework/Versions/Current/Resources/bin/R CMD check --install=check:variancePartition.install-out.txt --library=/Library/Frameworks/R.framework/Versions/Current/Resources/library --no-vignettes --timings variancePartition_1.16.1.tar.gz | 
| StartedAt: 2020-04-15 06:22:45 -0400 (Wed, 15 Apr 2020) | 
| EndedAt: 2020-04-15 06:28:49 -0400 (Wed, 15 Apr 2020) | 
| EllapsedTime: 363.9 seconds | 
| RetCode: 0 | 
| Status: OK | 
| CheckDir: variancePartition.Rcheck | 
| Warnings: 0 | 
##############################################################################
##############################################################################
###
### Running command:
###
###   /Library/Frameworks/R.framework/Versions/Current/Resources/bin/R CMD check --install=check:variancePartition.install-out.txt --library=/Library/Frameworks/R.framework/Versions/Current/Resources/library --no-vignettes --timings variancePartition_1.16.1.tar.gz
###
##############################################################################
##############################################################################
* using log directory ‘/Users/biocbuild/bbs-3.10-bioc/meat/variancePartition.Rcheck’
* using R version 3.6.3 (2020-02-29)
* using platform: x86_64-apple-darwin15.6.0 (64-bit)
* using session charset: UTF-8
* using option ‘--no-vignettes’
* checking for file ‘variancePartition/DESCRIPTION’ ... OK
* checking extension type ... Package
* this is package ‘variancePartition’ version ‘1.16.1’
* checking package namespace information ... OK
* checking package dependencies ... OK
* checking if this is a source package ... OK
* checking if there is a namespace ... OK
* checking for hidden files and directories ... OK
* checking for portable file names ... OK
* checking for sufficient/correct file permissions ... OK
* checking whether package ‘variancePartition’ can be installed ... OK
* checking installed package size ... OK
* checking package directory ... OK
* checking ‘build’ directory ... OK
* checking DESCRIPTION meta-information ... OK
* checking top-level files ... OK
* checking for left-over files ... OK
* checking index information ... OK
* checking package subdirectories ... OK
* checking R files for non-ASCII characters ... OK
* checking R files for syntax errors ... OK
* checking whether the package can be loaded ... OK
* checking whether the package can be loaded with stated dependencies ... OK
* checking whether the package can be unloaded cleanly ... OK
* checking whether the namespace can be loaded with stated dependencies ... OK
* checking whether the namespace can be unloaded cleanly ... OK
* checking dependencies in R code ... OK
* checking S3 generic/method consistency ... OK
* checking replacement functions ... OK
* checking foreign function calls ... OK
* checking R code for possible problems ... OK
* checking Rd files ... OK
* checking Rd metadata ... OK
* checking Rd cross-references ... OK
* checking for missing documentation entries ... OK
* checking for code/documentation mismatches ... OK
* checking Rd \usage sections ... OK
* checking Rd contents ... OK
* checking for unstated dependencies in examples ... OK
* checking contents of ‘data’ directory ... OK
* checking data for non-ASCII characters ... OK
* checking data for ASCII and uncompressed saves ... OK
* checking sizes of PDF files under ‘inst/doc’ ... OK
* checking files in ‘vignettes’ ... OK
* checking examples ... OK
Examples with CPU or elapsed time > 5s
                                 user system elapsed
fitVarPartModel-method         97.639 17.649  33.997
plotCompareP-method            54.898 14.861  19.694
extractVarPart                 50.301  7.441  28.291
sortCols-method                38.944  9.553  14.888
voomWithDreamWeights           39.728  7.748   5.315
fitExtractVarPartModel-method  26.638  9.163  21.158
getContrast-method             29.317  4.811   0.281
plotPercentBars                24.520  6.122  14.875
plotVarPart-method             23.710  4.961  14.173
dream-method                    8.047  2.632  23.142
residuals-VarParFitList-method  7.259  2.112  16.196
getVarianceComponents           6.521  2.515  15.792
varPartConfInf                  6.218  0.290  25.741
plotCorrStructure               3.153  1.365   9.065
* checking for unstated dependencies in ‘tests’ ... OK
* checking tests ...
  Running ‘runTests.R’
 OK
* checking for unstated dependencies in vignettes ... OK
* checking package vignettes in ‘inst/doc’ ... OK
* checking running R code from vignettes ... SKIPPED
* checking re-building of vignette outputs ... SKIPPED
* checking PDF version of manual ... OK
* DONE
Status: OK
variancePartition.Rcheck/00install.out
############################################################################## ############################################################################## ### ### Running command: ### ### /Library/Frameworks/R.framework/Versions/Current/Resources/bin/R CMD INSTALL variancePartition ### ############################################################################## ############################################################################## * installing to library ‘/Library/Frameworks/R.framework/Versions/3.6/Resources/library’ * installing *source* package ‘variancePartition’ ... ** using staged installation ** R ** data ** inst ** byte-compile and prepare package for lazy loading Creating a generic function for ‘eBayes’ from package ‘limma’ in package ‘variancePartition’ Creating a new generic function for ‘classifyTestsF’ in package ‘variancePartition’ Creating a generic function for ‘topTable’ from package ‘limma’ in package ‘variancePartition’ ** help *** installing help indices ** building package indices ** installing vignettes ** testing if installed package can be loaded from temporary location ** testing if installed package can be loaded from final location ** testing if installed package keeps a record of temporary installation path * DONE (variancePartition)
variancePartition.Rcheck/tests/runTests.Rout
R version 3.6.3 (2020-02-29) -- "Holding the Windsock"
Copyright (C) 2020 The R Foundation for Statistical Computing
Platform: x86_64-apple-darwin15.6.0 (64-bit)
R is free software and comes with ABSOLUTELY NO WARRANTY.
You are welcome to redistribute it under certain conditions.
Type 'license()' or 'licence()' for distribution details.
R is a collaborative project with many contributors.
Type 'contributors()' for more information and
'citation()' on how to cite R or R packages in publications.
Type 'demo()' for some demos, 'help()' for on-line help, or
'help.start()' for an HTML browser interface to help.
Type 'q()' to quit R.
> BiocGenerics:::testPackage("variancePartition")
Attaching package: 'BiocGenerics'
The following objects are masked from 'package:parallel':
    clusterApply, clusterApplyLB, clusterCall, clusterEvalQ,
    clusterExport, clusterMap, parApply, parCapply, parLapply,
    parLapplyLB, parRapply, parSapply, parSapplyLB
The following object is masked from 'package:limma':
    plotMA
The following objects are masked from 'package:stats':
    IQR, mad, sd, var, xtabs
The following objects are masked from 'package:base':
    Filter, Find, Map, Position, Reduce, anyDuplicated, append,
    as.data.frame, basename, cbind, colnames, dirname, do.call,
    duplicated, eval, evalq, get, grep, grepl, intersect, is.unsorted,
    lapply, mapply, match, mget, order, paste, pmax, pmax.int, pmin,
    pmin.int, rank, rbind, rownames, sapply, setdiff, sort, table,
    tapply, union, unique, unsplit, which, which.max, which.min
Welcome to Bioconductor
    Vignettes contain introductory material; view with
    'browseVignettes()'. To cite Bioconductor, see
    'citation("Biobase")', and for packages 'citation("pkgname")'.
Attaching package: 'variancePartition'
The following object is masked from 'package:limma':
    classifyTestsF
Dividing work into 10 chunks...
Total:2 s
Dividing work into 10 chunks...
Total:1 s
Dividing work into 10 chunks...
Total:1 s
> proc.time()
   user  system elapsed 
 15.996   4.222  11.946 
Warning messages:
1: In dream(geneExpr[1:10, ], form, info, L1) :
  Contrasts with only a single non-zero term are already evaluated by default.
2: In eBayes(fit1) :
  Empircal Bayes moderated test is no longer supported for dream analysis
Returning original results for use downstream
3: In dream(geneExpr[1:10, ], form, info, L2) :
  Contrasts with only a single non-zero term are already evaluated by default.
4: In eBayes(fit2) :
  Empircal Bayes moderated test is no longer supported for dream analysis
Returning original results for use downstream
5: In dream(geneExpr[1:10, ], form, info, L) :
  Contrasts with only a single non-zero term are already evaluated by default.
6: In eBayes(fit) :
  Empircal Bayes moderated test is no longer supported for dream analysis
Returning original results for use downstream
variancePartition.Rcheck/variancePartition-Ex.timings
| name | user | system | elapsed | |
| ESS-method | 0.316 | 0.014 | 0.331 | |
| as.data.frame-varPartResults-method | 1.645 | 0.552 | 1.324 | |
| as.matrix-varPartResults-method | 1.318 | 0.595 | 1.058 | |
| calcVarPart-method | 0.108 | 0.015 | 0.124 | |
| canCorPairs | 0.096 | 0.015 | 0.157 | |
| colinearityScore | 2.000 | 0.914 | 1.232 | |
| dream-method | 8.047 | 2.632 | 23.142 | |
| extractVarPart | 50.301 | 7.441 | 28.291 | |
| fitExtractVarPartModel-method | 26.638 | 9.163 | 21.158 | |
| fitVarPartModel-method | 97.639 | 17.649 | 33.997 | |
| getContrast-method | 29.317 | 4.811 | 0.281 | |
| getVarianceComponents | 6.521 | 2.515 | 15.792 | |
| ggColorHue | 0.001 | 0.000 | 0.001 | |
| plotCompareP-method | 54.898 | 14.861 | 19.694 | |
| plotContrasts | 0.519 | 0.048 | 0.571 | |
| plotCorrMatrix | 0.085 | 0.040 | 0.128 | |
| plotCorrStructure | 3.153 | 1.365 | 9.065 | |
| plotPercentBars | 24.520 | 6.122 | 14.875 | |
| plotStratify | 1.061 | 0.069 | 1.140 | |
| plotStratifyBy | 1.168 | 0.069 | 1.250 | |
| plotVarPart-method | 23.710 | 4.961 | 14.173 | |
| residuals-VarParFitList-method | 7.259 | 2.112 | 16.196 | |
| sortCols-method | 38.944 | 9.553 | 14.888 | |
| varPartConfInf | 6.218 | 0.290 | 25.741 | |
| voomWithDreamWeights | 39.728 | 7.748 | 5.315 | |