| Back to Multiple platform build/check report for BioC 3.10 | 
 | 
This page was generated on 2020-04-15 12:10:21 -0400 (Wed, 15 Apr 2020).
| Package 1783/1823 | Hostname | OS / Arch | INSTALL | BUILD | CHECK | BUILD BIN | ||||||
| variancePartition 1.16.1 Gabriel E. Hoffman 
 | malbec1 | Linux (Ubuntu 18.04.4 LTS) / x86_64 | OK | OK | [ OK ] |  | ||||||
| tokay1 | Windows Server 2012 R2 Standard / x64 | OK | OK | OK | OK |  | ||||||
| merida1 | OS X 10.11.6 El Capitan / x86_64 | OK | OK | OK | OK |  | 
| Package: variancePartition | 
| Version: 1.16.1 | 
| Command: /home/biocbuild/bbs-3.10-bioc/R/bin/R CMD check --install=check:variancePartition.install-out.txt --library=/home/biocbuild/bbs-3.10-bioc/R/library --no-vignettes --timings variancePartition_1.16.1.tar.gz | 
| StartedAt: 2020-04-15 03:11:25 -0400 (Wed, 15 Apr 2020) | 
| EndedAt: 2020-04-15 03:16:48 -0400 (Wed, 15 Apr 2020) | 
| EllapsedTime: 322.9 seconds | 
| RetCode: 0 | 
| Status: OK | 
| CheckDir: variancePartition.Rcheck | 
| Warnings: 0 | 
##############################################################################
##############################################################################
###
### Running command:
###
###   /home/biocbuild/bbs-3.10-bioc/R/bin/R CMD check --install=check:variancePartition.install-out.txt --library=/home/biocbuild/bbs-3.10-bioc/R/library --no-vignettes --timings variancePartition_1.16.1.tar.gz
###
##############################################################################
##############################################################################
* using log directory ‘/home/biocbuild/bbs-3.10-bioc/meat/variancePartition.Rcheck’
* using R version 3.6.3 (2020-02-29)
* using platform: x86_64-pc-linux-gnu (64-bit)
* using session charset: UTF-8
* using option ‘--no-vignettes’
* checking for file ‘variancePartition/DESCRIPTION’ ... OK
* checking extension type ... Package
* this is package ‘variancePartition’ version ‘1.16.1’
* checking package namespace information ... OK
* checking package dependencies ... OK
* checking if this is a source package ... OK
* checking if there is a namespace ... OK
* checking for hidden files and directories ... OK
* checking for portable file names ... OK
* checking for sufficient/correct file permissions ... OK
* checking whether package ‘variancePartition’ can be installed ... OK
* checking installed package size ... OK
* checking package directory ... OK
* checking ‘build’ directory ... OK
* checking DESCRIPTION meta-information ... OK
* checking top-level files ... OK
* checking for left-over files ... OK
* checking index information ... OK
* checking package subdirectories ... OK
* checking R files for non-ASCII characters ... OK
* checking R files for syntax errors ... OK
* checking whether the package can be loaded ... OK
* checking whether the package can be loaded with stated dependencies ... OK
* checking whether the package can be unloaded cleanly ... OK
* checking whether the namespace can be loaded with stated dependencies ... OK
* checking whether the namespace can be unloaded cleanly ... OK
* checking dependencies in R code ... OK
* checking S3 generic/method consistency ... OK
* checking replacement functions ... OK
* checking foreign function calls ... OK
* checking R code for possible problems ... OK
* checking Rd files ... OK
* checking Rd metadata ... OK
* checking Rd cross-references ... OK
* checking for missing documentation entries ... OK
* checking for code/documentation mismatches ... OK
* checking Rd \usage sections ... OK
* checking Rd contents ... OK
* checking for unstated dependencies in examples ... OK
* checking contents of ‘data’ directory ... OK
* checking data for non-ASCII characters ... OK
* checking data for ASCII and uncompressed saves ... OK
* checking files in ‘vignettes’ ... OK
* checking examples ... OK
Examples with CPU or elapsed time > 5s
                                 user system elapsed
fitVarPartModel-method         85.976  8.224  32.915
plotCompareP-method            42.444  7.300  18.847
extractVarPart                 45.360  3.260  27.722
voomWithDreamWeights           33.564  3.880   4.575
sortCols-method                31.904  4.912  12.600
getContrast-method             23.604  2.004   0.153
fitExtractVarPartModel-method  20.680  3.324  17.211
plotPercentBars                19.760  3.152  12.685
plotVarPart-method             19.452  2.752  12.461
dream-method                    6.948  1.284  12.037
residuals-VarParFitList-method  6.080  1.516  14.599
getVarianceComponents           5.472  1.452  14.096
varPartConfInf                  5.188  0.656  22.529
plotCorrStructure               2.448  1.168   8.278
* checking for unstated dependencies in ‘tests’ ... OK
* checking tests ...
  Running ‘runTests.R’
 OK
* checking for unstated dependencies in vignettes ... OK
* checking package vignettes in ‘inst/doc’ ... OK
* checking running R code from vignettes ... SKIPPED
* checking re-building of vignette outputs ... SKIPPED
* checking PDF version of manual ... OK
* DONE
Status: OK
variancePartition.Rcheck/00install.out
############################################################################## ############################################################################## ### ### Running command: ### ### /home/biocbuild/bbs-3.10-bioc/R/bin/R CMD INSTALL variancePartition ### ############################################################################## ############################################################################## * installing to library ‘/home/biocbuild/bbs-3.10-bioc/R/library’ * installing *source* package ‘variancePartition’ ... ** using staged installation ** R ** data ** inst ** byte-compile and prepare package for lazy loading Creating a generic function for ‘eBayes’ from package ‘limma’ in package ‘variancePartition’ Creating a new generic function for ‘classifyTestsF’ in package ‘variancePartition’ Creating a generic function for ‘topTable’ from package ‘limma’ in package ‘variancePartition’ ** help *** installing help indices ** building package indices ** installing vignettes ** testing if installed package can be loaded from temporary location ** testing if installed package can be loaded from final location ** testing if installed package keeps a record of temporary installation path * DONE (variancePartition)
variancePartition.Rcheck/tests/runTests.Rout
R version 3.6.3 (2020-02-29) -- "Holding the Windsock"
Copyright (C) 2020 The R Foundation for Statistical Computing
Platform: x86_64-pc-linux-gnu (64-bit)
R is free software and comes with ABSOLUTELY NO WARRANTY.
You are welcome to redistribute it under certain conditions.
Type 'license()' or 'licence()' for distribution details.
R is a collaborative project with many contributors.
Type 'contributors()' for more information and
'citation()' on how to cite R or R packages in publications.
Type 'demo()' for some demos, 'help()' for on-line help, or
'help.start()' for an HTML browser interface to help.
Type 'q()' to quit R.
> BiocGenerics:::testPackage("variancePartition")
Attaching package: 'BiocGenerics'
The following objects are masked from 'package:parallel':
    clusterApply, clusterApplyLB, clusterCall, clusterEvalQ,
    clusterExport, clusterMap, parApply, parCapply, parLapply,
    parLapplyLB, parRapply, parSapply, parSapplyLB
The following object is masked from 'package:limma':
    plotMA
The following objects are masked from 'package:stats':
    IQR, mad, sd, var, xtabs
The following objects are masked from 'package:base':
    Filter, Find, Map, Position, Reduce, anyDuplicated, append,
    as.data.frame, basename, cbind, colnames, dirname, do.call,
    duplicated, eval, evalq, get, grep, grepl, intersect, is.unsorted,
    lapply, mapply, match, mget, order, paste, pmax, pmax.int, pmin,
    pmin.int, rank, rbind, rownames, sapply, setdiff, sort, table,
    tapply, union, unique, unsplit, which, which.max, which.min
Welcome to Bioconductor
    Vignettes contain introductory material; view with
    'browseVignettes()'. To cite Bioconductor, see
    'citation("Biobase")', and for packages 'citation("pkgname")'.
Attaching package: 'variancePartition'
The following object is masked from 'package:limma':
    classifyTestsF
Dividing work into 10 chunks...
Total:2 s
Dividing work into 10 chunks...
Total:1 s
Dividing work into 10 chunks...
Total:1 s
> proc.time()
   user  system elapsed 
 12.488   1.904  10.175 
Warning messages:
1: In dream(geneExpr[1:10, ], form, info, L1) :
  Contrasts with only a single non-zero term are already evaluated by default.
2: In eBayes(fit1) :
  Empircal Bayes moderated test is no longer supported for dream analysis
Returning original results for use downstream
3: In dream(geneExpr[1:10, ], form, info, L2) :
  Contrasts with only a single non-zero term are already evaluated by default.
4: In eBayes(fit2) :
  Empircal Bayes moderated test is no longer supported for dream analysis
Returning original results for use downstream
5: In dream(geneExpr[1:10, ], form, info, L) :
  Contrasts with only a single non-zero term are already evaluated by default.
6: In eBayes(fit) :
  Empircal Bayes moderated test is no longer supported for dream analysis
Returning original results for use downstream
variancePartition.Rcheck/variancePartition-Ex.timings
| name | user | system | elapsed | |
| ESS-method | 0.396 | 0.020 | 0.422 | |
| as.data.frame-varPartResults-method | 1.528 | 0.396 | 1.561 | |
| as.matrix-varPartResults-method | 1.088 | 0.316 | 1.050 | |
| calcVarPart-method | 0.116 | 0.004 | 0.120 | |
| canCorPairs | 0.116 | 0.000 | 0.115 | |
| colinearityScore | 1.560 | 0.452 | 1.148 | |
| dream-method | 6.948 | 1.284 | 12.037 | |
| extractVarPart | 45.360 | 3.260 | 27.722 | |
| fitExtractVarPartModel-method | 20.680 | 3.324 | 17.211 | |
| fitVarPartModel-method | 85.976 | 8.224 | 32.915 | |
| getContrast-method | 23.604 | 2.004 | 0.153 | |
| getVarianceComponents | 5.472 | 1.452 | 14.096 | |
| ggColorHue | 0.000 | 0.000 | 0.001 | |
| plotCompareP-method | 42.444 | 7.300 | 18.847 | |
| plotContrasts | 0.392 | 0.020 | 0.413 | |
| plotCorrMatrix | 0.072 | 0.004 | 0.075 | |
| plotCorrStructure | 2.448 | 1.168 | 8.278 | |
| plotPercentBars | 19.760 | 3.152 | 12.685 | |
| plotStratify | 1.212 | 0.040 | 1.256 | |
| plotStratifyBy | 1.032 | 0.012 | 1.051 | |
| plotVarPart-method | 19.452 | 2.752 | 12.461 | |
| residuals-VarParFitList-method | 6.080 | 1.516 | 14.599 | |
| sortCols-method | 31.904 | 4.912 | 12.600 | |
| varPartConfInf | 5.188 | 0.656 | 22.529 | |
| voomWithDreamWeights | 33.564 | 3.880 | 4.575 | |