| Back to Multiple platform build/check report for BioC 3.10 | 
 | 
This page was generated on 2020-04-15 12:10:20 -0400 (Wed, 15 Apr 2020).
| Package 1783/1823 | Hostname | OS / Arch | INSTALL | BUILD | CHECK | BUILD BIN | ||||||
| variancePartition 1.16.1 Gabriel E. Hoffman 
 | malbec1 | Linux (Ubuntu 18.04.4 LTS) / x86_64 | OK | [ OK ] | OK |  | ||||||
| tokay1 | Windows Server 2012 R2 Standard / x64 | OK | OK | OK | OK |  | ||||||
| merida1 | OS X 10.11.6 El Capitan / x86_64 | OK | OK | OK | OK |  | 
| Package: variancePartition | 
| Version: 1.16.1 | 
| Command: /home/biocbuild/bbs-3.10-bioc/R/bin/R CMD build --keep-empty-dirs --no-resave-data variancePartition | 
| StartedAt: 2020-04-14 21:30:30 -0400 (Tue, 14 Apr 2020) | 
| EndedAt: 2020-04-14 21:39:22 -0400 (Tue, 14 Apr 2020) | 
| EllapsedTime: 532.9 seconds | 
| RetCode: 0 | 
| Status: OK | 
| PackageFile: variancePartition_1.16.1.tar.gz | 
| PackageFileSize: 2.733 MiB | 
############################################################################## ############################################################################## ### ### Running command: ### ### /home/biocbuild/bbs-3.10-bioc/R/bin/R CMD build --keep-empty-dirs --no-resave-data variancePartition ### ############################################################################## ############################################################################## * checking for file ‘variancePartition/DESCRIPTION’ ... OK * preparing ‘variancePartition’: * checking DESCRIPTION meta-information ... OK * installing the package to build vignettes * creating vignettes ... OK * checking for LF line-endings in source and make files and shell scripts * checking for empty or unneeded directories * looking to see if a ‘data/datalist’ file should be added * building ‘variancePartition_1.16.1.tar.gz’