| GGdata 1.0.7 VJ Carey
 
 | Snapshot Date: 2011-02-27 12:29:13 -0800 (Sun, 27 Feb 2011) |  | URL: https://hedgehog.fhcrc.org/bioc-data/trunk/experiment/pkgs/GGdata |  | Last Changed Rev: 1398 / Revision: 1436 |  | Last Changed Date: 2010-12-07 10:07:48 -0800 (Tue, 07 Dec 2010) | 
 | lamb2 | Linux (openSUSE 11.2) / x86_64 | OK | WARNINGS |  | 
| gewurz | Windows Server 2008 R2 Enterprise (64-bit) / x64 | OK | ERROR | ERROR | 
| pelham | Mac OS X Leopard (10.5.8) / i386 | OK | WARNINGS | [ OK ] | 
>>>>>>> 
>>>>>>> INSTALLATION WITH 'R CMD INSTALL --preclean --library=GGdata.buildbin-libdir GGdata_1.0.7.tar.gz'
>>>>>>> 
* installing *source* package ‘GGdata’ ...
** R
** data
** inst
** preparing package for lazy loading
Welcome to Bioconductor
  Vignettes contain introductory material. To view, type
  'openVignette()'. To cite Bioconductor, see
  'citation("Biobase")' and for packages 'citation(pkgname)'.
Loading required package: tools
Loading required package: bit
Loading package bit1.1-6
package:bit (c) 2008/2009 Jens Oehlschlaegel (GPL-2)
creators: bit bitwhich
coercion: as.logical as.integer as.bit as.bitwhich which
operator: ! & | xor != == 
querying: print length any all min max range sum summary
bit access: length<- [ [<- [[ [[<-
for more help type ?bit
Attaching package: 'bit'
The following object(s) are masked from 'package:base':
    xor
Loading package ff2.2-1
- getOption("fftempdir")=="/tmp/RtmpvOiFBt"
- getOption("ffextension")=="ff"
- getOption("ffdrop")==TRUE
- getOption("fffinonexit")==TRUE
- getOption("ffpagesize")==65536
- getOption("ffcaching")=="mmnoflush"  -- consider "ffeachflush" if your system stalls on large writes
- getOption("ffbatchbytes")==16777216 -- consider a different value for tuning your system
- getOption("ffmaxbytes")==536870912 -- consider a different value for tuning your system
Attaching package ff
Attaching package: 'ff'
The following object(s) are masked from 'package:utils':
    write.csv, write.csv2
The following object(s) are masked from 'package:base':
    is.factor, is.ordered
Loading required package: snpMatrix
Loading required package: survival
Loading required package: splines
Loading required package: RSQLite
Loading required package: DBI
Loading required package: AnnotationDbi
Loading required package: org.Hs.eg.db
** help
*** installing help indices
** building package indices ...
** testing if installed package can be loaded
* DONE (GGdata)