GGdata 1.0.11 VJ Carey
 | Snapshot Date: 2011-04-06 12:27:26 -0700 (Wed, 06 Apr 2011) |  | URL: https://hedgehog.fhcrc.org/bioc-data/trunk/experiment/pkgs/GGdata |  | Last Changed Rev: 1491 / Revision: 1510 |  | Last Changed Date: 2011-04-03 05:54:05 -0700 (Sun, 03 Apr 2011) |  
  | lamb2  | Linux (openSUSE 11.2) / x86_64  |  OK  |  ERROR  |  | 
| gewurz  | Windows Server 2008 R2 Enterprise (64-bit) / x64  | [ OK ] |  ERROR  |  ERROR  | 
| petty  | Mac OS X Snow Leopard (10.6.6) / i386  |  OK  |  ERROR  |  ERROR  | 
Warning: unknown option '--keep-empty-dirs'
* checking for file 'GGdata/DESCRIPTION' ... OK
* preparing 'GGdata':
* checking DESCRIPTION meta-information ... OK
* checking for LF line-endings in source and make files
* checking for empty or unneeded directories
WARNING: directory 'GGdata/inst/extdata' is empty
* building 'GGdata_1.0.11.tar.gz'