| Back to the "Multiple platform build/check report" | 
| Package 39/92 | Hostname | OS / Arch | BUILD | CHECK | BUILD BIN | ||||
| GGdata 1.0.11 VJ Carey 
  | lamb2 | Linux (openSUSE 11.2) / x86_64 | OK | ERROR | |||||
| gewurz | Windows Server 2008 R2 Enterprise (64-bit) / x64 | OK | ERROR | [ ERROR ] | |||||
| petty | Mac OS X Snow Leopard (10.6.6) / i386 | OK | ERROR | ERROR | 
| Package: GGdata | 
| Version: 1.0.11 | 
| Command: D:\biocbld\bbs-2.7-bioc\R\bin\R.exe CMD INSTALL --build --library=GGdata.buildbin-libdir GGdata_1.0.11.tar.gz | 
| StartedAt: 2011-04-06 17:06:41 -0700 (Wed, 06 Apr 2011) | 
| EndedAt: 2011-04-06 17:07:08 -0700 (Wed, 06 Apr 2011) | 
| EllapsedTime: 27.5 seconds | 
| RetCode: 1 | 
| Status: ERROR | 
| PackageFile: None | 
| PackageFileSize: NA | 
ERROR: dependency 'snpStats' is not available for package 'GGdata' * removing 'D:/biocbld/bbs-2.7-data-experiment/meat/GGdata.buildbin-libdir/GGdata'