| wilson2 |
Linux (openSUSE 11.1) / x86_64 | | | |
| [liverpool] |
Windows Server 2003 R2 (32-bit) / x64 | | | |
| pitt |
Mac OS X Tiger (10.4.11) / i386 | | | |
| pelham |
Mac OS X Leopard (10.5.8) / i386 | | | |
|
| A [A] B C D E F G H I J K L M N O P Q R S T U V W X Y Z |
| ABarray 1.14.0 | Yongming Andrew Sun | OK | OK | OK |
| aCGH 1.22.0 | Peter Dimitrov | OK | OK | OK |
| ACME 2.2.0 | Sean Davis | OK | OK | OK |
| adSplit 1.16.0 | Claudio Lottaz | OK | OK | OK |
| affxparser 1.18.0 | Kasper Daniel Hansen | OK | OK | OK |
| affy 1.24.2 | Rafael A. Irizarry | OK | OK | OK |
| affycomp 1.22.1 | Rafael A. Irizarry | OK | OK | OK |
| AffyCompatible 1.6.1 | Martin Morgan | TIMEOUT | skipped | skipped |
| affyContam 1.4.0 | V. Carey | OK | OK | OK |
| affycoretools 1.18.0 | James W. MacDonald | OK | WARNINGS | OK |
| AffyExpress 1.12.0 | Xuejun Arthur Li | OK | OK | OK |
| affyio 1.14.0 | Benjamin Milo Bolstad | OK | OK | OK |
| affylmGUI 1.20.0 | Keith Satterley | OK | OK | OK |
| affyPara 1.6.0 | Markus Schmidberger | OK | OK | OK |
| affypdnn 1.20.0 | Laurent Gautier | OK | OK | OK |
| affyPLM 1.22.0 | Ben Bolstad | OK | WARNINGS | OK |
| affyQCReport 1.24.0 | Craig Parman | OK | OK | OK |
| AffyTiling 1.4.0 | Charles G. Danko | OK | OK | OK |
| Agi4x44PreProcess 1.6.0 | Pedro Lopez-Romero | OK | OK | OK |
| AgiMicroRna 1.0.0 | Pedro Lopez-Romero | OK | OK | OK |
| altcdfenvs 2.8.0 | Laurent Gautier | OK | OK | OK |
| annaffy 1.18.0 | Colin A. Smith | OK | OK | OK |
| annotate 1.24.1 | Biocore Team c/o BioC user list | OK | OK | OK |
| AnnotationDbi 1.8.2 | Biocore Team c/o BioC user list | OK | OK | OK |
| annotationTools 1.18.0 | Alexandre Kuhn | OK | OK | OK |
| apComplex 2.12.0 | Denise Scholtens | OK | OK | OK |
| aroma.light 1.14.0 | Henrik Bengtsson | OK | OK | OK |
| ArrayExpress 1.6.2 | Audrey Kauffmann | OK | OK | OK |
| arrayMvout 1.4.0 | V. Carey | OK | OK | OK |
| arrayQuality 1.24.0 | Agnes Paquet | OK | WARNINGS | OK |
| arrayQualityMetrics 2.4.3 | Audrey Kauffmann | OK | OK | OK |
| ArrayTools 1.6.0 | Arthur Li | OK | OK | OK |
|
| B A [B] C D E F G H I J K L M N O P Q R S T U V W X Y Z |
| BAC 1.6.0 | Raphael Gottardo | OK | OK | OK |
| baySeq 1.0.0 | Thomas J. Hardcastle | OK | WARNINGS | OK |
| BCRANK 1.8.0 | Adam Ameur | OK | OK | OK |
| beadarray 1.14.0 | Mark Dunning | OK | OK | OK |
| beadarraySNP 1.12.0 | Jan Oosting | OK | OK | OK |
| betr 1.2.1 | Martin Aryee | OK | OK | OK |
| bgafun 1.8.0 | Iain Wallace | OK | OK | OK |
| BGmix 1.6.0 | Alex Lewin | OK | OK | OK |
| bgx 1.10.0 | Ernest Turro | OK | OK | OK |
| BicARE 1.4.0 | Pierre Gestraud | OK | OK | OK |
| Biobase 2.6.1 | Biocore Team c/o BioC user list | OK | OK | OK |
| BiocCaseStudies 1.8.0 | Biocore Team c/o BioC user list | OK | OK | OK |
| biocDatasets 1.2.0 | L. Gautier | OK | OK | OK |
| biocGraph 1.8.0 | Florian Hahne | ERROR | skipped | skipped |
| biocViews 1.14.1 | Biocore Team c/o BioC user list | OK | OK | OK |
| bioDist 1.18.0 | Biocore Team c/o BioC user list | OK | OK | OK |
| biomaRt 2.2.0 | Steffen Durinck | OK | OK | OK |
| BioMVCClass 1.14.0 | Elizabeth Whalen | OK | OK | OK |
| BioSeqClass 1.0.0 | Li Hong | OK | OK | OK |
| Biostrings 2.14.12 | H. Pages | OK | WARNINGS | OK |
| bridge 1.10.0 | Raphael Gottardo | OK | OK | OK |
| BSgenome 1.14.2 | H. Pages | OK | OK | OK |
| BufferedMatrix 1.10.0 | Benjamin Milo Bolstad | OK | OK | OK |
| BufferedMatrixMethods 1.10.1 | B. M. Bolstad | OK | OK | OK |
| BUS 1.2.0 | Yin Jin | OK | OK | OK |
|
| C A B [C] D E F G H I J K L M N O P Q R S T U V W X Y Z |
| CALIB 1.12.0 | Hui Zhao | OK | OK | OK |
| CAMERA 1.2.0 | Carsten Kuhl | OK | OK | OK |
| Category 2.12.0 | Robert Gentleman | OK | OK | OK |
| cellHTS 1.16.0 | Ligia Bras | OK | OK | OK |
| cellHTS2 2.10.5 | Florian Hahne | OK | OK | OK |
| CGHbase 1.4.0 | Sjoerd Vosse | OK | OK | OK |
| CGHcall 2.6.0 | Mark van de Wiel | OK | OK | OK |
| cghMCR 1.4.0 | J. Zhang | OK | OK | OK |
| CGHnormaliter 1.0.1 | Bart P.P. van Houte | OK | OK | OK |
| CGHregions 1.4.0 | Mark van de Wiel | OK | OK | OK |
| ChemmineR 1.6.0 | Y. Eddie Cao | OK | ERROR | OK |
| ChIPpeakAnno 1.2.15 | Lihua Julie Zhu | OK | OK | OK |
| chipseq 0.2.1 | Biocore Team c/o BioC user list | OK | OK | OK |
| ChIPseqR 1.0.0 | Peter Humburg | OK | WARNINGS | OK |
| ChIPsim 1.0.0 | Peter Humburg | OK | OK | OK |
| ChromHeatMap 1.0.0 | Tim F. Rayner | OK | OK | OK |
| clippda 1.0.0 | Stephen Nyangoma | OK | OK | OK |
| clusterStab 1.18.0 | James W. MacDonald | OK | OK | OK |
| CMA 1.4.1 | Christoph Bernau | OK | OK | OK |
| CNTools 1.2.0 | J. Zhang | OK | OK | OK |
| CNVtools 1.40.2 | Chris Barnes | OK | OK | OK |
| CoCiteStats 1.18.0 | R. Gentleman | OK | OK | OK |
| codelink 1.14.1 | Diego Diez | OK | OK | OK |
| convert 1.22.0 | Yee Hwa (Jean) Yang | OK | OK | OK |
| copa 1.14.0 | James W. MacDonald | OK | OK | OK |
| CORREP 1.12.0 | Dongxiao Zhu | OK | OK | OK |
| cosmo 1.12.0 | Oliver Bembom | OK | OK | OK |
| cosmoGUI 1.12.0 | Oliver Bembom | OK | OK | OK |
| crlmm 1.4.5 | Benilton S Carvalho , Robert Scharpf , Matt Ritchie | OK | OK | OK |
| ctc 1.20.0 | Antoine Lucas | OK | OK | OK |
| cycle 1.0.0 | Matthias Futschik | OK | OK | OK |
|
| D A B C [D] E F G H I J K L M N O P Q R S T U V W X Y Z |
| daMA 1.18.0 | Jobst Landgrebe | OK | OK | OK |
| DAVIDQuery 1.4.0 | Roger Day | OK | ERROR | OK |
| ddCt 1.0.0 | Jitao David Zhang | OK | OK | OK |
| DEDS 1.20.0 | Yuanyuan Xiao | OK | OK | OK |
| DEGseq 1.0.5 | Likun Wang | OK | OK | OK |
| DFP 1.4.0 | Rodrigo Alvarez-Glez | OK | OK | OK |
| diffGeneAnalysis 1.28.0 | Choudary Jagarlamudi | OK | OK | OK |
| DNAcopy 1.20.0 | Venkatraman E. Seshan | OK | OK | OK |
| domainsignatures 1.6.1 | Florian Hahne | OK | OK | OK |
| dualKS 1.6.0 | Eric J. Kort | OK | OK | OK |
| dyebias 1.4.3 | Philip Lijnzaad | OK | OK | OK |
| DynDoc 1.24.0 | Biocore Team c/o BioC user list | OK | OK | OK |
|
| E A B C D [E] F G H I J K L M N O P Q R S T U V W X Y Z |
| EBarrays 2.10.0 | Ming Yuan | OK | OK | OK |
| EBImage 3.2.0 | Gregoire Pau | OK | OK | OK |
| ecolitk 1.18.0 | Laurent | OK | OK | OK |
| edd 1.24.0 | Vince Carey | OK | OK | OK |
| edgeR 1.4.7 | Mark Robinson , Davis McCarthy , Gordon Smyth | OK | OK | OK |
| exonmap 2.4.0 | Crispin Miller | OK | OK | OK |
| explorase 1.10.0 | Michael Lawrence | OK | OK | OK |
| externalVector 1.12.0 | Biocore Team c/o BioC user list | OK | OK | OK |
|
| F A B C D E [F] G H I J K L M N O P Q R S T U V W X Y Z |
| factDesign 1.22.0 | Denise Scholtens | OK | OK | OK |
| fbat 1.10.0 | The R Genetics Project | OK | OK | OK |
| fdrame 1.18.0 | Effi Kenigsberg | OK | OK | OK |
| flagme 1.2.0 | Mark Robinson | OK | WARNINGS | OK |
| flowClust 2.4.0 | Raphael Gottardo | OK | OK | OK |
| flowCore 1.12.0 | F. Hahne | OK | OK | OK |
| flowFlowJo 1.4.0 | John J. Gosink | OK | OK | OK |
| flowFP 1.2.0 | Herb Holyst | OK | OK | OK |
| flowMerge 1.0.0 | Greg Finak | OK | OK | OK |
| flowQ 1.6.0 | F. Hahne | OK | OK | OK |
| flowStats 1.4.0 | Florian Hahne and Chao-Jen Wong | OK | OK | OK |
| flowUtils 1.6.0 | Nishant Gopalakrishnan | OK | WARNINGS | OK |
| flowViz 1.10.0 | Florian Hahne | OK | OK | OK |
|
| G A B C D E F [G] H I J K L M N O P Q R S T U V W X Y Z |
| gaga 1.6.0 | David Rossell | OK | OK | OK |
| gaggle 1.14.0 | Dan Tenenbaum | OK | OK | OK |
| gcrma 2.18.1 | Z. Wu | OK | OK | OK |
| genArise 1.22.0 | IFC Development Team | OK | OK | OK |
| gene2pathway 1.4.0 | Holger Froehlich | OK | OK | OK |
| GeneAnswers 1.2.0 | Gang Feng and Pan Du | ERROR | skipped | skipped |
| genefilter 1.28.2 | Biocore Team c/o BioC user list | OK | OK | OK |
| GeneMeta 1.18.0 | Biocore Team c/o BioC user list | OK | OK | OK |
| geneplotter 1.24.0 | Biocore Team c/o BioC user list | OK | OK | OK |
| GeneR 2.16.0 | Y. d'Aubenton-Carafa | OK | OK | OK |
| geneRecommender 1.18.0 | Greg Hather | OK | OK | OK |
| GeneRegionScan 1.2.0 | Lasse Folkersen | OK | OK | OK |
| GeneRfold 1.4.0 | Antoine Lucas | N O T S U P P O R T E D |
| GeneSelectMMD 1.2.0 | Weiliang Qiu | OK | OK | OK |
| GeneSelector 2.2.0 | Martin Slawski | OK | OK | OK |
| GeneSpring 2.20.0 | Thon de Boer | OK | OK | OK |
| GeneticsBase 1.12.0 | The R Genetics Project | OK | WARNINGS | OK |
| GeneticsDesign 1.14.0 | The R Genetics Project | OK | OK | OK |
| GeneticsPed 1.8.0 | The R Genetics Project | OK | OK | OK |
| GeneTraffic 1.18.0 | Daniel Iordan | OK | OK | OK |
| GenomeGraphs 1.6.0 | Steffen Durinck | OK | OK | OK |
| genomeIntervals 1.2.0 | Julien Gagneur | OK | OK | OK |
| GenomicFeatures 0.2.0 | Biocore Team c/o BioC user list | OK | WARNINGS | OK |
| Genominator 1.0.3 | James Bullard | OK | OK | OK |
| GEOmetadb 1.6.0 | Jack Zhu | OK | OK | OK |
| GEOquery 2.11.3 | Sean Davis | OK | OK | OK |
| GGBase 3.6.0 | Vince Carey | OK | OK | OK |
| GGtools 3.4.0 | Vince Carey | OK | OK | OK |
| GLAD 2.6.0 | Philippe Hupe | OK | OK | OK |
| GlobalAncova 3.12.0 | R. Meister | OK | OK | OK |
| globaltest 5.0.2 | Jelle Goeman | OK | OK | OK |
| goProfiles 1.8.0 | Alex Sanchez | OK | OK | OK |
| GOSemSim 1.4.0 | Guangchuang Yu | OK | OK | OK |
| GOstats 2.12.0 | Robert Gentleman | OK | OK | OK |
| goTools 1.20.0 | Agnes Paquet | OK | OK | OK |
| gpls 1.18.0 | Biocore Team c/o BioC user list | OK | OK | OK |
| graph 1.24.4 | Seth Falcon | OK | WARNINGS | OK |
| GraphAlignment 1.8.0 | Joern P. Meier | OK | OK | OK |
| GraphAT 1.18.0 | Thomas LaFramboise | OK | OK | OK |
| GSEABase 1.8.0 | Biocore Team c/o BioC user list | OK | OK | OK |
| GSEAlm 1.6.0 | Assaf Oron | OK | OK | OK |
|
| H A B C D E F G [H] I J K L M N O P Q R S T U V W X Y Z |
| Harshlight 1.16.0 | Maurizio Pellegrino | OK | OK | OK |
| Heatplus 1.16.0 | Alexander Ploner | OK | OK | OK |
| HELP 1.4.0 | Reid F. Thompson | OK | OK | OK |
| HEM 1.18.0 | HyungJun Cho | OK | OK | OK |
| hexbin 1.20.0 | Nicholas Lewin-Koh | OK | OK | OK |
| HilbertVis 1.4.0 | Simon Anders | OK | OK | OK |
| HilbertVisGUI 1.4.0 | Simon Anders | OK | WARNINGS | OK |
| hopach 2.6.0 | Katherine S. Pollard | OK | OK | OK |
| HTqPCR 1.0.0 | Heidi Dvinge , Paul Bertone | OK | OK | OK |
| hypergraph 1.18.0 | Robert Gentleman | OK | OK | OK |
|
| I A B C D E F G H [I] J K L M N O P Q R S T U V W X Y Z |
| Icens 1.18.0 | Biocore Team c/o BioC user list | OK | OK | OK |
| idiogram 1.22.0 | Karl J. Dykema | OK | OK | OK |
| impute 1.20.0 | Balasubramanian Narasimhan | OK | OK | OK |
| IRanges 1.4.16 | Biocore Team c/o BioC user list | OK | OK | OK |
| ITALICS 2.6.0 | Guillem Rigaill | OK | OK | OK |
| iterativeBMA 1.4.0 | Ka Yee Yeung | OK | OK | OK |
| iterativeBMAsurv 1.4.0 | Ka Yee Yeung | OK | OK | OK |
|
| K A B C D E F G H I J [K] L M N O P Q R S T U V W X Y Z |
| KCsmart 2.4.0 | Jorma de Ronde | OK | OK | OK |
| KEGGgraph 1.2.2 | Jitao David Zhang | OK | OK | OK |
| keggorth 1.8.0 | VJ Carey | OK | OK | OK |
| KEGGSOAP 1.20.0 | Robert Gentleman | OK | OK | OK |
|
| L A B C D E F G H I J K [L] M N O P Q R S T U V W X Y Z |
| lapmix 1.12.0 | Yann Ruffieux | OK | OK | OK |
| LBE 1.14.0 | Cyril Dalmasso | OK | OK | OK |
| limma 3.2.3 | Gordon Smyth | OK | OK | OK |
| limmaGUI 1.22.0 | Keith Satterley | OK | OK | OK |
| LiquidAssociation 1.0.0 | Yen-Yi Ho | OK | OK | OK |
| LMGene 1.16.0 | John Tillinghast | OK | OK | OK |
| logicFS 1.16.0 | Holger Schwender | OK | OK | OK |
| logitT 1.4.0 | Tobias Guennel | OK | OK | OK |
| LPE 1.20.0 | Nitin Jain | OK | OK | OK |
| LPEadj 1.6.0 | Carl Murie | OK | OK | OK |
| lumi 1.12.4 | Pan Du | OK | WARNINGS | OK |
|
| M A B C D E F G H I J K L [M] N O P Q R S T U V W X Y Z |
| maanova 1.16.0 | Keith Sheppard | OK | OK | OK |
| macat 1.20.0 | Joern Toedling | OK | OK | OK |
| maCorrPlot 1.16.0 | Alexander Ploner | OK | OK | OK |
| maDB 1.18.0 | Johannes Rainer | N O T S U P P O R T E D |
| made4 1.20.0 | Aedin Culhane | OK | OK | OK |
| maigesPack 1.10.0 | Gustavo H. Esteves | OK | OK | OK |
| makecdfenv 1.24.0 | James W. MacDonald | OK | OK | OK |
| makePlatformDesign 1.10.0 | Benilton Carvalho | OK | OK | OK |
| MANOR 1.18.0 | Pierre Neuvial | OK | OK | OK |
| MantelCorr 1.16.0 | Brian Steinmeyer | OK | OK | OK |
| marray 1.24.0 | Yee Hwa (Jean) Yang | OK | OK | OK |
| maSigPro 1.18.0 | Ana Conesa | OK | OK | OK |
| MassSpecWavelet 1.12.0 | Pan Du | OK | OK | OK |
| matchprobes 1.18.0 | Biocore Team c/o BioC user list | OK | OK | OK |
| mBPCR 1.0.0 | P.M.V. Rancoita | OK | OK | OK |
| MCRestimate 2.2.0 | Marc Johannes | OK | OK | OK |
| mdqc 1.8.0 | Gabriela Cohen-Freue | OK | OK | OK |
| MeasurementError.cor 1.18.0 | Beiying Ding | OK | OK | OK |
| MEDME 1.6.0 | Mattia Pelizzola | OK | OK | OK |
| MergeMaid 2.18.0 | Xiaogang Zhong | OK | OK | OK |
| metaArray 1.22.0 | Hyungwon Choi | OK | OK | OK |
| metahdep 1.4.0 | John R. Stevens | OK | OK | OK |
| methylumi 1.0.0 | Sean Davis | OK | OK | OK |
| Mfuzz 2.4.0 | Matthias Futschik | OK | OK | OK |
| MiChip 1.0.0 | Jonathon Blake | OK | OK | OK |
| microRNA 1.4.0 | Robert Gentleman | OK | WARNINGS | OK |
| minet 1.8.0 | Patrick E. Meyer | OK | OK | OK |
| MiPP 1.18.0 | Sukwoo Kim | OK | OK | OK |
| miRNApath 1.6.0 | James M. Ward | OK | OK | OK |
| MLInterfaces 1.26.1 | V. Carey | OK | OK | OK |
| multiscan 1.6.0 | Mizanur Khondoker | OK | OK | OK |
| multtest 2.2.0 | Katherine S. Pollard | OK | OK | OK |
| MVCClass 1.20.0 | Elizabeth Whalen | OK | OK | OK |
|
| N A B C D E F G H I J K L M [N] O P Q R S T U V W X Y Z |
| nem 2.10.0 | Christian Bender | ERROR | skipped | skipped |
| nnNorm 2.10.0 | Adi Laurentiu Tarca | OK | WARNINGS | OK |
| nudge 1.12.0 | N. Dean | OK | OK | OK |
|
| O A B C D E F G H I J K L M N [O] P Q R S T U V W X Y Z |
| occugene 1.6.0 | Oliver Will | OK | OK | OK |
| OCplus 1.20.0 | Alexander Ploner | OK | OK | OK |
| oligo 1.10.4 | Benilton Carvalho | OK | OK | OK |
| oligoClasses 1.8.0 | Benilton Carvalho | OK | OK | OK |
| OLIN 1.24.0 | Matthias Futschik | OK | OK | OK |
| OLINgui 1.20.0 | Matthias Futschik | OK | OK | OK |
| oneChannelGUI 1.12.5 | Raffaele A Calogero | OK | OK | OK |
| ontoTools 1.24.0 | Vince Carey | OK | OK | OK |
| OrderedList 1.18.0 | Claudio Lottaz | OK | OK | OK |
| OutlierD 1.10.0 | Sukwoo Kim | OK | OK | OK |
|
| P A B C D E F G H I J K L M N O [P] Q R S T U V W X Y Z |
| pamr 1.44.0 | Rob Tibshirani | OK | OK | OK |
| PAnnBuilder 1.8.0 | Li Hong | OK | OK | OK |
| panp 1.16.0 | Peter Warren | OK | OK | OK |
| parody 1.4.0 | VJ Carey | OK | OK | OK |
| pathRender 1.14.0 | Li Long | OK | OK | OK |
| pcaMethods 1.24.0 | Wolfram Stacklies | OK | OK | OK |
| pcot2 1.14.0 | Sarah Song | OK | OK | OK |
| PCpheno 1.8.0 | Nolwenn Le Meur | OK | WARNINGS | OK |
| pdInfoBuilder 1.10.1 | Benilton Carvalho | OK | OK | OK |
| pdmclass 1.18.0 | James W. MacDonald | OK | OK | OK |
| PGSEA 1.14.0 | Karl Dykema | OK | OK | OK |
| pgUtils 1.18.0 | Johannes Rainer | N O T S U P P O R T E D |
| pickgene 1.18.0 | Brian S. Yandell | OK | OK | OK |
| pkgDepTools 1.12.0 | Seth Falcon | OK | OK | OK |
| plateCore 1.4.0 | Errol Strain | OK | OK | OK |
| plgem 1.18.2 | Norman Pavelka | OK | OK | OK |
| plier 1.16.0 | Crispin Miller | OK | OK | OK |
| PLPE 1.6.0 | Soo-heang Eo | OK | OK | OK |
| plw 1.6.0 | Magnus Astrand | OK | OK | OK |
| ppiStats 1.12.0 | Tony Chiang | OK | OK | OK |
| prada 1.22.0 | Florian Hahne | OK | OK | OK |
| preprocessCore 1.8.0 | Benjamin Milo Bolstad | OK | OK | OK |
| PROcess 1.22.0 | Xiaochun Li | OK | OK | OK |
| puma 1.12.0 | Richard Pearson | OK | OK | OK |
|
| Q A B C D E F G H I J K L M N O P [Q] R S T U V W X Y Z |
| qpcrNorm 1.4.0 | Jessica Mar | OK | OK | OK |
| qpgraph 1.2.0 | Robert Castelo | OK | OK | OK |
| quantsmooth 1.12.0 | Jan Oosting | OK | OK | OK |
| qvalue 1.20.0 | John D. Storey | OK | OK | OK |
|
| R A B C D E F G H I J K L M N O P Q [R] S T U V W X Y Z |
| rama 1.20.0 | Raphael Gottardo | OK | OK | OK |
| RankProd 2.18.0 | Fangxin Hong | OK | OK | OK |
| RbcBook1 1.14.0 | Vince Carey | OK | OK | OK |
| RBGL 1.22.0 | Li Long | OK | WARNINGS | OK |
| RBioinf 1.6.0 | Robert Gentleman | OK | OK | OK |
| rbsurv 2.4.0 | Soo-heang Eo | OK | OK | OK |
| Rdbi 1.20.0 | Jianhua Zhang | OK | OK | OK |
| RdbiPgSQL 1.20.0 | Jianhua Zhang | N O T S U P P O R T E D |
| Rdisop 1.6.0 | Steffen Neumann | OK | OK | OK |
| reb 1.20.0 | Karl J. Dykema | OK | WARNINGS | OK |
| RefPlus 1.16.0 | Kai-Ming Chang | OK | OK | OK |
| Resourcerer 1.20.0 | Jianhua Zhang | OK | OK | OK |
| rflowcyt 1.18.0 | N. LeMeur | OK | OK | OK |
| Rgraphviz 1.24.0 | Kasper Hansen | OK | OK | OK |
| rHVDM 1.12.0 | Martino Barenco | OK | OK | OK |
| Ringo 1.10.0 | J. Toedling | OK | OK | OK |
| RLMM 1.8.0 | Nusrat Rabbee | OK | OK | OK |
| RMAGEML 2.20.0 | Steffen Durinck | N O T S U P P O R T E D |
| Rmagpie 1.2.0 | Camille Maumet | OK | OK | OK |
| rMAT 2.2.1 | Arnaud Droit and Raphael Gottardo | OK | OK | OK |
| RmiR 1.2.0 | Francesco Favero | OK | TIMEOUT | OK |
| RNAither 1.6.1 | Nora Rieber | OK | OK | OK |
| ROC 1.22.0 | Vince Carey | OK | OK | OK |
| Rolexa 1.2.0 | Jacques Rougemont | OK | OK | OK |
| RPA 1.2.0 | Leo Lahti | OK | OK | OK |
| RpsiXML 1.6.0 | Jitao David Zhang | OK | OK | OK |
| Rredland 1.12.0 | VJ Carey | N O T S U P P O R T E D |
| rsbml 2.4.0 | Michael Lawrence | OK | WARNINGS | OK |
| RTCA 1.0.0 | Jitao David Zhang | OK | OK | OK |
| RTools4TB 1.2.0 | Aurelie Bergon | OK | OK | OK |
| rtracklayer 1.6.0 | Michael Lawrence | OK | WARNINGS | OK |
| Rtreemix 1.8.0 | Jasmina Bogojeska | OK | OK | OK |
| Ruuid 1.24.0 | Biocore Team c/o BioC user list | OK | OK | OK |
| RWebServices 1.10.1 | Martin Morgan | N O T S U P P O R T E D |
|
| S A B C D E F G H I J K L M N O P Q R [S] T U V W X Y Z |
| safe 2.6.0 | William T. Barry | OK | OK | OK |
| sagenhaft 1.16.0 | Tim Beissbarth | OK | OK | OK |
| SAGx 1.20.0 | Per Broberg, | OK | OK | OK |
| SBMLR 1.40.0 | Tomas Radivoyevitch | OK | OK | OK |
| ScISI 1.18.0 | Tony Chiang | OK | OK | OK |
| seqLogo 1.12.0 | Oliver Bembom | OK | OK | OK |
| ShortRead 1.4.0 | Biocore Team c/o BioC user list | OK | OK | OK |
| siggenes 1.20.0 | Holger Schwender | OK | OK | OK |
| sigPathway 1.14.0 | Weil Lai | OK | OK | OK |
| SIM 1.14.0 | Maarten van Iterson | OK | OK | OK |
| simpleaffy 2.22.0 | Crispin Miller | OK | OK | OK |
| simulatorAPMS 1.18.0 | Tony Chiang | OK | OK | OK |
| sizepower 1.16.0 | Weiliang Qiu | OK | OK | OK |
| SJava 0.72.0 | Martin Morgan | N O T S U P P O R T E D |
| SLGI 1.6.0 | Nolwenn Le Meur | OK | OK | OK |
| SLqPCR 1.12.0 | Matthias Kohl | OK | OK | OK |
| SMAP 1.10.1 | Robin Andersson | OK | OK | OK |
| snapCGH 1.16.0 | John Marioni | OK | OK | OK |
| SNPchip 1.10.0 | Robert Scharpf | OK | OK | OK |
| snpMatrix 1.10.3 | David Clayton | OK | OK | OK |
| SpeCond 1.0.3 | Florence Cavalli | OK | OK | OK |
| SPIA 1.4.0 | Adi Laurentiu Tarca | OK | OK | OK |
| spikeLI 2.6.0 | Enrico Carlon | OK | OK | OK |
| spkTools 1.2.0 | Matthew N McCall | OK | OK | OK |
| splicegear 1.18.0 | Laurent Gautier | OK | OK | OK |
| splots 1.12.0 | Oleg Sklyar | OK | OK | OK |
| spotSegmentation 1.20.0 | Chris Fraley | OK | OK | OK |
| sscore 1.18.0 | Richard Kennedy | OK | OK | OK |
| ssize 1.20.0 | Gregory R. Warnes | OK | OK | OK |
| SSPA 1.2.0 | Maarten van Iterson | OK | OK | OK |
| Starr 1.2.11 | Benedikt Zacher | OK | OK | OK |
| stepNorm 1.18.0 | Yuanyuan Xiao | OK | OK | OK |
|
| T A B C D E F G H I J K L M N O P Q R S [T] U V W X Y Z |
| TargetSearch 1.2.0 | Alvaro Cuadros-Inostroza | OK | OK | OK |
| tilingArray 1.24.0 | Zhenyu Xu | OK | OK | OK |
| timecourse 1.18.0 | Yu Chuan Tai | OK | OK | OK |
| tkWidgets 1.24.0 | J. Zhang | OK | OK | OK |
| topGO 1.14.0 | Adrian Alexa | OK | OK | OK |
| tspair 1.4.0 | Jeffrey T. Leek | OK | OK | OK |
| twilight 1.22.0 | Stefanie Scheid | OK | OK | OK |
| TypeInfo 1.12.0 | Duncan Temple Lang | OK | OK | OK |
|
| V A B C D E F G H I J K L M N O P Q R S T U [V] W X Y Z |
| VanillaICE 1.8.0 | Robert Scharpf | OK | OK | OK |
| vbmp 1.14.0 | Nicola Lama | OK | OK | OK |
| vsn 3.14.0 | Wolfgang Huber | OK | OK | OK |
|
| W A B C D E F G H I J K L M N O P Q R S T U V [W] X Y Z |
| weaver 1.12.0 | Seth Falcon | OK | OK | OK |
| webbioc 1.18.0 | Colin A. Smith | OK | OK | OK |
| widgetTools 1.24.0 | Jianhua Zhang | OK | OK | OK |
|
| X A B C D E F G H I J K L M N O P Q R S T U V W [X] Y Z |
| xcms 1.20.1 | Colin A. Smith | OK | OK | OK |
| XDE 1.6.0 | Robert Scharpf | OK | OK | OK |
| xmapbridge 1.4.0 | Tim Yates | OK | OK | OK |
| xps 1.6.4 | Christian Stratowa | OK | OK | OK |
|
| Y A B C D E F G H I J K L M N O P Q R S T U V W X [Y] Z |
| yaqcaffy 1.6.0 | Laurent Gatto | OK | OK | OK |