| Back to the "Multiple platform build/check report" | A B [C] D E F G H I J K L M N O P Q R S T U V W X Y Z |
| Package 77/353 | Hostname | OS / Arch | BUILD | CHECK | BUILD BIN | ||||
| CNTools 1.2.0 J. Zhang
| wilson2 | Linux (openSUSE 11.1) / x86_64 | OK | OK | |||||
| liverpool | Windows Server 2003 R2 (32-bit) / x64 | OK | OK | [ OK ] | |||||
| pitt | Mac OS X Tiger (10.4.11) / i386 | OK | OK | OK | |||||
| pelham | Mac OS X Leopard (10.5.8) / i386 | OK | OK | OK |
| Package: CNTools |
| Version: 1.2.0 |
| Command: E:\biocbld\bbs-2.5-bioc\R\bin\R.exe CMD INSTALL --build --library=CNTools.buildbin-libdir CNTools_1.2.0.tar.gz |
| StartedAt: 2010-04-03 07:05:29 -0700 (Sat, 03 Apr 2010) |
| EndedAt: 2010-04-03 07:05:33 -0700 (Sat, 03 Apr 2010) |
| EllapsedTime: 4.0 seconds |
| RetCode: 0 |
| Status: OK |
| PackageFile: CNTools_1.2.0.zip |
| PackageFileSize: 1.125 MiB |
* installing *source* package 'CNTools' ... ** R ** data ** inst ** help *** installing help indices ** building package indices ... ** MD5 sums packaged installation of 'CNTools' as CNTools_1.2.0.zip * DONE (CNTools)