annotate 1.24.1 Biocore Team c/o BioC user list
 | Snapshot Date: 2010-04-02 23:28:25 -0700 (Fri, 02 Apr 2010) |  | URL: https://hedgehog.fhcrc.org/bioconductor/branches/RELEASE_2_5/madman/Rpacks/annotate |  | Last Changed Rev: 43918 / Revision: 45705 |  | Last Changed Date: 2010-01-08 16:34:27 -0800 (Fri, 08 Jan 2010) |  
  | wilson2  | Linux (openSUSE 11.1) / x86_64  |  OK  |  OK  |  | 
| liverpool  | Windows Server 2003 R2 (32-bit) / x64  |  OK  |  OK  | [ OK ] | 
| pitt  | Mac OS X Tiger (10.4.11) / i386  |  OK  |  OK  |  OK  | 
| pelham  | Mac OS X Leopard (10.5.8) / i386  |  OK  |  OK  |  OK  | 
* installing *source* package 'annotate' ...
  Using auto-selected zip option '--use-zip-data'
** R
** data
** inst
** preparing package for lazy loading
Loading required package: Biobase
Welcome to Bioconductor
  Vignettes contain introductory material. To view, type
  'openVignette()'. To cite Bioconductor, see
  'citation("Biobase")' and for packages 'citation(pkgname)'.
** help
*** installing help indices
** building package indices ...
** MD5 sums
packaged installation of 'annotate' as annotate_1.24.1.zip
* DONE (annotate)