DynDoc 1.20.0 Biocore Team c/o BioC user list
 | Bioconductor Changelog |  | Snapshot Date: 2009-04-18 11:27:48 -0700 (Sat, 18 Apr 2009) |  | URL: https://hedgehog.fhcrc.org/bioconductor/branches/RELEASE_2_3/madman/Rpacks/DynDoc |  | Last Changed Rev: 34811 / Revision: 38965 |  | Last Changed Date: 2008-10-21 15:32:58 -0700 (Tue, 21 Oct 2008) |  
  | wilson2  | Linux (openSUSE 11.1) / x86_64  |  OK  |  OK  |  | 
| liverpool  | Windows Server 2003 R2 (32-bit) / x64  |  OK  |  OK  |  OK  | 
| pitt  | Mac OS X Tiger (10.4.11) / i386  |  OK  |  OK  | [ OK ] | 
| pelham  | Mac OS X Leopard (10.5.6) / i386  |  OK  |  WARNINGS  |  OK  | 
                INSTALLATION WITH 'R CMD INSTALL --library=DynDoc.buildbin-libdir DynDoc_1.20.0.tar.gz'
* Installing *source* package 'DynDoc' ...
** R
** preparing package for lazy loading
Creating a new generic function for "summary" in "DynDoc"
** help
 >>> Building/Updating help pages for package 'DynDoc'
     Formats: text html latex example 
  DynDoc-class                      text    html    latex
  SweaveOptions-class               text    html    latex
  Vignette-class                    text    html    latex
  chunkList-class                   text    html    latex   example
  codeChunk-class                   text    html    latex   example
  getPkgVigList                     text    html    latex   example
  getVignette                       text    html    latex
  getVignetteCode                   text    html    latex
  getVignetteHeader                 text    html    latex
  tangleToR                         text    html    latex   example
  vignetteCode-class                text    html    latex
** building package indices ...
* DONE (DynDoc)