Back to the "Multiple platform build/check report" | A B C [D] E F G H I J K L M N O P Q R S T U V W X Y Z |
Package 78/294 | Hostname | OS / Arch | BUILD | CHECK | BUILD BIN | |||||
DynDoc 1.20.0 Biocore Team c/o BioC user list
| wilson2 | Linux (openSUSE 11.1) / x86_64 | OK | OK | ||||||
liverpool | Windows Server 2003 R2 (32-bit) / x64 | OK | OK | OK | ||||||
pitt | Mac OS X Tiger (10.4.11) / i386 | OK | OK | OK | ||||||
pelham | Mac OS X Leopard (10.5.6) / i386 | OK | WARNINGS | [ OK ] |
Package: DynDoc |
Version: 1.20.0 |
Command: /Users/biocbuild/BBS/utils/build-universal.sh DynDoc_1.20.0.tar.gz /Library/Frameworks/R.framework/Versions/2.8/Resources/bin/R DynDoc.buildbin-libdir |
StartedAt: 2009-04-18 18:48:42 -0700 (Sat, 18 Apr 2009) |
EndedAt: 2009-04-18 18:48:48 -0700 (Sat, 18 Apr 2009) |
EllapsedTime: 5.5 seconds |
RetCode: 0 |
Status: OK |
PackageFile: DynDoc_1.20.0.tgz |
PackageFileSize: 84.5 KiB |
INSTALLATION WITH 'R CMD INSTALL --library=DynDoc.buildbin-libdir DynDoc_1.20.0.tar.gz' * Installing *source* package 'DynDoc' ... ** R ** preparing package for lazy loading Creating a new generic function for "summary" in "DynDoc" ** help >>> Building/Updating help pages for package 'DynDoc' Formats: text html latex example DynDoc-class text html latex SweaveOptions-class text html latex Vignette-class text html latex chunkList-class text html latex example codeChunk-class text html latex example getPkgVigList text html latex example getVignette text html latex getVignetteCode text html latex getVignetteHeader text html latex tangleToR text html latex example vignetteCode-class text html latex ** building package indices ... * DONE (DynDoc)