| DynDoc 1.20.0 Biocore Team c/o BioC user list
 
 | Bioconductor Changelog |  | Snapshot Date: 2009-04-18 11:27:48 -0700 (Sat, 18 Apr 2009) |  | URL: https://hedgehog.fhcrc.org/bioconductor/branches/RELEASE_2_3/madman/Rpacks/DynDoc |  | Last Changed Rev: 34811 / Revision: 38965 |  | Last Changed Date: 2008-10-21 15:32:58 -0700 (Tue, 21 Oct 2008) | 
 | wilson2 | Linux (openSUSE 11.1) / x86_64 | OK | OK |  | 
| liverpool | Windows Server 2003 R2 (32-bit) / x64 | OK | [ OK ] | OK | 
| pitt | Mac OS X Tiger (10.4.11) / i386 | OK | OK | OK | 
| pelham | Mac OS X Leopard (10.5.6) / i386 | OK | WARNINGS | OK | 
* checking for working pdflatex ... OK
* using log directory 'E:/biocbld/bbs-2.3-bioc/meat/DynDoc.Rcheck'
* using R version 2.8.1 (2008-12-22)
* using session charset: ISO8859-1
* checking for file 'DynDoc/DESCRIPTION' ... OK
* this is package 'DynDoc' version '1.20.0'
* checking package name space information ... OK
* checking package dependencies ... OK
* checking if this is a source package ... OK
* checking whether package 'DynDoc' can be installed ... OK
* checking package directory ... OK
* checking for portable file names ... OK
* checking DESCRIPTION meta-information ... OK
* checking top-level files ... OK
* checking index information ... OK
* checking package subdirectories ... OK
* checking R files for non-ASCII characters ... OK
* checking R files for syntax errors ... OK
* checking whether the package can be loaded ... OK
* checking whether the package can be loaded with stated dependencies ... OK
* checking whether the name space can be loaded with stated dependencies ... OK
* checking for unstated dependencies in R code ... OK
* checking S3 generic/method consistency ... OK
* checking replacement functions ... OK
* checking foreign function calls ... OK
* checking R code for possible problems ... NOTE
editVignetteCode : copyEnv: no visible global function definition for
  'l2e'
getVignette: no visible global function definition for
  'buildVersionNumber'
* checking Rd files ... OK
* checking Rd cross-references ... OK
* checking for missing documentation entries ... OK
* checking for code/documentation mismatches ... OK
* checking Rd \usage sections ... OK
* creating DynDoc-Ex.R ... OK
* checking examples ... OK
* creating DynDoc-manual.tex ... OK
* checking DynDoc-manual.tex using pdflatex ... OK
 
installing R.css in E:/biocbld/bbs-2.3-bioc/meat/DynDoc.Rcheck
---------- Making package DynDoc ------------
  adding build stamp to DESCRIPTION
  installing NAMESPACE file and metadata
  installing R files
  preparing package DynDoc for lazy loading
Creating a new generic function for "summary" in "DynDoc"
  installing man source files
  installing indices
  installing help
 >>> Building/Updating help pages for package 'DynDoc'
     Formats: text html latex example chm 
  DynDoc-class                      text    html    latex           chm
  SweaveOptions-class               text    html    latex           chm
  Vignette-class                    text    html    latex           chm
  chunkList-class                   text    html    latex   example chm
  codeChunk-class                   text    html    latex   example chm
  getPkgVigList                     text    html    latex   example chm
  getVignette                       text    html    latex           chm
  getVignetteCode                   text    html    latex           chm
  getVignetteHeader                 text    html    latex           chm
  tangleToR                         text    html    latex   example chm
  vignetteCode-class                text    html    latex           chm
Microsoft HTML Help Compiler 4.74.8702
Compiling e:\biocbld\bbs-2.3-bioc\meat\DynDoc.Rcheck\00_pkg_src\DynDoc\chm\DynDoc.chm
Compile time: 0 minutes, 0 seconds
12	Topics
119	Local links
0	Internet links
1	Graphic
Created e:\biocbld\bbs-2.3-bioc\meat\DynDoc.Rcheck\00_pkg_src\DynDoc\chm\DynDoc.chm, 30,351 bytes
Compression decreased file by 39,864 bytes.
  adding MD5 sums
* DONE (DynDoc)