Rintact 1.0.0 Tony Chiang
 | Snapshot Date: 2008-04-09 12:13:20 -0700 (Wed, 09 Apr 2008) |  | URL: https://hedgehog.fhcrc.org/bioconductor/branches/RELEASE_2_1/madman/Rpacks/Rintact |  | Last Changed Rev: 27809 / Revision: 30966 |  | Last Changed Date: 2007-10-05 18:27:16 -0700 (Fri, 05 Oct 2007) |  
  | lamb1  | Linux (SUSE 10.1) / x86_64  |  OK  |  OK  |  | 
| wilson2  | Linux (openSUSE 10.3) / x86_64  |  OK  |  OK  |  | 
| wellington  | Linux (openSUSE 10.3) / i686  | [ OK ] |  OK  |  | 
| liverpool  | Windows Server 2003 R2 (32-bit) / x64  |  OK  |  OK  |  OK  | 
| lemming  | Windows Server 2003 (32-bit) / x64  |  OK  |  OK  |  OK  | 
| pitt  | Mac OS X Tiger (10.4.11) / i386  |  OK  |  OK  |  OK  | 
* checking for file 'Rintact/DESCRIPTION' ... OK
* preparing 'Rintact':
* checking DESCRIPTION meta-information ... OK
* installing the package to re-build vignettes
* Installing *source* package 'Rintact' ...
** R
** inst
** preparing package for lazy loading
Loading required package: XML
Loading required package: graph
Attaching package: 'graph'
	The following object(s) are masked from package:XML :
	 addNode 
Loading required package: ppiStats
Loading required package: GO
Loading required package: GOstats
Loading required package: GO.db
Loading required package: AnnotationDbi
Loading required package: Biobase
Loading required package: tools
Welcome to Bioconductor
  Vignettes contain introductory material. To view, type
  'openVignette()'. To cite Bioconductor, see
  'citation("Biobase")' and for packages 'citation(pkgname)'.
Loading required package: DBI
Loading required package: RSQLite
Attaching package: 'GO.db'
	The following object(s) are masked from package:GO :
	 GOBPANCESTOR,
	 GOBPCHILDREN,
	 GOBPOFFSPRING,
	 GOBPPARENTS,
	 GOCCANCESTOR,
	 GOCCCHILDREN,
	 GOCCOFFSPRING,
	 GOCCPARENTS,
	 GOMAPCOUNTS,
	 GOMFANCESTOR,
	 GOMFCHILDREN,
	 GOMFOFFSPRING,
	 GOMFPARENTS,
	 GOOBSOLETE,
	 GOSYNONYM,
	 GOTERM 
Loading required package: annotate
Loading required package: xtable
Loading required package: RBGL
Loading required package: Category
Loading required package: genefilter
Loading required package: survival
Loading required package: splines
Loading required package: YEAST
Loading required package: ppiData
Loading required package: Rgraphviz
Attaching package: 'Rgraphviz'
	The following object(s) are masked from package:annotate :
	 toFile 
Loading required package: hypergraph
Attaching package: 'hypergraph'
	The following object(s) are masked from package:Rgraphviz :
	 head,
	 tail 
	The following object(s) are masked from package:xtable :
	 label,
	 label<- 
	The following object(s) are masked from package:AnnotationDbi :
	 head,
	 tail 
	The following object(s) are masked from package:utils :
	 head,
	 tail 
** help
 >>> Building/Updating help pages for package 'Rintact'
     Formats: text html latex example 
  bait                              text    html    latex   example
  complexEntry                      text    html    latex
  complexes                         text    html    latex   example
  eListHandler                      text    html    latex   example
  intactComplex                     text    html    latex
  intactGraph                       text    html    latex
  intactHyperGraph                  text    html    latex
  intactInteraction                 text    html    latex
  intactXML2Graph                   text    html    latex   example
  interactionEntry                  text    html    latex
  interactions                      text    html    latex   example
  interactors                       text    html    latex   example
  list2Matrix                       text    html    latex   example
  organismName                      text    html    latex   example
  prey                              text    html    latex   example
  psi25interaction                  text    html    latex   example
  releaseDate                       text    html    latex   example
  taxId                             text    html    latex   example
  translateIntactID                 text    html    latex   example
** building package indices ...
* DONE (Rintact)
* creating vignettes ... OK
* removing junk files
* checking for LF line-endings in source and make files
* checking for empty or unneeded directories
* building 'Rintact_1.0.0.tar.gz'