| Rintact 1.0.0 Tony Chiang
 
 | Snapshot Date: 2008-04-09 12:13:20 -0700 (Wed, 09 Apr 2008) |  | URL: https://hedgehog.fhcrc.org/bioconductor/branches/RELEASE_2_1/madman/Rpacks/Rintact |  | Last Changed Rev: 27809 / Revision: 30966 |  | Last Changed Date: 2007-10-05 18:27:16 -0700 (Fri, 05 Oct 2007) | 
 | lamb1 | Linux (SUSE 10.1) / x86_64 | OK | OK |  | 
| wilson2 | Linux (openSUSE 10.3) / x86_64 | OK | OK |  | 
| wellington | Linux (openSUSE 10.3) / i686 | OK | OK |  | 
| liverpool | Windows Server 2003 R2 (32-bit) / x64 | OK | OK | [ OK ] | 
| lemming | Windows Server 2003 (32-bit) / x64 | OK | OK | OK | 
| pitt | Mac OS X Tiger (10.4.11) / i386 | OK | OK | OK | 
installing R.css in E:/biocbld/bbs-2.1-bioc/meat/Rintact.buildbin-libdir
Using auto-selected zip options ''
---------- Making package Rintact ------------
  adding build stamp to DESCRIPTION
  installing NAMESPACE file and metadata
  installing R files
  installing inst files
  installing man source files
  installing indices
  installing help
 >>> Building/Updating help pages for package 'Rintact'
     Formats: text html latex example chm 
  bait                              text    html    latex   example chm
  complexEntry                      text    html    latex           chm
  complexes                         text    html    latex   example chm
  eListHandler                      text    html    latex   example chm
  intactComplex                     text    html    latex           chm
  intactGraph                       text    html    latex           chm
  intactHyperGraph                  text    html    latex           chm
  intactInteraction                 text    html    latex           chm
  intactXML2Graph                   text    html    latex   example chm
  interactionEntry                  text    html    latex           chm
  interactions                      text    html    latex   example chm
  interactors                       text    html    latex   example chm
  list2Matrix                       text    html    latex   example chm
  organismName                      text    html    latex   example chm
  prey                              text    html    latex   example chm
  psi25interaction                  text    html    latex   example chm
  releaseDate                       text    html    latex   example chm
  taxId                             text    html    latex   example chm
  translateIntactID                 text    html    latex   example chm
Microsoft HTML Help Compiler 4.74.8702
Compiling e:\biocbld\bbs-2.1-bioc\meat\R.INSTALL.860\Rintact\chm\Rintact.chm
Compile time: 0 minutes, 0 seconds
20	Topics
79	Local links
13	Internet links
1	Graphic
Created e:\biocbld\bbs-2.1-bioc\meat\R.INSTALL.860\Rintact\chm\Rintact.chm, 30,844 bytes
Compression decreased file by 30,575 bytes.
  preparing package Rintact for lazy loading
Loading required package: XML
Loading required package: graph
Attaching package: 'graph'
	The following object(s) are masked from package:XML :
	 addNode 
Loading required package: ppiStats
Loading required package: GO
Loading required package: GOstats
Loading required package: GO.db
Loading required package: AnnotationDbi
Loading required package: Biobase
Loading required package: tools
Welcome to Bioconductor
  Vignettes contain introductory material. To view, type
  'openVignette()'. To cite Bioconductor, see
  'citation("Biobase")' and for packages 'citation(pkgname)'.
Loading required package: DBI
Loading required package: RSQLite
Attaching package: 'GO.db'
	The following object(s) are masked from package:GO :
	 GOBPANCESTOR,
	 GOBPCHILDREN,
	 GOBPOFFSPRING,
	 GOBPPARENTS,
	 GOCCANCESTOR,
	 GOCCCHILDREN,
	 GOCCOFFSPRING,
	 GOCCPARENTS,
	 GOMAPCOUNTS,
	 GOMFANCESTOR,
	 GOMFCHILDREN,
	 GOMFOFFSPRING,
	 GOMFPARENTS,
	 GOOBSOLETE,
	 GOSYNONYM,
	 GOTERM 
Loading required package: annotate
Loading required package: xtable
Loading required package: RBGL
Loading required package: Category
Loading required package: genefilter
Loading required package: survival
Loading required package: splines
Loading required package: YEAST
Loading required package: ppiData
Loading required package: Rgraphviz
Attaching package: 'Rgraphviz'
	The following object(s) are masked from package:annotate :
	 toFile 
Loading required package: hypergraph
Attaching package: 'hypergraph'
	The following object(s) are masked from package:Rgraphviz :
	 head,
	 tail 
	The following object(s) are masked from package:xtable :
	 label,
	 label<- 
	The following object(s) are masked from package:AnnotationDbi :
	 head,
	 tail 
	The following object(s) are masked from package:utils :
	 head,
	 tail 
  adding MD5 sums
packaged installation of package 'Rintact' as Rintact_1.0.0.zip
* DONE (Rintact)