Back to the "Multiple platform build/check report"
Package 71/234 | Hostname | OS | Arch | BUILD | CHECK | BUILD BIN |
fdrame 1.10.0 Effi Kenigsberg Last Changed Date: 2007-10-02 17:41:09 -0700 Last Changed Rev: 27709 | lamb1 | Linux (SUSE 10.1) | x86_64 | OK | WARNINGS | |
wellington | Linux (SUSE 9.2) | i686 | OK | WARNINGS | ||
liverpool | Windows Server 2003 R2 (32-bit) | x64 | [ OK ] | WARNINGS | OK | |
pitt | Mac OS X (10.4.10) | i386 | OK | WARNINGS | OK |
Package: fdrame |
Version: 1.10.0 |
Command: E:\biocbld\bbs-2.1-bioc\R\bin\R.exe CMD build fdrame |
RetCode: 0 |
Time: 22.7 seconds |
Status: OK |
PackageFile: fdrame_1.10.0.tar.gz |
* checking for file 'fdrame/DESCRIPTION' ... OK * preparing 'fdrame': * checking DESCRIPTION meta-information ... OK * cleaning src * installing the package to re-build vignettes installing R.css in E:/biocbld/bbs-2.1-bioc/tmpdir/Rinst297275125 ---------- Making package fdrame ------------ adding build stamp to DESCRIPTION making DLL ... gcc-sjlj -std=gnu99 -Ie:/biocbld/bbs-2.1-bioc/R/include -Wall -O3 -c fdr.c -o fdr.o windres --preprocessor="gcc-sjlj -E -xc -DRC_INVOKED" -I e:/biocbld/bbs-2.1-bioc/R/include -i fdrame_res.rc -o fdrame_res.o gcc-sjlj -std=gnu99 -shared -s -o fdrame.dll fdrame.def fdr.o fdrame_res.o -Le:/biocbld/bbs-2.1-bioc/R/bin -lR ... DLL made installing DLL installing R files installing inst files installing data files installing man source files installing indices not zipping data installing help >>> Building/Updating help pages for package 'fdrame' Formats: text html latex example chm design text html latex example chm exp.arr text html latex example chm fdr-internal text html latex chm fdrgui text html latex example chm fdrma text html latex example chm Microsoft HTML Help Compiler 4.74.8702 Compiling e:\biocbld\bbs-2.1-bioc\meat\fdrame\chm\fdrame.chm Compile time: 0 minutes, 1 second 6 Topics 9 Local links 0 Internet links 1 Graphic Created e:\biocbld\bbs-2.1-bioc\meat\fdrame\chm\fdrame.chm, 27,085 bytes Compression decreased file by 481 bytes. preparing package fdrame for lazy loading adding MD5 sums * DONE (fdrame) * creating vignettes ... OK * cleaning src * removing junk files * checking for LF line-endings in source and make files * checking for empty or unneeded directories WARNING: Removing directory 'fdrame/html' which should only occur in an installed package * building 'fdrame_1.10.0.tar.gz'