Back to the "Multiple platform build/check report"
| Package 71/234 | Hostname | OS | Arch | BUILD | CHECK | BUILD BIN |
| fdrame 1.10.0 Effi Kenigsberg Last Changed Date: 2007-10-02 17:41:09 -0700 Last Changed Rev: 27709 | lamb1 | Linux (SUSE 10.1) | x86_64 | [ OK ] | WARNINGS | |
| wellington | Linux (SUSE 9.2) | i686 | OK | WARNINGS | ||
| liverpool | Windows Server 2003 R2 (32-bit) | x64 | OK | WARNINGS | OK | |
| pitt | Mac OS X (10.4.10) | i386 | OK | WARNINGS | OK |
| Package: fdrame |
| Version: 1.10.0 |
| Command: /home/biocbuild/bbs-2.1-bioc/R/bin/R CMD build fdrame |
| RetCode: 0 |
| Time: 3.5 seconds |
| Status: OK |
| PackageFile: fdrame_1.10.0.tar.gz |
* checking for file 'fdrame/DESCRIPTION' ... OK
* preparing 'fdrame':
* checking DESCRIPTION meta-information ... OK
* cleaning src
* installing the package to re-build vignettes
* Installing *source* package 'fdrame' ...
** libs
gcc -std=gnu99 -I/home/biocbuild/bbs-2.1-bioc/R/include -I/home/biocbuild/bbs-2.1-bioc/R/include -I/usr/local/include -fpic -g -O2 -Wall -c fdr.c -o fdr.o
gcc -std=gnu99 -shared -L/usr/local/lib64 -o fdrame.so fdr.o -L/home/biocbuild/bbs-2.1-bioc/R/lib -lR
** R
** data
** inst
** preparing package for lazy loading
** help
>>> Building/Updating help pages for package 'fdrame'
Formats: text html latex example
design text html latex example
exp.arr text html latex example
fdr-internal text html latex
fdrgui text html latex example
fdrma text html latex example
** building package indices ...
* DONE (fdrame)
* creating vignettes ... OK
* cleaning src
* removing junk files
* checking for LF line-endings in source and make files
* checking for empty or unneeded directories
WARNING: Removing directory 'fdrame/html' which should only occur in an
installed package
* building 'fdrame_1.10.0.tar.gz'