Back to the "Multiple platform build/check report"
| Package 153/234 | Hostname | OS | Arch | BUILD | CHECK | BUILD BIN |
| OutlierD 1.2.0 Sukwoo Kim Last Changed Date: 2007-10-02 17:41:09 -0700 Last Changed Rev: 27709 | lamb1 | Linux (SUSE 10.1) | x86_64 | OK | OK | |
| wellington | Linux (SUSE 9.2) | i686 | OK | OK | ||
| liverpool | Windows Server 2003 R2 (32-bit) | x64 | OK | OK | OK | |
| pitt | Mac OS X (10.4.10) | i386 | OK | OK | [ OK ] |
| Package: OutlierD |
| Version: 1.2.0 |
| Command: /Users/biocbuild/BBS/utils/build-universal.sh OutlierD_1.2.0.tar.gz /Library/Frameworks/R.framework/Resources/bin/R OutlierD.buildbin-libdir |
| RetCode: 0 |
| Time: 2.8 seconds |
| Status: OK |
| PackageFile: OutlierD_1.2.0.tgz |
INSTALLATION WITH 'R CMD INSTALL OutlierD_1.2.0.tar.gz'
* Installing to library 'OutlierD.buildbin-libdir'
* Installing *source* package 'OutlierD' ...
** R
** data
** inst
** help
>>> Building/Updating help pages for package 'OutlierD'
Formats: text html latex example
OutlierD text html latex example
lcms text html latex
** building package indices ...
* DONE (OutlierD)