Back to the "Multiple platform build/check report"
| Package 153/234 | Hostname | OS | Arch | BUILD | CHECK | BUILD BIN | 
| OutlierD 1.2.0 Sukwoo Kim Last Changed Date: 2007-10-02 17:41:09 -0700 Last Changed Rev: 27709 | lamb1 | Linux (SUSE 10.1) | x86_64 | OK | OK | |
| wellington | Linux (SUSE 9.2) | i686 | OK | OK | ||
| liverpool | Windows Server 2003 R2 (32-bit) | x64 | [ OK ] | OK | OK | |
| pitt | Mac OS X (10.4.10) | i386 | OK | OK | OK | 
| Package: OutlierD | 
| Version: 1.2.0 | 
| Command: E:\biocbld\bbs-2.1-bioc\R\bin\R.exe CMD build OutlierD | 
| RetCode: 0 | 
| Time: 25.0 seconds | 
| Status: OK | 
| PackageFile: OutlierD_1.2.0.tar.gz | 
* checking for file 'OutlierD/DESCRIPTION' ... OK
* preparing 'OutlierD':
* checking DESCRIPTION meta-information ... OK
* checking whether 'INDEX' is up-to-date ... NO
* use '--force' to overwrite the existing 'INDEX'
* installing the package to re-build vignettes
installing R.css in E:/biocbld/bbs-2.1-bioc/tmpdir/Rinst532806906
---------- Making package OutlierD ------------
  adding build stamp to DESCRIPTION
  installing NAMESPACE file and metadata
  installing R files
  installing inst files
  installing data files
  installing man source files
  installing indices
  not zipping data
  installing help
 >>> Building/Updating help pages for package 'OutlierD'
     Formats: text html latex example chm 
  OutlierD                          text    html    latex   example chm
  lcms                              text    html    latex           chm
Microsoft HTML Help Compiler 4.74.8702
Compiling e:\biocbld\bbs-2.1-bioc\meat\OutlierD\chm\OutlierD.chm
Compile time: 0 minutes, 0 seconds
3	Topics
4	Local links
0	Internet links
1	Graphic
Created e:\biocbld\bbs-2.1-bioc\meat\OutlierD\chm\OutlierD.chm, 16,913 bytes
Compression increased file by 7,685 bytes.
  adding MD5 sums
* DONE (OutlierD)
* creating vignettes ... OK
* removing junk files
* checking for LF line-endings in source and make files
* checking for empty or unneeded directories
* building 'OutlierD_1.2.0.tar.gz'