Back to the "Multiple platform build/check report"
| Package 153/234 | Hostname | OS | Arch | BUILD | CHECK | BUILD BIN |
| OutlierD 1.2.0 Sukwoo Kim Last Changed Date: 2007-10-02 17:41:09 -0700 Last Changed Rev: 27709 | lamb1 | Linux (SUSE 10.1) | x86_64 | OK | [ OK ] | |
| wellington | Linux (SUSE 9.2) | i686 | OK | OK | ||
| liverpool | Windows Server 2003 R2 (32-bit) | x64 | OK | OK | OK | |
| pitt | Mac OS X (10.4.10) | i386 | OK | OK | OK |
| Package: OutlierD |
| Version: 1.2.0 |
| Command: /home/biocbuild/bbs-2.1-bioc/R/bin/R CMD check OutlierD_1.2.0.tar.gz |
| RetCode: 0 |
| Time: 42.5 seconds |
| Status: OK |
| CheckDir: OutlierD.Rcheck |
| Warnings: 0 |
* checking for working latex ... OK * using log directory '/home/biocbuild/bbs-2.1-bioc/meat/OutlierD.Rcheck' * using R version 2.6.0 (2007-10-03) * checking for file 'OutlierD/DESCRIPTION' ... OK * this is package 'OutlierD' version '1.2.0' * checking package name space information ... OK * checking package dependencies ... OK * checking if this is a source package ... OK * checking whether package 'OutlierD' can be installed ... OK * checking package directory ... OK * checking for portable file names ... OK * checking for sufficient/correct file permissions ... OK * checking DESCRIPTION meta-information ... OK * checking top-level files ... OK * checking index information ... OK * checking package subdirectories ... OK * checking R files for non-ASCII characters ... OK * checking R files for syntax errors ... OK * checking whether the package can be loaded ... OK * checking whether the package can be loaded with stated dependencies ... OK * checking whether the name space can be loaded with stated dependencies ... OK * checking for unstated dependencies in R code ... OK * checking S3 generic/method consistency ... OK * checking replacement functions ... OK * checking foreign function calls ... OK * checking R code for possible problems ... OK * checking Rd files ... OK * checking Rd cross-references ... OK * checking for missing documentation entries ... OK * checking for code/documentation mismatches ... OK * checking Rd \usage sections ... OK * checking data for non-ASCII characters ... OK * creating OutlierD-Ex.R ... OK * checking examples ... OK * checking package vignettes in 'inst/doc' ... OK * creating OutlierD-manual.tex ... OK * checking OutlierD-manual.tex ... OK
OutlierD.Rcheck/00install.out:
* Installing *source* package 'OutlierD' ...
** R
** data
** inst
** help
>>> Building/Updating help pages for package 'OutlierD'
Formats: text html latex example
OutlierD text html latex example
lcms text html latex
** building package indices ...
* DONE (OutlierD)