Back to the "Multiple platform build/check report"
| IMPORTANT NOTE: R was configured with --enable-strict-barrier on lamb1 |
| Package 164/247 | Hostname | OS | Arch | BUILD | CHECK | BUILD BIN |
pamr1.35.0Rob TibshiraniLast Changed Date: 2007-04-24 11:31:42 -0700 Last Changed Rev: 24217 | lamb1 | Linux (SUSE 10.1) | x86_64 | OK | OK | |
| wellington | Linux (SUSE 9.2) | i686 | [ OK ] | OK | ||
| liverpool | Windows Server 2003 R2 (32-bit) | x64 | OK | OK | OK | |
| pitt | Mac OS X (10.4.10) | i386 | OK | WARNINGS | OK |
| Package: pamr |
| Version: 1.35.0 |
| Command: /loc/biocbuild/bbs-2.1-bioc/R/bin/R CMD build pamr |
| RetCode: 0 |
| Time: 2.8 seconds |
| Status: OK |
| PackageFile: pamr_1.35.0.tar.gz |
* checking for file 'pamr/DESCRIPTION' ... OK * preparing 'pamr': * checking DESCRIPTION meta-information ... OK * cleaning src * removing junk files * excluding invalid files from 'pamr' Subdirectory 'man' contains invalid file names: internal.names * checking for LF line-endings in source files * checking for empty or unneeded directories * building 'pamr_1.35.0.tar.gz'