Back to the "Multiple platform build/check report"
| IMPORTANT NOTE: R was configured with --enable-strict-barrier on lamb1 |
| Package 164/247 | Hostname | OS | Arch | BUILD | CHECK | BUILD BIN |
pamr1.35.0Rob TibshiraniLast Changed Date: 2007-04-24 11:31:42 -0700 Last Changed Rev: 24217 | lamb1 | Linux (SUSE 10.1) | x86_64 | OK | OK | |
| wellington | Linux (SUSE 9.2) | i686 | OK | OK | ||
| liverpool | Windows Server 2003 R2 (32-bit) | x64 | OK | OK | OK | |
| pitt | Mac OS X (10.4.10) | i386 | OK | WARNINGS | [ OK ] |
| Package: pamr |
| Version: 1.35.0 |
| Command: /Users/biocbuild/BBS/utils/build-universal.sh pamr_1.35.0.tar.gz /Library/Frameworks/R.framework/Resources/bin/R pamr.buildbin-libdir |
| RetCode: 0 |
| Time: 7.0 seconds |
| Status: OK |
| PackageFile: pamr_1.35.0.tgz |
INSTALLATION WITH 'R CMD INSTALL pamr_1.35.0.tar.gz'
* Installing to library 'pamr.buildbin-libdir'
* Installing *source* package 'pamr' ...
** libs
** arch - i386
gcc-4.0 -arch i386 -isysroot /Developer/SDKs/MacOSX10.4u.sdk -no-cpp-precomp -I/Library/Frameworks/R.framework/Resources/include -I/Library/Frameworks/R.framework/Resources/include/i386 -msse3 -D__NO_MATH_INLINES -fPIC -g -O2 -Wall -std=gnu99 -march=nocona -c cox_func.c -o cox_func.o
gfortran-4.0 -arch i386 -isysroot /Developer/SDKs/MacOSX10.4u.sdk -fPIC -g -O2 -Wall -march=nocona -c knnimpute.f -o knnimpute.o
Warning: Nonconforming tab character in column 1 of line 89
Warning: Nonconforming tab character in column 1 of line 91
Warning: Nonconforming tab character in column 1 of line 92
Warning: Nonconforming tab character in column 1 of line 93
Warning: Nonconforming tab character in column 1 of line 94
Warning: Nonconforming tab character in column 1 of line 95
Warning: Nonconforming tab character in column 1 of line 96
Warning: Nonconforming tab character in column 1 of line 97
Warning: Nonconforming tab character in column 1 of line 98
Warning: Nonconforming tab character in column 1 of line 99
Warning: Nonconforming tab character in column 1 of line 100
Warning: Nonconforming tab character in column 1 of line 101
Warning: Nonconforming tab character in column 1 of line 102
Warning: Nonconforming tab character in column 1 of line 103
Warning: Nonconforming tab character in column 1 of line 104
Warning: Nonconforming tab character in column 1 of line 105
Warning: Nonconforming tab character in column 1 of line 106
Warning: Nonconforming tab character in column 1 of line 107
Warning: Nonconforming tab character in column 1 of line 108
Warning: Nonconforming tab character in column 1 of line 109
Warning: Nonconforming tab character in column 1 of line 110
Warning: Nonconforming tab character in column 1 of line 111
Warning: Nonconforming tab character in column 1 of line 112
Warning: Nonconforming tab character in column 1 of line 113
Warning: Nonconforming tab character in column 1 of line 114
Warning: Nonconforming tab character in column 1 of line 115
Warning: Nonconforming tab character in column 1 of line 116
Warning: Nonconforming tab character in column 1 of line 117
Warning: Nonconforming tab character in column 1 of line 118
Warning: Nonconforming tab character in column 1 of line 119
Warning: Nonconforming tab character in column 1 of line 120
Warning: Nonconforming tab character in column 1 of line 121
Warning: Nonconforming tab character in column 1 of line 122
knnimpute.f:6.37:
integer iworkp(p),iworkn(n), jj
1
Warning: Unused variable jj declared at (1)
knnimpute.f: In function 'twomis':
knnimpute.f:132: warning: 'dold' may be used uninitialized in this function
gcc-4.0 -arch i386 -isysroot /Developer/SDKs/MacOSX10.4u.sdk -dynamiclib -Wl,-macosx_version_min -Wl,10.3 -undefined dynamic_lookup -single_module -multiply_defined suppress -L/usr/local/lib -o pamr.so cox_func.o knnimpute.o -L/usr/local/lib/gcc/i686-apple-darwin8/4.2.1 -lgfortran -F/Library/Frameworks/R.framework/.. -framework R
** arch - ppc
gcc-4.0 -arch ppc -isysroot /Developer/SDKs/MacOSX10.4u.sdk -std=gnu99 -no-cpp-precomp -I/Library/Frameworks/R.framework/Resources/include -I/Library/Frameworks/R.framework/Resources/include/ppc -I/usr/local/include -fPIC -g -O2 -Wall -c cox_func.c -o cox_func.o
gfortran-4.0 -arch ppc -isysroot /Developer/SDKs/MacOSX10.4u.sdk -fPIC -g -O2 -Wall -c knnimpute.f -o knnimpute.o
Warning: Nonconforming tab character in column 1 of line 89
Warning: Nonconforming tab character in column 1 of line 91
Warning: Nonconforming tab character in column 1 of line 92
Warning: Nonconforming tab character in column 1 of line 93
Warning: Nonconforming tab character in column 1 of line 94
Warning: Nonconforming tab character in column 1 of line 95
Warning: Nonconforming tab character in column 1 of line 96
Warning: Nonconforming tab character in column 1 of line 97
Warning: Nonconforming tab character in column 1 of line 98
Warning: Nonconforming tab character in column 1 of line 99
Warning: Nonconforming tab character in column 1 of line 100
Warning: Nonconforming tab character in column 1 of line 101
Warning: Nonconforming tab character in column 1 of line 102
Warning: Nonconforming tab character in column 1 of line 103
Warning: Nonconforming tab character in column 1 of line 104
Warning: Nonconforming tab character in column 1 of line 105
Warning: Nonconforming tab character in column 1 of line 106
Warning: Nonconforming tab character in column 1 of line 107
Warning: Nonconforming tab character in column 1 of line 108
Warning: Nonconforming tab character in column 1 of line 109
Warning: Nonconforming tab character in column 1 of line 110
Warning: Nonconforming tab character in column 1 of line 111
Warning: Nonconforming tab character in column 1 of line 112
Warning: Nonconforming tab character in column 1 of line 113
Warning: Nonconforming tab character in column 1 of line 114
Warning: Nonconforming tab character in column 1 of line 115
Warning: Nonconforming tab character in column 1 of line 116
Warning: Nonconforming tab character in column 1 of line 117
Warning: Nonconforming tab character in column 1 of line 118
Warning: Nonconforming tab character in column 1 of line 119
Warning: Nonconforming tab character in column 1 of line 120
Warning: Nonconforming tab character in column 1 of line 121
Warning: Nonconforming tab character in column 1 of line 122
knnimpute.f:6.37:
integer iworkp(p),iworkn(n), jj
1
Warning: Unused variable jj declared at (1)
knnimpute.f: In function 'twomis':
knnimpute.f:132: warning: 'dold' may be used uninitialized in this function
gcc-4.0 -arch ppc -isysroot /Developer/SDKs/MacOSX10.4u.sdk -std=gnu99 -dynamiclib -Wl,-macosx_version_min -Wl,10.3 -undefined dynamic_lookup -single_module -multiply_defined suppress -L/usr/local/lib -o pamr.so cox_func.o knnimpute.o -L/usr/local/lib/gcc/powerpc-apple-darwin8/4.2.1 -lgfortran -lSystemStubs -F/Library/Frameworks/R.framework/.. -framework R
** R
** data
** inst
** help
Note: unmatched right brace in 'pamr.confusion.survival' on or after line 24
Note: unmatched right brace in 'pamr.listgenes' on or after line 8
Note: unmatched right brace in 'pamr.plotcen' on or after line 7
Note: unmatched right brace in 'pamr.predict' on or after line 8
Note: unmatched right brace in 'pamr.predictmany' on or after line 8
>>> Building/Updating help pages for package 'pamr'
Formats: text html latex example
khan text html latex
pamr.adaptthresh text html latex example
pamr.batchadjust text html latex example
pamr.confusion text html latex example
pamr.confusion.survival text html latex example
pamr.cv text html latex example
pamr.decorrelate text html latex example
pamr.fdr text html latex example
pamr.from.excel text html latex
pamr.geneplot text html latex example
pamr.indeterminate text html latex example
pamr.internal text html latex
pamr.knnimpute text html latex
pamr.listgenes text html latex example
pamr.makeclasses text html latex example
pamr.menu text html latex example
pamr.plotcen text html latex example
pamr.plotcv text html latex example
pamr.plotcvprob text html latex example
pamr.plotfdr text html latex example
pamr.plotstrata text html latex example
pamr.plotsurvival text html latex example
pamr.predict text html latex example
pamr.predictmany text html latex example
pamr.surv.to.class2 text html latex example
pamr.test.errors.surv.compute text html latex example
pamr.to.excel text html latex
pamr.train text html latex example
** building package indices ...
* DONE (pamr)