Back to the "Multiple platform build/check report"
| IMPORTANT NOTE: R was configured with --enable-strict-barrier on lamb1 |
| Package 153/247 | Hostname | OS | Arch | BUILD | CHECK | BUILD BIN |
nudge1.5.1N. DeanLast Changed Date: 2007-04-19 15:27:45 -0700 Last Changed Rev: 24052 | lamb1 | Linux (SUSE 10.1) | x86_64 | OK | ERROR | |
| wellington | Linux (SUSE 9.2) | i686 | OK | ERROR | ||
| liverpool | Windows Server 2003 R2 (32-bit) | x64 | OK | ERROR | OK | |
| pitt | Mac OS X (10.4.10) | i386 | OK | ERROR | [ OK ] |
| Package: nudge |
| Version: 1.5.1 |
| Command: /Users/biocbuild/BBS/utils/build-universal.sh nudge_1.5.1.tar.gz /Library/Frameworks/R.framework/Resources/bin/R nudge.buildbin-libdir |
| RetCode: 0 |
| Time: 3.0 seconds |
| Status: OK |
| PackageFile: nudge_1.5.1.tgz |
INSTALLATION WITH 'R CMD INSTALL nudge_1.5.1.tar.gz'
* Installing to library 'nudge.buildbin-libdir'
* Installing *source* package 'nudge' ...
** R
** data
** inst
** help
>>> Building/Updating help pages for package 'nudge'
Formats: text html latex example
hiv text html latex
like text html latex
neg.contr text html latex
norm1a text html latex example
norm1b text html latex example
norm1c text html latex example
norm1d text html latex example
norm2c text html latex example
norm2d text html latex example
nudge1 text html latex example
nudge2 text html latex example
pos.contr text html latex
** building package indices ...
* DONE (nudge)