Back to the "Multiple platform build/check report"
| IMPORTANT NOTE: R was configured with --enable-strict-barrier on lamb1 |
| Package 47/247 | Hostname | OS | Arch | BUILD | CHECK | BUILD BIN |
cellHTS22.0.7Ligia BrasLast Changed Date: 2007-08-19 12:32:24 -0700 Last Changed Rev: 26509 | lamb1 | Linux (SUSE 10.1) | x86_64 | OK | OK | |
| wellington | Linux (SUSE 9.2) | i686 | OK | OK | ||
| liverpool | Windows Server 2003 R2 (32-bit) | x64 | OK | OK | OK | |
| pitt | Mac OS X (10.4.10) | i386 | OK | OK | [ OK ] |
| Package: cellHTS2 |
| Version: 2.0.7 |
| Command: /Users/biocbuild/BBS/utils/build-universal.sh cellHTS2_2.0.7.tar.gz /Library/Frameworks/R.framework/Resources/bin/R cellHTS2.buildbin-libdir |
| RetCode: 0 |
| Time: 11.7 seconds |
| Status: OK |
| PackageFile: cellHTS2_2.0.7.tgz |
INSTALLATION WITH 'R CMD INSTALL cellHTS2_2.0.7.tar.gz'
* Installing to library 'cellHTS2.buildbin-libdir'
* Installing *source* package 'cellHTS2' ...
** R
** data
** inst
** preparing package for lazy loading
Loading required package: prada
Loading required package: Biobase
Loading required package: tools
Welcome to Bioconductor
Vignettes contain introductory material. To view, type
'openVignette()'. To cite Bioconductor, see
'citation("Biobase")' and for packages 'citation(pkgname)'.
Loading required package: RColorBrewer
Loading required package: grid
Scalable Robust Estimators with High Breakdown Point (version 0.3-06)
KernSmooth 2.22 installed
Copyright M. P. Wand 1997
Loading required package: genefilter
Loading required package: survival
Loading required package: splines
Loading required package: locfit
Loading required package: akima
Loading required package: lattice
locfit 1.5-3 2006-04-06
** help
>>> Building/Updating help pages for package 'cellHTS2'
Formats: text html latex example
Bscore text html latex example
ROC-class text html latex example
ROC text html latex example
annotate text html latex example
cellHTS-class text html latex example
cellHTS-package text html latex
configure text html latex example
data-KcViab text html latex example
data-KcViabSmall text html latex example
description text html latex
getDynamicRange text html latex example
getMeasureRepAgreement text html latex example
getReplicatesMatrix text html latex example
getTopTable text html latex example
getZfactor text html latex example
imageScreen text html latex example
normalizePlates text html latex example
oneRowPerId text html latex example
plateEffects text html latex
plotSpatialEffects text html latex example
rawdata text html latex
readPlateData text html latex example
scores text html latex
spatialNormalization text html latex example
state text html latex
summarizeChannels text html latex example
summarizeReplicates text html latex example
wellAnno text html latex
write.tabdel text html latex example
writeReport text html latex example
writeTab text html latex example
** building package indices ...
* DONE (cellHTS2)