Back to the "Multiple platform build/check report"
| Package 144/234 | Hostname | OS | Arch | BUILD | CHECK | BUILD BIN |
nnNorm2.1.0Adi Laurentiu TarcaLast Changed Date: 2007-04-24 11:31:42 -0700 Last Changed Rev: 24217 | lamb1 | Linux (SUSE 10.1) | x86_64 | OK | WARNINGS | |
| wellington | Linux (SUSE 9.2) | i686 | OK | OK | ||
| churchill | Solaris 2.9 | sparc | OK | OK | ||
| lemming | Windows Server 2003 (32-bit) | x64 | [ OK ] | OK | OK |
| Package: nnNorm |
| Version: 2.1.0 |
| Command: D:\biocbld\bbs-2.1-bioc\R\bin\R.exe CMD build nnNorm |
| RetCode: 0 |
| Time: 250.3 seconds |
| Status: OK |
| PackageFile: nnNorm_2.1.0.tar.gz |
* checking for file 'nnNorm/DESCRIPTION' ... OK
* preparing 'nnNorm':
* checking DESCRIPTION meta-information ... OK
* checking whether 'INDEX' is up-to-date ... NO
* use '--force' to overwrite the existing 'INDEX'
* installing the package to re-build vignettes
installing R.css in D:/biocbld/bbs-2.1-bioc/tmpdir/Rinst310060568
---------- Making package nnNorm ------------
adding build stamp to DESCRIPTION
installing R files
installing inst files
installing man source files
installing indices
installing help
>>> Building/Updating help pages for package 'nnNorm'
Formats: text html latex example chm
compNorm text html latex example chm
detectSpatialBias text html latex example chm
maNormNN text html latex example chm
Microsoft HTML Help Compiler 4.74.8702
Compiling d:\biocbld\bbs-2.1-bioc\meat\nnNorm\chm\nnNorm.chm
Compile time: 0 minutes, 0 seconds
4 Topics
9 Local links
0 Internet links
1 Graphic
Created d:\biocbld\bbs-2.1-bioc\meat\nnNorm\chm\nnNorm.chm, 22,225 bytes
Compression increased file by 5,171 bytes.
adding MD5 sums
* DONE (nnNorm)
* creating vignettes ... OK
* removing junk files
* checking for LF line-endings in source files
* checking for empty or unneeded directories
* building 'nnNorm_2.1.0.tar.gz'