Back to the "Multiple platform build/check report"
| Package 144/234 | Hostname | OS | Arch | BUILD | CHECK | BUILD BIN |
nnNorm2.1.0Adi Laurentiu TarcaLast Changed Date: 2007-04-24 11:31:42 -0700 Last Changed Rev: 24217 | lamb1 | Linux (SUSE 10.1) | x86_64 | [ OK ] | WARNINGS | |
| wellington | Linux (SUSE 9.2) | i686 | OK | OK | ||
| churchill | Solaris 2.9 | sparc | OK | OK | ||
| lemming | Windows Server 2003 (32-bit) | x64 | OK | OK | OK |
| Package: nnNorm |
| Version: 2.1.0 |
| Command: /home/biocbuild/bbs-2.1-bioc/R/bin/R CMD build nnNorm |
| RetCode: 0 |
| Time: 70.5 seconds |
| Status: OK |
| PackageFile: nnNorm_2.1.0.tar.gz |
* checking for file 'nnNorm/DESCRIPTION' ... OK
* preparing 'nnNorm':
* checking DESCRIPTION meta-information ... OK
* checking whether 'INDEX' is up-to-date ... NO
* use '--force' to overwrite the existing 'INDEX'
* installing the package to re-build vignettes
* Installing *source* package 'nnNorm' ...
** R
** inst
** help
Warning: unmatched brace ('}') in 'detectSpatialBias.Rd' on or after line 32
Warning: unmatched brace ('}') in 'detectSpatialBias.Rd' on or after line 32
Warning: unmatched brace ('}') in 'detectSpatialBias.Rd' on or after line 32
Warning: unmatched brace ('}') in 'detectSpatialBias.Rd' on or after line 32
Warning: unmatched brace ('}') in 'maNormNN.Rd' on or after line 52
Warning: unmatched brace ('}') in 'maNormNN.Rd' on or after line 52
Warning: unmatched brace ('}') in 'maNormNN.Rd' on or after line 52
Warning: unmatched brace ('}') in 'maNormNN.Rd' on or after line 52
>>> Building/Updating help pages for package 'nnNorm'
Formats: text html latex example
compNorm text html latex example
detectSpatialBias text html latex example
maNormNN text html latex example
** building package indices ...
* DONE (nnNorm)
* creating vignettes ... OK
* removing junk files
* checking for LF line-endings in source files
* checking for empty or unneeded directories
* building 'nnNorm_2.1.0.tar.gz'