Back to the "Multiple platform build/check report"
| Package 123/234 | Hostname | OS | Arch | BUILD | CHECK | BUILD BIN |
maDB1.9.3Johannes RainerLast Changed Date: 2007-05-17 02:16:45 -0700 Last Changed Rev: 24756 | lamb1 | Linux (SUSE 10.1) | x86_64 | OK | OK | |
| wellington | Linux (SUSE 9.2) | i686 | OK | OK | ||
| churchill | Solaris 2.9 | sparc | OK | ERROR | ||
| lemming | Windows Server 2003 (32-bit) | x64 | [ OK ] | ERROR | ERROR |
| Package: maDB |
| Version: 1.9.3 |
| Command: D:\biocbld\bbs-2.1-bioc\R\bin\R.exe CMD build maDB |
| RetCode: 0 |
| Time: 1.5 seconds |
| Status: OK |
| PackageFile: maDB_1.9.3.tar.gz |
* checking for file 'maDB/DESCRIPTION' ... OK * preparing 'maDB': * checking DESCRIPTION meta-information ... OK * removing junk files * checking for LF line-endings in source files * checking for empty or unneeded directories * building 'maDB_1.9.3.tar.gz'