Back to the "Multiple platform build/check report"
| Package 123/234 | Hostname | OS | Arch | BUILD | CHECK | BUILD BIN |
maDB1.9.3Johannes RainerLast Changed Date: 2007-05-17 02:16:45 -0700 Last Changed Rev: 24756 | lamb1 | Linux (SUSE 10.1) | x86_64 | OK | OK | |
| wellington | Linux (SUSE 9.2) | i686 | OK | OK | ||
| churchill | Solaris 2.9 | sparc | OK | ERROR | ||
| lemming | Windows Server 2003 (32-bit) | x64 | OK | ERROR | [ ERROR ] |
| Package: maDB |
| Version: 1.9.3 |
| Command: D:\biocbld\bbs-2.1-bioc\R\bin\R.exe CMD INSTALL --build --library=maDB.buildbin-libdir maDB_1.9.3.tar.gz |
| RetCode: 1 |
| Time: 19.0 seconds |
| Status: ERROR |
| PackageFile: None |
installing R.css in D:/biocbld/bbs-2.1-bioc/meat/maDB.buildbin-libdir
Using auto-selected zip options ' maDB-HELP=ziponly'
---------- Making package maDB ------------
adding build stamp to DESCRIPTION
installing R files
installing inst files
installing data files
installing man source files
installing indices
not zipping data
installing help
>>> Building/Updating help pages for package 'maDB'
Formats: text html latex example chm
EexprSet-class text html latex example chm
Layout-class text html latex example chm
MAtoG text html latex example chm
MAtoR text html latex example chm
MadbSet-class text html latex example chm
Sample-class text html latex example chm
SignalChannel-class text html latex example chm
Similarity-class text html latex chm
arrowProgress text html latex example chm
average text html latex chm
calculateSimilarity text html latex example chm
checkForAnnotation text html latex example chm
createDirs text html latex example chm
createEexprSetFromLimma text html latex example chm
createFile text html latex example chm
createJOINQuery text html latex example chm
createSampleFromTable text html latex example chm
dbCalculateRegulations text html latex chm
dbGetComparisons text html latex chm
dbGetGeneRegulationRanking text html latex chm
dbSearchSimilarPattern text html latex example chm
deleteExperimentFromDB text html latex chm
distance.euclidian text html latex example chm
distance.pearson text html latex example chm
distance.pearson.uncentered text html latex example chm
distance.spearman text html latex example chm
drawMAPlot text html latex chm
drawVolcanoPlot text html latex chm
format.latex text html latex example chm
getAnnotation text html latex chm
getDBAnnotation text html latex chm
getExpValue text html latex chm
getExperimentDBInfo text html latex chm
getMDB text html latex chm
getPK text html latex example chm
getPathFromFile text html latex example chm
getSamplesFromDB text html latex chm
isDecimal text html latex example chm
loadFromDB text html latex chm
maDB-package text html latex chm
mapply text html latex example chm
mean.center text html latex example chm
meanWithoutNA text html latex example chm
medianWithoutNA text html latex example chm
multiGrep text html latex example chm
myGrep text html latex example chm
newMadbSet text html latex chm
openMadbVignette text html latex chm
plotSimilarity text html latex chm
progress text html latex example chm
publishToDB text html latex example chm
replaceAll text html latex example chm
replaces text html latex example chm
smallALL text html latex chm
toEexprSet text html latex chm
updateDBAnnotation text html latex chm
writeFigure text html latex example chm
writeLatexTable text html latex example chm
zipping help files
Microsoft HTML Help Compiler 4.74.8702
Compiling d:\biocbld\bbs-2.1-bioc\meat\R.INSTALL.4256\maDB\chm\maDB.chm
Compile time: 0 minutes, 0 seconds
59 Topics
337 Local links
0 Internet links
1 Graphic
Created d:\biocbld\bbs-2.1-bioc\meat\R.INSTALL.4256\maDB\chm\maDB.chm, 87,413 bytes
Compression decreased file by 134,225 bytes.
preparing package maDB for lazy loading
Loading required package: Biobase
Loading required package: tools
Welcome to Bioconductor
Vignettes contain introductory material. To view, type
'openVignette()'. To cite Bioconductor, see
'citation("Biobase")' and for packages 'citation(pkgname)'.
Loading required package: affy
Loading required package: affyio
Error: package 'pgUtils' required by 'maDB' could not be found
Execution halted
make: *** [lazyload] Error 1
*** Installation of maDB failed ***
Removing 'D:/biocbld/bbs-2.1-bioc/meat/maDB.buildbin-libdir/maDB'