Back to the "Multiple platform build/check report"
| Package 65/234 | Hostname | OS | Arch | BUILD | CHECK | BUILD BIN |
externalVector1.5.1Biocore TeamLast Changed Date: 2006-09-26 17:05:54 -0700 Last Changed Rev: 20172 | lamb1 | Linux (SUSE 10.1) | x86_64 | OK | ERROR | |
| wellington | Linux (SUSE 9.2) | i686 | [ OK ] | ERROR | ||
| churchill | Solaris 2.9 | sparc | OK | ERROR | ||
| lemming | Windows Server 2003 (32-bit) | x64 | OK | ERROR | ERROR |
| Package: externalVector |
| Version: 1.5.1 |
| Command: /loc/biocbuild/bbs-2.1-bioc/R/bin/R CMD build externalVector |
| RetCode: 0 |
| Time: 1.8 seconds |
| Status: OK |
| PackageFile: externalVector_1.5.1.tar.gz |
* checking for file 'externalVector/DESCRIPTION' ... OK * preparing 'externalVector': * checking DESCRIPTION meta-information ... OK * cleaning src * removing junk files * checking for LF line-endings in source files * checking for empty or unneeded directories * building 'externalVector_1.5.1.tar.gz'