Back to the "Multiple platform build/check report"
| Package 11/28 | Hostname | OS | Arch | BUILD | CHECK | BUILD BIN |
DynDoc1.14.0Biocore TeamLast Changed Date: 2007-04-24 11:21:48 -0700 Last Changed Rev: 24214 | lamb1 | Linux (SUSE 10.1) | x86_64 | OK | OK | |
| liverpool | Windows Server 2003 R2 (32-bit) | x64 | OK | [ OK ] | OK |
| Package: DynDoc |
| Version: 1.14.0 |
| Command: E:\biocbld\bbs-2.0-bioc\R\bin\R.exe CMD check DynDoc_1.14.0.tar.gz |
| RetCode: 0 |
| Time: 33.7 seconds |
| Status: OK |
| CheckDir: DynDoc.Rcheck |
| Warnings: 0 |
* checking for working latex ... OK * using log directory 'E:/biocbld/bbs-2.0-biocLite/meat/DynDoc.Rcheck' * using R version 2.5.0 (2007-04-23) * checking for file 'DynDoc/DESCRIPTION' ... OK * this is package 'DynDoc' version '1.14.0' * checking package dependencies ... OK * checking if this is a source package ... OK * checking whether package 'DynDoc' can be installed ... OK * checking package directory ... OK * checking for portable file names ... OK * checking DESCRIPTION meta-information ... OK * checking top-level files ... OK * checking index information ... OK * checking package subdirectories ... OK * checking R files for non-ASCII characters ... OK * checking R files for syntax errors ... OK * checking whether the package can be loaded ... OK * checking whether the package can be loaded with stated dependencies ... OK * checking whether the name space can be loaded with stated dependencies ... OK * checking for unstated dependencies in R code ... OK * checking S3 generic/method consistency ... OK * checking replacement functions ... OK * checking foreign function calls ... OK * checking R code for possible problems ... OK * checking Rd files ... OK * checking Rd cross-references ... OK * checking for missing documentation entries ... OK * checking for code/documentation mismatches ... OK * checking Rd \usage sections ... OK * creating DynDoc-Ex.R ... OK * checking examples ... OK * creating DynDoc-manual.tex ... OK * checking DynDoc-manual.tex ... OK
DynDoc.Rcheck/00install.out:
installing R.css in E:/biocbld/bbs-2.0-biocLite/meat/DynDoc.Rcheck
---------- Making package DynDoc ------------
adding build stamp to DESCRIPTION
installing NAMESPACE file and metadata
installing R files
save image
Creating a new generic function for "summary" in "DynDoc"
installing man source files
installing indices
installing help
>>> Building/Updating help pages for package 'DynDoc'
Formats: text html latex example chm
DynDoc-class text html latex chm
SweaveOptions-class text html latex chm
Vignette-class text html latex chm
chunkList-class text html latex example chm
codeChunk-class text html latex example chm
getPkgVigList text html latex example chm
getVignette text html latex chm
getVignetteCode text html latex chm
getVignetteHeader text html latex chm
tangleToR text html latex example chm
vignetteCode-class text html latex chm
Microsoft HTML Help Compiler 4.74.8702
Compiling e:\biocbld\bbs-2.0-biocLite\meat\DynDoc.Rcheck\00_pkg_src\DynDoc\chm\DynDoc.chm
Compile time: 0 minutes, 0 seconds
12 Topics
119 Local links
0 Internet links
1 Graphic
Created e:\biocbld\bbs-2.0-biocLite\meat\DynDoc.Rcheck\00_pkg_src\DynDoc\chm\DynDoc.chm, 30,273 bytes
Compression decreased file by 39,624 bytes.
adding MD5 sums
* DONE (DynDoc)