Back to the "Multiple platform build/check report"
| Package 11/28 | Hostname | OS | Arch | BUILD | CHECK | BUILD BIN |
DynDoc1.14.0Biocore TeamLast Changed Date: 2007-04-24 11:21:48 -0700 Last Changed Rev: 24214 | lamb1 | Linux (SUSE 10.1) | x86_64 | OK | OK | |
| liverpool | Windows Server 2003 R2 (32-bit) | x64 | [ OK ] | OK | OK |
| Package: DynDoc |
| Version: 1.14.0 |
| Command: E:\biocbld\bbs-2.0-bioc\R\bin\R.exe CMD build DynDoc |
| RetCode: 0 |
| Time: 2.1 seconds |
| Status: OK |
| PackageFile: DynDoc_1.14.0.tar.gz |
* checking for file 'DynDoc/DESCRIPTION' ... OK * preparing 'DynDoc': * checking DESCRIPTION meta-information ... OK * removing junk files * checking for LF line-endings in source files * checking for empty or unneeded directories * building 'DynDoc_1.14.0.tar.gz'