Back to the "Multiple platform build/check report"
| Package 11/28 | Hostname | OS | Arch | BUILD | CHECK | BUILD BIN |
DynDoc1.14.0Biocore TeamLast Changed Date: 2007-04-24 11:21:48 -0700 Last Changed Rev: 24214 | lamb1 | Linux (SUSE 10.1) | x86_64 | OK | OK | |
| liverpool | Windows Server 2003 R2 (32-bit) | x64 | OK | OK | [ OK ] |
| Package: DynDoc |
| Version: 1.14.0 |
| Command: E:\biocbld\bbs-2.0-bioc\R\bin\R.exe CMD INSTALL --build --library=DynDoc.BUILDBINinstdir DynDoc_1.14.0.tar.gz |
| RetCode: 0 |
| Time: 16.0 seconds |
| Status: OK |
| PackageFile: DynDoc_1.14.0.zip |
installing R.css in E:/biocbld/bbs-2.0-biocLite/meat/DynDoc.BUILDBINinstdir
Using auto-selected zip options ''
---------- Making package DynDoc ------------
adding build stamp to DESCRIPTION
installing NAMESPACE file and metadata
installing R files
save image
Creating a new generic function for "summary" in "DynDoc"
installing man source files
installing indices
installing help
>>> Building/Updating help pages for package 'DynDoc'
Formats: text html latex example chm
DynDoc-class text html latex chm
SweaveOptions-class text html latex chm
Vignette-class text html latex chm
chunkList-class text html latex example chm
codeChunk-class text html latex example chm
getPkgVigList text html latex example chm
getVignette text html latex chm
getVignetteCode text html latex chm
getVignetteHeader text html latex chm
tangleToR text html latex example chm
vignetteCode-class text html latex chm
Microsoft HTML Help Compiler 4.74.8702
Compiling e:\biocbld\bbs-2.0-biocLite\meat\R.INSTALL.2560\DynDoc\chm\DynDoc.chm
Compile time: 0 minutes, 0 seconds
12 Topics
119 Local links
0 Internet links
1 Graphic
Created e:\biocbld\bbs-2.0-biocLite\meat\R.INSTALL.2560\DynDoc\chm\DynDoc.chm, 30,275 bytes
Compression decreased file by 39,622 bytes.
adding MD5 sums
packaged installation of package 'DynDoc' as DynDoc_1.14.0.zip
* DONE (DynDoc)