Back to the "Multiple platform build/check report"
| Package 99/208 | OS | Arch | BUILD | CHECK | BUILD BIN | 
lapmix1.1.0Yann Ruffieux | Linux (SUSE 9.2) | x86_64 | OK | OK | |
| Linux (SUSE 10.1) | x86_64 | OK | OK | ||
| Linux (SUSE 9.2) | i686 | OK | OK | ||
| Solaris 2.9 | sparc | OK | OK | ||
| Windows Server 2003 | x86_64 | OK | [ OK ] | OK | |
| Windows Server 2003 | NA | OK | ERROR | OK | |
| Mac OS X (10.4.6) | i686 | OK | OK | 
| Package: lapmix | 
| Version: 1.1.0 | 
| Command: D:\biocbld\2.0d\R\bin\R.exe CMD check lapmix_1.1.0.tar.gz | 
| RetCode: 0 | 
| Time: 42.2 seconds | 
| Status: OK | 
| CheckDir: lapmix.Rcheck | 
| Warnings: 0 | 
* checking for working latex ... OK * using log directory 'D:/biocbld/2.0d/Rpacks/lapmix.Rcheck' * using R version 2.5.0 Under development (unstable) (2006-12-05 r40126) * checking for file 'lapmix/DESCRIPTION' ... OK * this is package 'lapmix' version '1.1.0' * checking package dependencies ... OK * checking if this is a source package ... OK * checking whether package 'lapmix' can be installed ... OK * checking package directory ... OK * checking for portable file names ... OK * checking DESCRIPTION meta-information ... OK * checking top-level files ... OK * checking index information ... OK * checking package subdirectories ... OK * checking R files for syntax errors ... OK * checking R files for non-ASCII characters ... OK * checking whether the package can be loaded ... OK * checking whether the package can be loaded with stated dependencies ... OK * checking S3 generic/method consistency ... OK * checking replacement functions ... OK * checking foreign function calls ... OK * checking R code for possible problems ... OK * checking Rd files ... OK * checking Rd cross-references ... OK * checking for missing documentation entries ... OK * checking for code/documentation mismatches ... OK * checking Rd \usage sections ... OK * creating lapmix-Ex.R ... OK * checking examples ... OK * checking package vignettes in 'inst/doc' ... OK * creating lapmix-manual.tex ... OK * checking lapmix-manual.tex ... OK
lapmix.Rcheck/00install.out:
installing R.css in D:/biocbld/2.0d/Rpacks/lapmix.Rcheck
---------- Making package lapmix ------------
  adding build stamp to DESCRIPTION
  installing R files
  installing inst files
  installing man source files
  installing indices
  installing help
 >>> Building/Updating help pages for package 'lapmix'
     Formats: text html latex example chm 
  lap.volcanoplot                   text    html    latex   example chm
  lapmix-internal                   text    html    latex           chm
  lapmix.Fit                        text    html    latex   example chm
  laptopTable                       text    html    latex   example chm
Microsoft HTML Help Compiler 4.74.8702
Compiling d:\biocbld\2.0d\Rpacks\lapmix.Rcheck\00_pkg_src\lapmix\chm\lapmix.chm
Compile time: 0 minutes, 0 seconds
5	Topics
7	Local links
0	Internet links
1	Graphic
Created d:\biocbld\2.0d\Rpacks\lapmix.Rcheck\00_pkg_src\lapmix\chm\lapmix.chm, 21,899 bytes
Compression increased file by 4,461 bytes.
  adding MD5 sums
* DONE (lapmix)