* checking for file 'lapmix/DESCRIPTION' ... OK
* preparing 'lapmix':
* checking DESCRIPTION meta-information ... OK
* checking whether 'INDEX' is up-to-date ... NO
* use '--force' to overwrite the existing 'INDEX'
* installing the package to re-build vignettes
installing R.css in D:/biocbld/2.0d/tmpdir/Rinst399226190
---------- Making package lapmix ------------
  adding build stamp to DESCRIPTION
  installing R files
  installing inst files
  installing man source files
  installing indices
  installing help
 >>> Building/Updating help pages for package 'lapmix'
     Formats: text html latex example chm 
  lap.volcanoplot                   text    html    latex   example chm
  lapmix-internal                   text    html    latex           chm
  lapmix.Fit                        text    html    latex   example chm
  laptopTable                       text    html    latex   example chm
Microsoft HTML Help Compiler 4.74.8702
Compiling d:\biocbld\2.0d\Rpacks\lapmix\chm\lapmix.chm
Compile time: 0 minutes, 0 seconds
5	Topics
7	Local links
0	Internet links
1	Graphic
Created d:\biocbld\2.0d\Rpacks\lapmix\chm\lapmix.chm, 21,899 bytes
Compression increased file by 4,461 bytes.
  adding MD5 sums
* DONE (lapmix)
* creating vignettes ... OK
* removing junk files
* checking for LF line-endings in source files
* checking for empty or unneeded directories
* building 'lapmix_1.1.0.tar.gz'