Using auto-selected zip options ''
---------- Making package lapmix ------------
  adding build stamp to DESCRIPTION
  installing R files
  installing inst files
  installing man source files
  installing indices
  installing help
 >>> Building/Updating help pages for package 'lapmix'
     Formats: text html latex example chm 
  lap.volcanoplot                   text    html    latex   example chm
  lapmix-internal                   text    html    latex           chm
  lapmix.Fit                        text    html    latex   example chm
  laptopTable                       text    html    latex   example chm
Microsoft HTML Help Compiler 4.74.8702
Compiling d:\biocbld\2.0d\Rpacks\R.INSTALL\lapmix\chm\lapmix.chm
Compile time: 0 minutes, 0 seconds
5	Topics
7	Local links
0	Internet links
1	Graphic
Created d:\biocbld\2.0d\Rpacks\R.INSTALL\lapmix\chm\lapmix.chm, 21,899 bytes
Compression increased file by 4,461 bytes.
  adding MD5 sums
packaged installation of package 'lapmix' as lapmix_1.1.0.zip
* DONE (lapmix)