Back to the "Multiple platform build/check report"
| Package 141/208 | OS | Arch | BUILD | CHECK | BUILD BIN |
pathRender1.3.0Li Long | Linux (SUSE 9.2) | x86_64 | OK | OK | |
| Linux (SUSE 10.1) | x86_64 | OK | OK | ||
| Linux (SUSE 9.2) | i686 | OK | ERROR | ||
| Solaris 2.9 | sparc | [ OK ] | ERROR | ||
| Windows Server 2003 | x86_64 | OK | ERROR | ERROR | |
| Windows Server 2003 | NA | OK | ERROR | ERROR | |
| Mac OS X (10.4.6) | i686 | OK | ERROR |
| Package: pathRender |
| Version: 1.3.0 |
| Command: /loc/biocbuild/2.0d/R/bin/R CMD build pathRender |
| RetCode: 0 |
| Time: 1.8 seconds |
| Status: OK |
| PackageFile: pathRender_1.3.0.tar.gz |
* checking for file 'pathRender/DESCRIPTION' ... OK * preparing 'pathRender': * checking DESCRIPTION meta-information ... OK * removing junk files * checking for LF line-endings in source files * checking for empty or unneeded directories * building 'pathRender_1.3.0.tar.gz'