This page was generated on 2025-10-15 07:00 -0400 (Wed, 15 Oct 2025).
| |
| See this page for all the Bioconductor builds and their schedule. |
| Hostname | OS | Arch (*) | R version | Installed pkgs |
|---|---|---|---|---|
| nebbiolo1 | Linux (Ubuntu 24.04.3 LTS) | x86_64 | 4.5.1 (2025-06-13) -- "Great Square Root" | 4833 |
| Click on any hostname to see more info about the system (e.g. compilers) (*) as reported by 'uname -p', except on Windows and Mac OS X | ||||
A | |||||||||
| QUICK STATS | OS / Arch | INSTALL | BUILD | CHECK | |||||||||||||||||||||||||||||||
| nebbiolo1 | Linux (Ubuntu 24.04.3 LTS) / x86_64 |
|
|
| |||||||||||||||||||||||||||||||
|
| ||||||||||||||||||||||||||||||||||
| Package | Maintainer | INSTALL | BUILD | CHECK | |||||||||||||||||||||||||||||||
| 1/47 | AHCytoBands 0.99.1 (landing page) | Michael Lawrence | OK | OK | OK | ||||||||||||||||||||||||||||||
| 2/47 | AHEnsDbs 1.7.0 (landing page) | Johannes Rainer | OK | OK | OK | ||||||||||||||||||||||||||||||
| 3/47 | AHLRBaseDbs 1.8.0 (landing page) | Koki Tsuyuzaki | OK | OK | OK | ||||||||||||||||||||||||||||||
| 4/47 | AHMeSHDbs 1.8.0 (landing page) | Koki Tsuyuzaki | OK | OK | OK | ||||||||||||||||||||||||||||||
| 5/47 | AHPathbankDbs 0.99.5 (landing page) | Kozo Nishida | OK | OK | OK | ||||||||||||||||||||||||||||||
| 6/47 | AHPubMedDbs 1.8.0 (landing page) | Koki Tsuyuzaki | OK | OK | OK | ||||||||||||||||||||||||||||||
| 7/47 | AHWikipathwaysDbs 0.99.4 (landing page) | Kozo Nishida | OK | OK | OK | ||||||||||||||||||||||||||||||
| 8/47 | AlphaMissense.v2023.hg19 3.18.2 (landing page) | Robert Castelo | OK | OK | OK | ||||||||||||||||||||||||||||||
| 9/47 | AlphaMissense.v2023.hg38 3.18.2 (landing page) | Robert Castelo | OK | OK | OK | ||||||||||||||||||||||||||||||
| 10/47 | alternativeSplicingEvents.hg19 1.1.0 (landing page) | Nuno Agostinho | OK | OK | OK | ||||||||||||||||||||||||||||||
| 11/47 | alternativeSplicingEvents.hg38 1.1.0 (landing page) | Nuno Agostinho | OK | OK | OK | ||||||||||||||||||||||||||||||
|
| ||||||||||||||||||||||||||||||||||
| Package | Maintainer | INSTALL | BUILD | CHECK | |||||||||||||||||||||||||||||||
| 12/47 | BioMartGOGeneSets 0.99.11 (landing page) | Zuguang Gu | OK | ERROR | skipped | ||||||||||||||||||||||||||||||
|
| ||||||||||||||||||||||||||||||||||
| Package | Maintainer | INSTALL | BUILD | CHECK | |||||||||||||||||||||||||||||||
| 13/47 | cadd.v1.6.hg19 3.18.1 (landing page) | Robert Castelo | OK | OK | OK | ||||||||||||||||||||||||||||||
| 14/47 | cadd.v1.6.hg38 3.18.1 (landing page) | Robert Castelo | OK | OK | OK | ||||||||||||||||||||||||||||||
| 15/47 | chromhmmData 0.99.2 (landing page) | Mahmoud Ahmed | OK | OK | OK | ||||||||||||||||||||||||||||||
| 16/47 | CTCF 0.99.11 (landing page) | Mikhail Dozmorov | OK | OK | OK | ||||||||||||||||||||||||||||||
|
| ||||||||||||||||||||||||||||||||||
| Package | Maintainer | INSTALL | BUILD | CHECK | |||||||||||||||||||||||||||||||
| 17/47 | ENCODExplorerData 0.99.5 (landing page) | Eric Fournier | OK | OK | OK | ||||||||||||||||||||||||||||||
| 18/47 | EPICv2manifest 0.99.7 (landing page) | Tim Peters | OK | OK | OK | ||||||||||||||||||||||||||||||
| 19/47 | EpiTxDb.Hs.hg38 0.99.7 (landing page) | Felix G.M. Ernst | OK | OK | OK | ||||||||||||||||||||||||||||||
| 20/47 | EpiTxDb.Mm.mm10 0.99.6 (landing page) | Felix G.M. Ernst | OK | OK | OK | ||||||||||||||||||||||||||||||
| 21/47 | EpiTxDb.Sc.sacCer3 0.99.5 (landing page) | Felix G.M. Ernst | OK | OK | OK | ||||||||||||||||||||||||||||||
| 22/47 | EuPathDB 1.0.1 (landing page) | Keith Hughitt | OK | ERROR | skipped | ||||||||||||||||||||||||||||||
| 23/47 | excluderanges 0.99.8 (landing page) | Mikhail Dozmorov | OK | ERROR | skipped | ||||||||||||||||||||||||||||||
|
| ||||||||||||||||||||||||||||||||||
| Package | Maintainer | INSTALL | BUILD | CHECK | |||||||||||||||||||||||||||||||
| 24/47 | geneplast.data 0.99.9 (landing page) | Leonardo Campos | OK | OK | OK | ||||||||||||||||||||||||||||||
| 25/47 | GeneSummary 0.99.6 (landing page) | Zuguang Gu | OK | OK | OK | ||||||||||||||||||||||||||||||
| 26/47 | GenomicState 0.99.16 (landing page) | Leonardo Collado-Torres | OK | OK | OK | ||||||||||||||||||||||||||||||
| 27/47 | gwascatData 0.99.6 (landing page) | Sara Stankiewicz | OK | OK | ERROR | ||||||||||||||||||||||||||||||
|
| ||||||||||||||||||||||||||||||||||
| Package | Maintainer | INSTALL | BUILD | CHECK | |||||||||||||||||||||||||||||||
| 28/47 | hpAnnot 1.1.0 (landing page) | Marta R. Hidalgo | OK | OK | ERROR | ||||||||||||||||||||||||||||||
| 29/47 | HPO.db 0.99.2 (landing page) | Erqiang Hu | ERROR | ERROR | skipped | ||||||||||||||||||||||||||||||
|
| ||||||||||||||||||||||||||||||||||
| Package | Maintainer | INSTALL | BUILD | CHECK | |||||||||||||||||||||||||||||||
| 30/47 | JASPAR2020 0.99.8 (landing page) | Damir Baranasic | OK | OK | ERROR | ||||||||||||||||||||||||||||||
| 31/47 | JASPAR2022 0.99.8 (landing page) | Damir Baranasic | OK | OK | OK | ||||||||||||||||||||||||||||||
| 32/47 | JASPAR2024 0.99.7 (landing page) | Damir Baranasic | OK | OK | OK | ||||||||||||||||||||||||||||||
|
| ||||||||||||||||||||||||||||||||||
| Package | Maintainer | INSTALL | BUILD | CHECK | |||||||||||||||||||||||||||||||
| 33/47 | metaboliteIDmapping 0.99.11 (landing page) | Sebastian Canzler | OK | OK | OK | ||||||||||||||||||||||||||||||
| 34/47 | MPO.db 0.99.8 (landing page) | Erqiang Hu | OK | OK | OK | ||||||||||||||||||||||||||||||
|
| ||||||||||||||||||||||||||||||||||
| Package | Maintainer | INSTALL | BUILD | CHECK | |||||||||||||||||||||||||||||||
| 35/47 | ontoProcData 0.99.9904 (landing page) | Sara Stankiewicz | OK | OK | ERROR | ||||||||||||||||||||||||||||||
| 36/47 | org.Mxanthus.db 1.0.27 (landing page) | Eduardo Illueca Fernández | OK | OK | WARNINGS | ||||||||||||||||||||||||||||||
|
| ||||||||||||||||||||||||||||||||||
| Package | Maintainer | INSTALL | BUILD | CHECK | |||||||||||||||||||||||||||||||
| 37/47 | PANTHER.db 1.0.12 (landing page) | Julius Muller | OK | OK | OK | ||||||||||||||||||||||||||||||
| 38/47 | phastCons30way.UCSC.hg38 3.13.0 (landing page) | Robert Castelo | OK | OK | ERROR | ||||||||||||||||||||||||||||||
|
| ||||||||||||||||||||||||||||||||||
| Package | Maintainer | INSTALL | BUILD | CHECK | |||||||||||||||||||||||||||||||
| 39/47 | rat2302frmavecs 0.99.11 (landing page) | Sylvain Gubian | OK | OK | OK | ||||||||||||||||||||||||||||||
| 40/47 | rGenomeTracksData 0.99.0 (landing page) | Omar Elashkar | OK | OK | OK | ||||||||||||||||||||||||||||||
|
| ||||||||||||||||||||||||||||||||||
| Package | Maintainer | INSTALL | BUILD | CHECK | |||||||||||||||||||||||||||||||
| 41/47 | scAnnotatR.models 0.99.10 (landing page) | Johannes Griss | OK | OK | OK | ||||||||||||||||||||||||||||||
| 42/47 | SomaScan.db 0.99.10 (landing page) | Amanda Hiser | OK | OK | OK | ||||||||||||||||||||||||||||||
| 43/47 | synaptome.data 0.99.6 (landing page) | Oksana Sorokina | OK | OK | OK | ||||||||||||||||||||||||||||||
| 44/47 | synaptome.db 0.99.16 (landing page) | Oksana Sorokina | OK | OK | ERROR | ||||||||||||||||||||||||||||||
|
| ||||||||||||||||||||||||||||||||||
| Package | Maintainer | INSTALL | BUILD | CHECK | |||||||||||||||||||||||||||||||
| 45/47 | TENET.AnnotationHub 1.0.0 (landing page) | Rhie Lab at the University of Southern California | OK | OK | OK | ||||||||||||||||||||||||||||||
|
| ||||||||||||||||||||||||||||||||||
| Package | Maintainer | INSTALL | BUILD | CHECK | |||||||||||||||||||||||||||||||
| 46/47 | UCSCRepeatMasker 3.17.3 (landing page) | Robert Castelo | OK | OK | ERROR | ||||||||||||||||||||||||||||||
| 47/47 | UniProtKeywords 0.99.7 (landing page) | Zuguang Gu | OK | OK | OK | ||||||||||||||||||||||||||||||