| Back to Build/check report for BioC 3.21 annotations |
|
This page was generated on 2025-10-15 07:00 -0400 (Wed, 15 Oct 2025).
| Hostname | OS | Arch (*) | R version | Installed pkgs |
|---|---|---|---|---|
| nebbiolo1 | Linux (Ubuntu 24.04.3 LTS) | x86_64 | 4.5.1 (2025-06-13) -- "Great Square Root" | 4833 |
| Click on any hostname to see more info about the system (e.g. compilers) (*) as reported by 'uname -p', except on Windows and Mac OS X | ||||
| Package 28/47 | Hostname | OS / Arch | INSTALL | BUILD | CHECK | ||||||||
| hpAnnot 1.1.0 (landing page) Marta R. Hidalgo
| nebbiolo1 | Linux (Ubuntu 24.04.3 LTS) / x86_64 | OK | OK | ERROR | ||||||||
|
To the developers/maintainers of the hpAnnot package: - Use the following Renviron settings to reproduce errors and warnings. - If 'R CMD check' started to fail recently on the Linux builder(s) over a missing dependency, add the missing dependency to 'Suggests:' in your DESCRIPTION file. See Renviron.bioc for more information. |
| Package: hpAnnot |
| Version: 1.1.0 |
| Command: /home/biocbuild/bbs-3.21-bioc/R/bin/R CMD INSTALL hpAnnot |
| StartedAt: 2025-10-15 06:00:07 -0400 (Wed, 15 Oct 2025) |
| EndedAt: 2025-10-15 06:00:10 -0400 (Wed, 15 Oct 2025) |
| EllapsedTime: 3.3 seconds |
| RetCode: 0 |
| Status: OK |
############################################################################## ############################################################################## ### ### Running command: ### ### /home/biocbuild/bbs-3.21-bioc/R/bin/R CMD INSTALL hpAnnot ### ############################################################################## ############################################################################## * installing to library ‘/home/biocbuild/bbs-3.21-bioc/R/site-library’ * installing *source* package ‘hpAnnot’ ... ** this is package ‘hpAnnot’ version ‘1.1.0’ ** using staged installation ** inst ** help No man pages found in package ‘hpAnnot’ *** installing help indices ** building package indices ** installing vignettes ** testing if installed package can be loaded from temporary location ** testing if installed package can be loaded from final location ** testing if installed package keeps a record of temporary installation path * DONE (hpAnnot)