Back to Multiple platform build/check report for BioC 3.21:   simplified   long
ABCDEFGHIJKLMNOPQR[S]TUVWXYZ

This page was generated on 2025-10-16 11:40 -0400 (Thu, 16 Oct 2025).

HostnameOSArch (*)R versionInstalled pkgs
nebbiolo1Linux (Ubuntu 24.04.3 LTS)x86_644.5.1 (2025-06-13) -- "Great Square Root" 4833
merida1macOS 12.7.6 Montereyx86_644.5.1 RC (2025-06-05 r88288) -- "Great Square Root" 4614
kjohnson1macOS 13.7.5 Venturaarm644.5.1 Patched (2025-06-14 r88325) -- "Great Square Root" 4555
kunpeng2Linux (openEuler 24.03 LTS)aarch64R Under development (unstable) (2025-02-19 r87757) -- "Unsuffered Consequences" 4586
Click on any hostname to see more info about the system (e.g. compilers)      (*) as reported by 'uname -p', except on Windows and Mac OS X

Package 2122/2341HostnameOS / ArchINSTALLBUILDCHECKBUILD BIN
structToolbox 1.20.0  (landing page)
Gavin Rhys Lloyd
Snapshot Date: 2025-10-13 13:40 -0400 (Mon, 13 Oct 2025)
git_url: https://git.bioconductor.org/packages/structToolbox
git_branch: RELEASE_3_21
git_last_commit: 1668438
git_last_commit_date: 2025-04-15 11:54:06 -0400 (Tue, 15 Apr 2025)
nebbiolo1Linux (Ubuntu 24.04.3 LTS) / x86_64  OK    OK    OK  UNNEEDED, same version is already published
merida1macOS 12.7.6 Monterey / x86_64  OK    OK    OK    OK  UNNEEDED, same version is already published
kjohnson1macOS 13.7.5 Ventura / arm64  OK    OK    OK    OK  UNNEEDED, same version is already published
kunpeng2Linux (openEuler 24.03 LTS) / aarch64  OK    OK    OK  


CHECK results for structToolbox on kjohnson1

To the developers/maintainers of the structToolbox package:
- Allow up to 24 hours (and sometimes 48 hours) for your latest push to git@git.bioconductor.org:packages/structToolbox.git to reflect on this report. See Troubleshooting Build Report for more information.
- Use the following Renviron settings to reproduce errors and warnings.
- If 'R CMD check' started to fail recently on the Linux builder(s) over a missing dependency, add the missing dependency to 'Suggests:' in your DESCRIPTION file. See Renviron.bioc for more information.

raw results


Summary

Package: structToolbox
Version: 1.20.0
Command: /Library/Frameworks/R.framework/Resources/bin/R CMD check --install=check:structToolbox.install-out.txt --library=/Library/Frameworks/R.framework/Resources/library --no-vignettes --timings structToolbox_1.20.0.tar.gz
StartedAt: 2025-10-15 14:35:57 -0400 (Wed, 15 Oct 2025)
EndedAt: 2025-10-15 14:45:04 -0400 (Wed, 15 Oct 2025)
EllapsedTime: 547.3 seconds
RetCode: 0
Status:   OK  
CheckDir: structToolbox.Rcheck
Warnings: 0

Command output

##############################################################################
##############################################################################
###
### Running command:
###
###   /Library/Frameworks/R.framework/Resources/bin/R CMD check --install=check:structToolbox.install-out.txt --library=/Library/Frameworks/R.framework/Resources/library --no-vignettes --timings structToolbox_1.20.0.tar.gz
###
##############################################################################
##############################################################################


* using log directory ‘/Users/biocbuild/bbs-3.21-bioc/meat/structToolbox.Rcheck’
* using R version 4.5.1 Patched (2025-06-14 r88325)
* using platform: aarch64-apple-darwin20
* R was compiled by
    Apple clang version 16.0.0 (clang-1600.0.26.6)
    GNU Fortran (GCC) 14.2.0
* running under: macOS Ventura 13.7.5
* using session charset: UTF-8
* using option ‘--no-vignettes’
* checking for file ‘structToolbox/DESCRIPTION’ ... OK
* checking extension type ... Package
* this is package ‘structToolbox’ version ‘1.20.0’
* package encoding: UTF-8
* checking package namespace information ... OK
* checking package dependencies ... OK
* checking if this is a source package ... OK
* checking if there is a namespace ... OK
* checking for hidden files and directories ... OK
* checking for portable file names ... OK
* checking for sufficient/correct file permissions ... OK
* checking whether package ‘structToolbox’ can be installed ... OK
* checking installed package size ... OK
* checking package directory ... OK
* checking ‘build’ directory ... OK
* checking DESCRIPTION meta-information ... OK
* checking top-level files ... OK
* checking for left-over files ... OK
* checking index information ... OK
* checking package subdirectories ... OK
* checking code files for non-ASCII characters ... OK
* checking R files for syntax errors ... OK
* checking whether the package can be loaded ... OK
* checking whether the package can be loaded with stated dependencies ... OK
* checking whether the package can be unloaded cleanly ... OK
* checking whether the namespace can be loaded with stated dependencies ... OK
* checking whether the namespace can be unloaded cleanly ... OK
* checking dependencies in R code ... OK
* checking S3 generic/method consistency ... OK
* checking replacement functions ... OK
* checking foreign function calls ... OK
* checking R code for possible problems ... OK
* checking Rd files ... OK
* checking Rd metadata ... OK
* checking Rd cross-references ... OK
* checking for missing documentation entries ... OK
* checking for code/documentation mismatches ... OK
* checking Rd \usage sections ... OK
* checking Rd contents ... OK
* checking for unstated dependencies in examples ... OK
* checking R/sysdata.rda ... OK
* checking files in ‘vignettes’ ... OK
* checking examples ... OK
Examples with CPU (user + system) or elapsed time > 5s
                            user system elapsed
fold_change_int           15.809  0.044  15.930
fold_change               10.428  0.060  10.598
fisher_exact               9.861  0.040   9.942
forward_selection_by_rank  6.983  0.125   7.131
fs_line                    6.367  0.230   6.673
compare_dist               4.760  0.321   5.271
* checking for unstated dependencies in ‘tests’ ... OK
* checking tests ...
  Running ‘testthat.R’
 OK
* checking for unstated dependencies in vignettes ... OK
* checking package vignettes ... OK
* checking running R code from vignettes ... SKIPPED
* checking re-building of vignette outputs ... SKIPPED
* checking PDF version of manual ... OK
* DONE

Status: OK


Installation output

structToolbox.Rcheck/00install.out

##############################################################################
##############################################################################
###
### Running command:
###
###   /Library/Frameworks/R.framework/Resources/bin/R CMD INSTALL structToolbox
###
##############################################################################
##############################################################################


* installing to library ‘/Library/Frameworks/R.framework/Versions/4.5-arm64/Resources/library’
* installing *source* package ‘structToolbox’ ...
** this is package ‘structToolbox’ version ‘1.20.0’
** using staged installation
** R
** inst
** byte-compile and prepare package for lazy loading
** help
*** installing help indices
** building package indices
** installing vignettes
** testing if installed package can be loaded from temporary location
** testing if installed package can be loaded from final location
** testing if installed package keeps a record of temporary installation path
* DONE (structToolbox)

Tests output

structToolbox.Rcheck/tests/testthat.Rout


R version 4.5.1 Patched (2025-06-14 r88325) -- "Great Square Root"
Copyright (C) 2025 The R Foundation for Statistical Computing
Platform: aarch64-apple-darwin20

R is free software and comes with ABSOLUTELY NO WARRANTY.
You are welcome to redistribute it under certain conditions.
Type 'license()' or 'licence()' for distribution details.

R is a collaborative project with many contributors.
Type 'contributors()' for more information and
'citation()' on how to cite R or R packages in publications.

Type 'demo()' for some demos, 'help()' for on-line help, or
'help.start()' for an HTML browser interface to help.
Type 'q()' to quit R.

> library(testthat)
> library(ggplot2)
> library(structToolbox)
Loading required package: struct
> 
> test_check("structToolbox")
[ FAIL 0 | WARN 6 | SKIP 0 | PASS 166 ]

[ FAIL 0 | WARN 6 | SKIP 0 | PASS 166 ]
> 
> proc.time()
   user  system elapsed 
195.578   2.471 199.181 

Example timings

structToolbox.Rcheck/structToolbox-Ex.timings

nameusersystemelapsed
ANOVA0.2190.0110.236
AUC2.0440.0962.149
DFA0.1830.0030.185
DatasetExperiment_boxplot2.1130.0462.159
DatasetExperiment_dist1.6220.0761.702
DatasetExperiment_factor_boxplot0.3400.0110.352
DatasetExperiment_heatmap0.6380.0290.678
HCA0.0730.0020.077
HSD0.3060.0190.335
HSDEM0.3930.0240.431
MTBLS79_DatasetExperiment0.0010.0000.001
OPLSDA0.0100.0010.010
OPLSR0.0080.0000.008
PCA0.0050.0000.005
PLSDA0.0110.0010.013
PLSR0.0100.0010.010
SVM0.0220.0010.024
as_data_frame0.1390.0010.140
autoscale0.0760.0020.080
balanced_accuracy1.9210.0442.000
blank_filter0.3700.0190.391
blank_filter_hist0.0010.0000.001
bootstrap0.0090.0000.009
calculate0.0050.0000.005
chart_plot0.0280.0010.029
classical_lsq0.3140.0040.318
compare_dist4.7600.3215.271
confounders_clsq2.8740.0212.920
confounders_lsq_barchart3.1930.0233.266
confounders_lsq_boxplot3.0930.0243.126
constant_sum_norm0.0070.0010.008
corr_coef0.2500.0030.252
dfa_scores_plot1.0200.0181.038
dratio_filter0.2780.0070.290
equal_split0.1260.0010.130
feature_boxplot0.0270.0010.028
feature_profile0.5640.0080.577
feature_profile_array0.6660.0050.673
filter_by_name0.0330.0000.033
filter_na_count1.0600.0481.109
filter_smeta0.0600.0010.060
fisher_exact9.8610.0409.942
fold_change10.428 0.06010.598
fold_change_int15.809 0.04415.930
fold_change_plot0.0070.0000.007
forward_selection_by_rank6.9830.1257.131
fs_line6.3670.2306.673
glog_opt_plot0.5960.0060.606
glog_transform0.2990.0020.303
grid_search_1d4.6180.1894.816
gs_line0.0010.0000.001
hca_dendrogram0.0000.0000.001
kfold_xval3.1990.0483.296
kfoldxcv_grid3.8970.0293.931
kfoldxcv_metric0.0010.0000.001
knn_impute0.0110.0000.012
kw_p_hist0.0010.0000.001
kw_rank_sum0.0730.0010.073
linear_model0.0300.0010.030
log_transform0.0070.0000.007
mean_centre0.0030.0000.003
mean_of_medians0.1260.0030.129
mixed_effect0.1680.0020.170
model_apply0.0230.0010.024
model_predict0.0560.0010.056
model_reverse0.0250.0010.025
model_train0.0520.0010.052
mv_boxplot0.4420.0060.448
mv_feature_filter0.1070.0010.108
mv_feature_filter_hist0.0000.0000.001
mv_histogram0.3450.0040.350
mv_sample_filter0.0090.0000.010
mv_sample_filter_hist0.0010.0000.001
nroot_transform0.0060.0010.006
ontology_cache0.0000.0000.001
pairs_filter0.0090.0010.010
pareto_scale0.0700.0030.073
pca_biplot0.0130.0000.013
pca_correlation_plot0.0060.0000.007
pca_dstat_plot0.0080.0000.008
pca_loadings_plot0.0080.0000.008
pca_scores_plot0.7010.0050.707
pca_scree_plot0.0070.0000.007
permutation_test0.0090.0000.009
permutation_test_plot0.0030.0000.002
permute_sample_order0.0060.0000.007
pls_regcoeff_plot0.4660.0050.472
pls_scores_plot0.8680.0050.875
pls_vip_plot0.4920.0040.496
plsda_feature_importance_plot0.8710.0070.879
plsda_predicted_plot0.6110.0050.617
plsda_roc_plot1.3010.0091.310
plsr_cook_dist0.0070.0000.007
plsr_prediction_plot0.0060.0010.007
plsr_qq_plot0.0060.0000.006
plsr_residual_hist0.0060.0000.006
pqn_norm0.3550.0020.357
pqn_norm_hist0.0010.0000.001
prop_na0.0080.0000.009
r_squared0.0010.0000.001
resample0.0140.0000.014
resample_chart0.0030.0000.003
rsd_filter0.0110.0010.012
rsd_filter_hist0.0010.0000.001
run0.0280.0000.028
sb_corr0.0240.0000.024
scatter_chart0.5430.0030.546
split_data0.0070.0000.007
stratified_split0.1090.0010.110
svm_plot_2d0.8600.0270.920
tSNE0.0240.0010.026
tSNE_scatter0.0090.0010.010
tic_chart0.3870.0080.400
ttest0.0210.0000.021
vec_norm0.0010.0010.001
wilcox_p_hist0.0010.0000.002
wilcox_test0.0200.0000.021