| Back to Multiple platform build/check report for BioC 3.22: simplified long |
|
This page was generated on 2025-11-06 12:00 -0500 (Thu, 06 Nov 2025).
| Hostname | OS | Arch (*) | R version | Installed pkgs |
|---|---|---|---|---|
| nebbiolo2 | Linux (Ubuntu 24.04.3 LTS) | x86_64 | 4.5.1 Patched (2025-08-23 r88802) -- "Great Square Root" | 4902 |
| kjohnson3 | macOS 13.7.7 Ventura | arm64 | 4.5.1 Patched (2025-09-10 r88807) -- "Great Square Root" | 4638 |
| Click on any hostname to see more info about the system (e.g. compilers) (*) as reported by 'uname -p', except on Windows and Mac OS X | ||||
| Package 2146/2361 | Hostname | OS / Arch | INSTALL | BUILD | CHECK | BUILD BIN | ||||||||
| structToolbox 1.22.0 (landing page) Gavin Rhys Lloyd
| nebbiolo2 | Linux (Ubuntu 24.04.3 LTS) / x86_64 | OK | OK | OK | |||||||||
| kjohnson3 | macOS 13.7.7 Ventura / arm64 | OK | OK | OK | OK | |||||||||
|
To the developers/maintainers of the structToolbox package: - Allow up to 24 hours (and sometimes 48 hours) for your latest push to git@git.bioconductor.org:packages/structToolbox.git to reflect on this report. See Troubleshooting Build Report for more information. - Use the following Renviron settings to reproduce errors and warnings. - If 'R CMD check' started to fail recently on the Linux builder(s) over a missing dependency, add the missing dependency to 'Suggests:' in your DESCRIPTION file. See Renviron.bioc for more information. |
| Package: structToolbox |
| Version: 1.22.0 |
| Command: /home/biocbuild/bbs-3.22-bioc/R/bin/R CMD check --install=check:structToolbox.install-out.txt --library=/home/biocbuild/bbs-3.22-bioc/R/site-library --timings structToolbox_1.22.0.tar.gz |
| StartedAt: 2025-11-06 04:47:08 -0500 (Thu, 06 Nov 2025) |
| EndedAt: 2025-11-06 05:05:45 -0500 (Thu, 06 Nov 2025) |
| EllapsedTime: 1117.1 seconds |
| RetCode: 0 |
| Status: OK |
| CheckDir: structToolbox.Rcheck |
| Warnings: 0 |
##############################################################################
##############################################################################
###
### Running command:
###
### /home/biocbuild/bbs-3.22-bioc/R/bin/R CMD check --install=check:structToolbox.install-out.txt --library=/home/biocbuild/bbs-3.22-bioc/R/site-library --timings structToolbox_1.22.0.tar.gz
###
##############################################################################
##############################################################################
* using log directory ‘/home/biocbuild/bbs-3.22-bioc/meat/structToolbox.Rcheck’
* using R version 4.5.1 Patched (2025-08-23 r88802)
* using platform: x86_64-pc-linux-gnu
* R was compiled by
gcc (Ubuntu 13.3.0-6ubuntu2~24.04) 13.3.0
GNU Fortran (Ubuntu 13.3.0-6ubuntu2~24.04) 13.3.0
* running under: Ubuntu 24.04.3 LTS
* using session charset: UTF-8
* checking for file ‘structToolbox/DESCRIPTION’ ... OK
* checking extension type ... Package
* this is package ‘structToolbox’ version ‘1.22.0’
* package encoding: UTF-8
* checking package namespace information ... OK
* checking package dependencies ... OK
* checking if this is a source package ... OK
* checking if there is a namespace ... OK
* checking for hidden files and directories ... OK
* checking for portable file names ... OK
* checking for sufficient/correct file permissions ... OK
* checking whether package ‘structToolbox’ can be installed ... OK
* checking installed package size ... OK
* checking package directory ... OK
* checking ‘build’ directory ... OK
* checking DESCRIPTION meta-information ... OK
* checking top-level files ... OK
* checking for left-over files ... OK
* checking index information ... OK
* checking package subdirectories ... OK
* checking code files for non-ASCII characters ... OK
* checking R files for syntax errors ... OK
* checking whether the package can be loaded ... OK
* checking whether the package can be loaded with stated dependencies ... OK
* checking whether the package can be unloaded cleanly ... OK
* checking whether the namespace can be loaded with stated dependencies ... OK
* checking whether the namespace can be unloaded cleanly ... OK
* checking loading without being on the library search path ... OK
* checking dependencies in R code ... OK
* checking S3 generic/method consistency ... OK
* checking replacement functions ... OK
* checking foreign function calls ... OK
* checking R code for possible problems ... OK
* checking Rd files ... OK
* checking Rd metadata ... OK
* checking Rd cross-references ... OK
* checking for missing documentation entries ... OK
* checking for code/documentation mismatches ... OK
* checking Rd \usage sections ... OK
* checking Rd contents ... OK
* checking for unstated dependencies in examples ... OK
* checking R/sysdata.rda ... OK
* checking files in ‘vignettes’ ... OK
* checking examples ... OK
Examples with CPU (user + system) or elapsed time > 5s
user system elapsed
fold_change_int 16.041 0.114 16.161
fold_change 10.909 0.025 10.937
fisher_exact 9.635 0.024 9.661
fs_line 7.074 0.089 7.164
forward_selection_by_rank 5.908 0.050 5.959
* checking for unstated dependencies in ‘tests’ ... OK
* checking tests ...
Running ‘testthat.R’
OK
* checking for unstated dependencies in vignettes ... OK
* checking package vignettes ... OK
* checking re-building of vignette outputs ... OK
* checking PDF version of manual ... OK
* DONE
Status: OK
structToolbox.Rcheck/00install.out
############################################################################## ############################################################################## ### ### Running command: ### ### /home/biocbuild/bbs-3.22-bioc/R/bin/R CMD INSTALL structToolbox ### ############################################################################## ############################################################################## * installing to library ‘/home/biocbuild/bbs-3.22-bioc/R/site-library’ * installing *source* package ‘structToolbox’ ... ** this is package ‘structToolbox’ version ‘1.22.0’ ** using staged installation ** R ** inst ** byte-compile and prepare package for lazy loading ** help *** installing help indices ** building package indices ** installing vignettes ** testing if installed package can be loaded from temporary location ** testing if installed package can be loaded from final location ** testing if installed package keeps a record of temporary installation path * DONE (structToolbox)
structToolbox.Rcheck/tests/testthat.Rout
R version 4.5.1 Patched (2025-08-23 r88802) -- "Great Square Root"
Copyright (C) 2025 The R Foundation for Statistical Computing
Platform: x86_64-pc-linux-gnu
R is free software and comes with ABSOLUTELY NO WARRANTY.
You are welcome to redistribute it under certain conditions.
Type 'license()' or 'licence()' for distribution details.
R is a collaborative project with many contributors.
Type 'contributors()' for more information and
'citation()' on how to cite R or R packages in publications.
Type 'demo()' for some demos, 'help()' for on-line help, or
'help.start()' for an HTML browser interface to help.
Type 'q()' to quit R.
> library(testthat)
> library(ggplot2)
> library(structToolbox)
Loading required package: struct
>
> test_check("structToolbox")
[ FAIL 0 | WARN 6 | SKIP 0 | PASS 166 ]
[ FAIL 0 | WARN 6 | SKIP 0 | PASS 166 ]
>
> proc.time()
user system elapsed
180.677 1.810 182.481
structToolbox.Rcheck/structToolbox-Ex.timings
| name | user | system | elapsed | |
| ANOVA | 0.203 | 0.000 | 0.203 | |
| AUC | 2.711 | 0.093 | 2.804 | |
| DFA | 0.178 | 0.000 | 0.178 | |
| DatasetExperiment_boxplot | 1.007 | 0.042 | 1.049 | |
| DatasetExperiment_dist | 1.499 | 0.063 | 1.564 | |
| DatasetExperiment_factor_boxplot | 0.324 | 0.000 | 0.324 | |
| DatasetExperiment_heatmap | 1.363 | 0.021 | 1.386 | |
| HCA | 0.062 | 0.000 | 0.062 | |
| HSD | 0.284 | 0.012 | 0.297 | |
| HSDEM | 0.259 | 0.002 | 0.261 | |
| MTBLS79_DatasetExperiment | 0.001 | 0.000 | 0.001 | |
| OPLSDA | 0.01 | 0.00 | 0.01 | |
| OPLSR | 0.007 | 0.000 | 0.007 | |
| PCA | 0.004 | 0.000 | 0.004 | |
| PLSDA | 0.01 | 0.00 | 0.01 | |
| PLSR | 0.008 | 0.000 | 0.008 | |
| SVM | 0.019 | 0.000 | 0.019 | |
| as_data_frame | 0.112 | 0.000 | 0.112 | |
| autoscale | 0.063 | 0.000 | 0.063 | |
| balanced_accuracy | 1.662 | 0.031 | 1.693 | |
| blank_filter | 0.355 | 0.031 | 0.386 | |
| blank_filter_hist | 0 | 0 | 0 | |
| bootstrap | 0.01 | 0.00 | 0.01 | |
| calculate | 0.004 | 0.001 | 0.005 | |
| chart_plot | 0.026 | 0.002 | 0.028 | |
| classical_lsq | 0.288 | 0.010 | 0.298 | |
| compare_dist | 4.263 | 0.088 | 4.351 | |
| confounders_clsq | 2.818 | 0.005 | 2.823 | |
| confounders_lsq_barchart | 3.184 | 0.002 | 3.187 | |
| confounders_lsq_boxplot | 3.755 | 0.061 | 3.816 | |
| constant_sum_norm | 0.007 | 0.000 | 0.006 | |
| corr_coef | 0.257 | 0.006 | 0.263 | |
| dfa_scores_plot | 0.934 | 0.013 | 0.947 | |
| dratio_filter | 0.257 | 0.001 | 0.257 | |
| equal_split | 0.116 | 0.001 | 0.116 | |
| feature_boxplot | 0.023 | 0.000 | 0.024 | |
| feature_profile | 0.5 | 0.0 | 0.5 | |
| feature_profile_array | 0.689 | 0.000 | 0.690 | |
| filter_by_name | 0.034 | 0.001 | 0.034 | |
| filter_na_count | 1.023 | 0.053 | 1.076 | |
| filter_smeta | 0.070 | 0.006 | 0.076 | |
| fisher_exact | 9.635 | 0.024 | 9.661 | |
| fold_change | 10.909 | 0.025 | 10.937 | |
| fold_change_int | 16.041 | 0.114 | 16.161 | |
| fold_change_plot | 0.006 | 0.000 | 0.006 | |
| forward_selection_by_rank | 5.908 | 0.050 | 5.959 | |
| fs_line | 7.074 | 0.089 | 7.164 | |
| glog_opt_plot | 0.58 | 0.00 | 0.58 | |
| glog_transform | 0.316 | 0.000 | 0.316 | |
| grid_search_1d | 4.466 | 0.017 | 4.483 | |
| gs_line | 0.001 | 0.000 | 0.001 | |
| hca_dendrogram | 0.001 | 0.000 | 0.001 | |
| kfold_xval | 3.590 | 0.006 | 3.596 | |
| kfoldxcv_grid | 4.207 | 0.006 | 4.213 | |
| kfoldxcv_metric | 0.001 | 0.000 | 0.001 | |
| knn_impute | 0.012 | 0.000 | 0.012 | |
| kw_p_hist | 0.000 | 0.000 | 0.001 | |
| kw_rank_sum | 0.076 | 0.000 | 0.076 | |
| linear_model | 0.03 | 0.00 | 0.03 | |
| log_transform | 0.007 | 0.000 | 0.006 | |
| mean_centre | 0.003 | 0.000 | 0.003 | |
| mean_of_medians | 0.115 | 0.000 | 0.115 | |
| mixed_effect | 0.185 | 0.000 | 0.186 | |
| model_apply | 0.025 | 0.001 | 0.025 | |
| model_predict | 0.057 | 0.000 | 0.057 | |
| model_reverse | 0.028 | 0.000 | 0.028 | |
| model_train | 0.053 | 0.000 | 0.052 | |
| mv_boxplot | 0.465 | 0.001 | 0.466 | |
| mv_feature_filter | 0.129 | 0.000 | 0.128 | |
| mv_feature_filter_hist | 0.000 | 0.000 | 0.001 | |
| mv_histogram | 0.372 | 0.001 | 0.373 | |
| mv_sample_filter | 0.010 | 0.000 | 0.009 | |
| mv_sample_filter_hist | 0.001 | 0.000 | 0.001 | |
| nroot_transform | 0.008 | 0.000 | 0.008 | |
| ontology_cache | 0.000 | 0.000 | 0.001 | |
| pairs_filter | 0.010 | 0.000 | 0.011 | |
| pareto_scale | 0.064 | 0.000 | 0.065 | |
| pca_biplot | 0.016 | 0.000 | 0.016 | |
| pca_correlation_plot | 0.007 | 0.000 | 0.007 | |
| pca_dstat_plot | 0.010 | 0.000 | 0.009 | |
| pca_loadings_plot | 0.010 | 0.000 | 0.009 | |
| pca_scores_plot | 0.841 | 0.000 | 0.841 | |
| pca_scree_plot | 0.009 | 0.000 | 0.008 | |
| permutation_test | 0.010 | 0.001 | 0.010 | |
| permutation_test_plot | 0.003 | 0.000 | 0.003 | |
| permute_sample_order | 0.008 | 0.000 | 0.007 | |
| pls_regcoeff_plot | 0.524 | 0.002 | 0.527 | |
| pls_scores_plot | 0.959 | 0.001 | 0.960 | |
| pls_vip_plot | 0.603 | 0.000 | 0.603 | |
| plsda_feature_importance_plot | 0.973 | 0.001 | 0.974 | |
| plsda_predicted_plot | 0.609 | 0.002 | 0.611 | |
| plsda_roc_plot | 1.286 | 0.001 | 1.287 | |
| plsr_cook_dist | 0.007 | 0.000 | 0.008 | |
| plsr_prediction_plot | 0.007 | 0.000 | 0.008 | |
| plsr_qq_plot | 0.008 | 0.000 | 0.008 | |
| plsr_residual_hist | 0.008 | 0.000 | 0.007 | |
| pqn_norm | 0.376 | 0.001 | 0.376 | |
| pqn_norm_hist | 0.000 | 0.000 | 0.001 | |
| prop_na | 0.009 | 0.000 | 0.009 | |
| r_squared | 0.000 | 0.000 | 0.001 | |
| resample | 0.015 | 0.000 | 0.015 | |
| resample_chart | 0.003 | 0.000 | 0.003 | |
| rsd_filter | 0.013 | 0.000 | 0.013 | |
| rsd_filter_hist | 0.000 | 0.000 | 0.001 | |
| run | 0.031 | 0.000 | 0.032 | |
| sb_corr | 0.026 | 0.000 | 0.026 | |
| scatter_chart | 0.557 | 0.001 | 0.559 | |
| split_data | 0.007 | 0.000 | 0.007 | |
| stratified_split | 0.122 | 0.000 | 0.121 | |
| svm_plot_2d | 0.866 | 0.033 | 0.899 | |
| tSNE | 0.023 | 0.000 | 0.022 | |
| tSNE_scatter | 0.007 | 0.000 | 0.007 | |
| tic_chart | 0.365 | 0.000 | 0.365 | |
| ttest | 0.022 | 0.000 | 0.022 | |
| vec_norm | 0.001 | 0.000 | 0.001 | |
| wilcox_p_hist | 0.000 | 0.001 | 0.001 | |
| wilcox_test | 0.017 | 0.000 | 0.017 | |