Back to Multiple platform build/check report for BioC 3.21: simplified long |
|
This page was generated on 2025-04-22 13:20 -0400 (Tue, 22 Apr 2025).
Hostname | OS | Arch (*) | R version | Installed pkgs |
---|---|---|---|---|
nebbiolo1 | Linux (Ubuntu 24.04.1 LTS) | x86_64 | 4.5.0 RC (2025-04-04 r88126) -- "How About a Twenty-Six" | 4831 |
palomino7 | Windows Server 2022 Datacenter | x64 | 4.5.0 RC (2025-04-04 r88126 ucrt) -- "How About a Twenty-Six" | 4573 |
lconway | macOS 12.7.1 Monterey | x86_64 | 4.5.0 RC (2025-04-04 r88126) -- "How About a Twenty-Six" | 4599 |
kjohnson3 | macOS 13.7.1 Ventura | arm64 | 4.5.0 RC (2025-04-04 r88126) -- "How About a Twenty-Six" | 4553 |
kunpeng2 | Linux (openEuler 24.03 LTS) | aarch64 | R Under development (unstable) (2025-02-19 r87757) -- "Unsuffered Consequences" | 4570 |
Click on any hostname to see more info about the system (e.g. compilers) (*) as reported by 'uname -p', except on Windows and Mac OS X |
Package 2049/2341 | Hostname | OS / Arch | INSTALL | BUILD | CHECK | BUILD BIN | ||||||||
sparrow 1.14.0 (landing page) Steve Lianoglou
| nebbiolo1 | Linux (Ubuntu 24.04.1 LTS) / x86_64 | OK | OK | OK | ![]() | ||||||||
palomino7 | Windows Server 2022 Datacenter / x64 | OK | OK | OK | OK | ![]() | ||||||||
lconway | macOS 12.7.1 Monterey / x86_64 | OK | OK | OK | OK | ![]() | ||||||||
kjohnson3 | macOS 13.7.1 Ventura / arm64 | OK | OK | OK | OK | ![]() | ||||||||
kunpeng2 | Linux (openEuler 24.03 LTS) / aarch64 | OK | OK | TIMEOUT | ||||||||||
To the developers/maintainers of the sparrow package: - Allow up to 24 hours (and sometimes 48 hours) for your latest push to git@git.bioconductor.org:packages/sparrow.git to reflect on this report. See Troubleshooting Build Report for more information. - Use the following Renviron settings to reproduce errors and warnings. - If 'R CMD check' started to fail recently on the Linux builder(s) over a missing dependency, add the missing dependency to 'Suggests:' in your DESCRIPTION file. See Renviron.bioc for more information. - See Martin Grigorov's blog post for how to debug Linux ARM64 related issues on a x86_64 host. |
Package: sparrow |
Version: 1.14.0 |
Command: /home/biocbuild/R/R/bin/R CMD check --install=check:sparrow.install-out.txt --library=/home/biocbuild/R/R/site-library --no-vignettes --timings sparrow_1.14.0.tar.gz |
StartedAt: 2025-04-22 14:08:55 -0000 (Tue, 22 Apr 2025) |
EndedAt: 2025-04-22 14:48:56 -0000 (Tue, 22 Apr 2025) |
EllapsedTime: 2400.4 seconds |
RetCode: None |
Status: TIMEOUT |
CheckDir: sparrow.Rcheck |
Warnings: NA |
############################################################################## ############################################################################## ### ### Running command: ### ### /home/biocbuild/R/R/bin/R CMD check --install=check:sparrow.install-out.txt --library=/home/biocbuild/R/R/site-library --no-vignettes --timings sparrow_1.14.0.tar.gz ### ############################################################################## ############################################################################## * using log directory ‘/home/biocbuild/bbs-3.21-bioc/meat/sparrow.Rcheck’ * using R Under development (unstable) (2025-02-19 r87757) * using platform: aarch64-unknown-linux-gnu * R was compiled by aarch64-unknown-linux-gnu-gcc (GCC) 14.2.0 GNU Fortran (GCC) 14.2.0 * running under: openEuler 24.03 (LTS-SP1) * using session charset: UTF-8 * using option ‘--no-vignettes’ * checking for file ‘sparrow/DESCRIPTION’ ... OK * checking extension type ... Package * this is package ‘sparrow’ version ‘1.14.0’ * package encoding: UTF-8 * checking package namespace information ... OK * checking package dependencies ... OK * checking if this is a source package ... OK * checking if there is a namespace ... OK * checking for hidden files and directories ... OK * checking for portable file names ... OK * checking for sufficient/correct file permissions ... OK * checking whether package ‘sparrow’ can be installed ... OK * checking installed package size ... OK * checking package directory ... OK * checking ‘build’ directory ... OK * checking DESCRIPTION meta-information ... NOTE License stub is invalid DCF. * checking top-level files ... OK * checking for left-over files ... OK * checking index information ... OK * checking package subdirectories ... OK * checking code files for non-ASCII characters ... OK * checking R files for syntax errors ... OK * checking whether the package can be loaded ... OK * checking whether the package can be loaded with stated dependencies ... OK * checking whether the package can be unloaded cleanly ... OK * checking whether the namespace can be loaded with stated dependencies ... OK * checking whether the namespace can be unloaded cleanly ... OK * checking loading without being on the library search path ... OK * checking whether startup messages can be suppressed ... OK * checking dependencies in R code ... OK * checking S3 generic/method consistency ... OK * checking replacement functions ... OK * checking foreign function calls ... OK * checking R code for possible problems ... NOTE .map_ids_orthogene: no visible binding for global variable ‘gspecies’ .map_ids_orthogene: no visible binding for global variable ‘species’ .map_ids_orthogene: no visible binding for global variable ‘input_ensg’ .map_ids_orthogene: no visible binding for global variable ‘ortholog_ensg’ .map_ids_orthogene: no visible binding for global variable ‘ortholog_gene’ .map_ids_orthogene: no visible binding for global variable ‘symbol’ .map_ids_orthogene: no visible binding for global variable ‘input_id’ .map_ids_orthogene: no visible global function definition for ‘starts_with’ .map_ids_orthogene: no visible global function definition for ‘last_col’ .map_ids_orthogene: no visible binding for global variable ‘rm_na’ geneSetsStats: no visible binding for global variable ‘direction’ getMSigGeneSetDb: no visible binding for global variable ‘ncbi_gene’ getMSigGeneSetDb: no visible binding for global variable ‘db_species’ getMSigGeneSetDb: no visible binding for global variable ‘msigdb_collection’ getMSigGeneSetDb: no visible binding for global variable ‘gene_symbol’ getMSigGeneSetDb: no visible binding for global variable ‘gs_collection_name’ getMSigGeneSetDb: no visible binding for global variable ‘gs_url’ convertIdentifiers,GeneSetDb: no visible binding for global variable ‘.convert_ids_with_babelgene’ convertIdentifiers,GeneSetDb: no visible global function definition for ‘.map_ids_babelgene’ Undefined global functions or variables: .convert_ids_with_babelgene .map_ids_babelgene db_species direction gene_symbol gs_collection_name gs_url gspecies input_ensg input_id last_col msigdb_collection ncbi_gene ortholog_ensg ortholog_gene rm_na species starts_with symbol * checking Rd files ... OK * checking Rd metadata ... OK * checking Rd cross-references ... NOTE Non-topic package-anchored link(s) in Rd file 'GeneSetDb-class.Rd': ‘[GSEABase:GeneIdentifierType-constructors]{GSEABase::EntrezIdentifier()}’ Non-topic package-anchored link(s) in Rd file 'calculateIndividualLogFC.Rd': ‘[limma:ebayes]{limma::eBayes()}’ Non-topic package-anchored link(s) in Rd file 'collectionMetadata.Rd': ‘[GSEABase:GeneIdentifierType-constructors]{GSEABase::EntrezIdentifier()}’ Non-topic package-anchored link(s) in Rd file 'seas.Rd': ‘[limma:toptable]{limma::topTable()}’ ‘[limma:dupcor]{limma::duplicateCorrelation()}’ See section 'Cross-references' in the 'Writing R Extensions' manual. Found the following Rd file(s) with Rd \link{} targets missing package anchors: seas.Rd: BiocParallel Please provide package anchors for all Rd \link{} targets not in the package itself and the base packages. * checking for missing documentation entries ... OK * checking for code/documentation mismatches ... OK * checking Rd \usage sections ... OK * checking Rd contents ... OK * checking for unstated dependencies in examples ... OK * checking line endings in Makefiles ... OK * checking for GNU extensions in Makefiles ... OK * checking include directives in Makefiles ... OK * checking files in ‘vignettes’ ... OK * checking examples ... OK Examples with CPU (user + system) or elapsed time > 5s user system elapsed scoreSingleSamples 13.751 0.095 14.061 goseq 9.225 0.148 10.668 seas 6.952 0.163 7.183 eigenWeightedMean 6.641 0.163 7.182 geneSetsStats 5.986 0.128 6.163 annotateGeneSetMembership 5.355 0.140 5.745 SparrowResult-utilities 4.726 0.085 5.080 * checking for unstated dependencies in ‘tests’ ... OK * checking tests ... Running ‘testthat.R’
sparrow.Rcheck/00install.out
############################################################################## ############################################################################## ### ### Running command: ### ### /home/biocbuild/R/R/bin/R CMD INSTALL sparrow ### ############################################################################## ############################################################################## * installing to library ‘/home/biocbuild/R/R-devel_2025-02-19/site-library’ * installing *source* package ‘sparrow’ ... ** this is package ‘sparrow’ version ‘1.14.0’ ** using staged installation ** R ** inst ** byte-compile and prepare package for lazy loading ** help *** installing help indices *** copying figures ** building package indices ** installing vignettes ** testing if installed package can be loaded from temporary location ** testing if installed package can be loaded from final location ** testing if installed package keeps a record of temporary installation path * DONE (sparrow)
sparrow.Rcheck/tests/testthat.Rout
R Under development (unstable) (2025-02-19 r87757) -- "Unsuffered Consequences" Copyright (C) 2025 The R Foundation for Statistical Computing Platform: aarch64-unknown-linux-gnu R is free software and comes with ABSOLUTELY NO WARRANTY. You are welcome to redistribute it under certain conditions. Type 'license()' or 'licence()' for distribution details. R is a collaborative project with many contributors. Type 'contributors()' for more information and 'citation()' on how to cite R or R packages in publications. Type 'demo()' for some demos, 'help()' for on-line help, or 'help.start()' for an HTML browser interface to help. Type 'q()' to quit R. > library("sparrow") > library("testthat") > library("data.table") > library("dplyr") Attaching package: 'dplyr' The following objects are masked from 'package:data.table': between, first, last The following object is masked from 'package:testthat': matches The following object is masked from 'package:sparrow': combine The following objects are masked from 'package:stats': filter, lag The following objects are masked from 'package:base': intersect, setdiff, setequal, union > > test_check("sparrow") Attaching package: 'magrittr' The following objects are masked from 'package:testthat': equals, is_less_than, not
sparrow.Rcheck/sparrow-Ex.timings
name | user | system | elapsed | |
GeneSetDb-class | 0.864 | 0.063 | 1.004 | |
SparrowResult-utilities | 4.726 | 0.085 | 5.080 | |
addGeneSetMetadata | 0.097 | 0.000 | 0.097 | |
annotateGeneSetMembership | 5.355 | 0.140 | 5.745 | |
calculateIndividualLogFC | 2.441 | 0.028 | 2.479 | |
collectionMetadata | 0.103 | 0.000 | 0.102 | |
combine-GeneSetDb-GeneSetDb-method | 0.143 | 0.000 | 0.144 | |
combine-SparrowResult-SparrowResult-method | 0.132 | 0.004 | 0.141 | |
conform | 0.626 | 0.020 | 0.648 | |
conversion | 1.578 | 0.044 | 1.624 | |
convertIdentifiers | 0.281 | 0.000 | 0.279 | |
corplot | 0.108 | 0.000 | 0.109 | |
eigenWeightedMean | 6.641 | 0.163 | 7.182 | |
examples | 0.434 | 0.016 | 0.452 | |
failWith | 0.001 | 0.000 | 0.000 | |
featureIdMap | 0.581 | 0.016 | 0.676 | |
featureIds | 0.619 | 0.000 | 0.621 | |
geneSet | 0.119 | 0.004 | 0.124 | |
geneSetCollectionURLfunction | 0.079 | 0.000 | 0.079 | |
geneSetSummaryByGenes | 4.207 | 0.108 | 4.406 | |
geneSets | 0.084 | 0.000 | 0.085 | |
geneSetsStats | 5.986 | 0.128 | 6.163 | |
getKeggCollection | 0 | 0 | 0 | |
getMSigCollection | 0.001 | 0.000 | 0.000 | |
getPantherCollection | 0 | 0 | 0 | |
getReactomeCollection | 0.001 | 0.000 | 0.000 | |
goseq | 9.225 | 0.148 | 10.668 | |
gsdScore | 1.230 | 0.039 | 1.271 | |
gskey | 0.003 | 0.000 | 0.003 | |
hasGeneSet | 0.076 | 0.004 | 0.081 | |
hasGeneSetCollection | 1.266 | 0.051 | 1.320 | |
incidenceMatrix | 1.430 | 0.017 | 1.530 | |
iplot | 1.499 | 0.032 | 1.535 | |
is.active | 0.453 | 0.024 | 0.607 | |
logFC | 3.924 | 0.044 | 4.169 | |
mgheatmap | 0 | 0 | 0 | |
mgheatmap2 | 0 | 0 | 0 | |
msg | 0.001 | 0.000 | 0.000 | |
ora | 0.370 | 0.028 | 0.398 | |
p.matrix | 0.101 | 0.000 | 0.102 | |
randomGeneSetDb | 0.112 | 0.008 | 0.121 | |
renameCollections | 0.113 | 0.000 | 0.113 | |
renameRows | 0.546 | 0.004 | 0.551 | |
results | 0.129 | 0.000 | 0.129 | |
scale_rows | 0.005 | 0.000 | 0.005 | |
scoreSingleSamples | 13.751 | 0.095 | 14.061 | |
seas | 6.952 | 0.163 | 7.183 | |
sparrow_methods | 0.004 | 0.000 | 0.004 | |
species_info | 0.003 | 0.004 | 0.007 | |
subset.GeneSetDb | 0.091 | 0.008 | 0.100 | |
subsetByFeatures | 0.119 | 0.008 | 0.127 | |
validateInputs | 0.220 | 0.004 | 0.225 | |
volcanoPlot | 2.441 | 0.076 | 2.525 | |
volcanoStatsTable | 0.067 | 0.008 | 0.077 | |
zScore | 1.294 | 0.020 | 1.319 | |