| Back to Multiple platform build/check report for BioC 3.21: simplified long |
|
This page was generated on 2025-10-16 11:40 -0400 (Thu, 16 Oct 2025).
| Hostname | OS | Arch (*) | R version | Installed pkgs |
|---|---|---|---|---|
| nebbiolo1 | Linux (Ubuntu 24.04.3 LTS) | x86_64 | 4.5.1 (2025-06-13) -- "Great Square Root" | 4833 |
| merida1 | macOS 12.7.6 Monterey | x86_64 | 4.5.1 RC (2025-06-05 r88288) -- "Great Square Root" | 4614 |
| kjohnson1 | macOS 13.7.5 Ventura | arm64 | 4.5.1 Patched (2025-06-14 r88325) -- "Great Square Root" | 4555 |
| kunpeng2 | Linux (openEuler 24.03 LTS) | aarch64 | R Under development (unstable) (2025-02-19 r87757) -- "Unsuffered Consequences" | 4586 |
| Click on any hostname to see more info about the system (e.g. compilers) (*) as reported by 'uname -p', except on Windows and Mac OS X | ||||
| Package 2049/2341 | Hostname | OS / Arch | INSTALL | BUILD | CHECK | BUILD BIN | ||||||||
| sparrow 1.14.0 (landing page) Steve Lianoglou
| nebbiolo1 | Linux (Ubuntu 24.04.3 LTS) / x86_64 | OK | OK | OK | |||||||||
| merida1 | macOS 12.7.6 Monterey / x86_64 | OK | OK | OK | OK | |||||||||
| kjohnson1 | macOS 13.7.5 Ventura / arm64 | OK | OK | OK | OK | |||||||||
| kunpeng2 | Linux (openEuler 24.03 LTS) / aarch64 | OK | OK | ERROR | ||||||||||
|
To the developers/maintainers of the sparrow package: - Allow up to 24 hours (and sometimes 48 hours) for your latest push to git@git.bioconductor.org:packages/sparrow.git to reflect on this report. See Troubleshooting Build Report for more information. - Use the following Renviron settings to reproduce errors and warnings. - If 'R CMD check' started to fail recently on the Linux builder(s) over a missing dependency, add the missing dependency to 'Suggests:' in your DESCRIPTION file. See Renviron.bioc for more information. |
| Package: sparrow |
| Version: 1.14.0 |
| Command: /Library/Frameworks/R.framework/Resources/bin/R CMD check --install=check:sparrow.install-out.txt --library=/Library/Frameworks/R.framework/Resources/library --no-vignettes --timings sparrow_1.14.0.tar.gz |
| StartedAt: 2025-10-15 13:24:36 -0400 (Wed, 15 Oct 2025) |
| EndedAt: 2025-10-15 13:34:38 -0400 (Wed, 15 Oct 2025) |
| EllapsedTime: 601.4 seconds |
| RetCode: 0 |
| Status: OK |
| CheckDir: sparrow.Rcheck |
| Warnings: 0 |
##############################################################################
##############################################################################
###
### Running command:
###
### /Library/Frameworks/R.framework/Resources/bin/R CMD check --install=check:sparrow.install-out.txt --library=/Library/Frameworks/R.framework/Resources/library --no-vignettes --timings sparrow_1.14.0.tar.gz
###
##############################################################################
##############################################################################
* using log directory ‘/Users/biocbuild/bbs-3.21-bioc/meat/sparrow.Rcheck’
* using R version 4.5.1 Patched (2025-06-14 r88325)
* using platform: aarch64-apple-darwin20
* R was compiled by
Apple clang version 16.0.0 (clang-1600.0.26.6)
GNU Fortran (GCC) 14.2.0
* running under: macOS Ventura 13.7.5
* using session charset: UTF-8
* using option ‘--no-vignettes’
* checking for file ‘sparrow/DESCRIPTION’ ... OK
* checking extension type ... Package
* this is package ‘sparrow’ version ‘1.14.0’
* package encoding: UTF-8
* checking package namespace information ... OK
* checking package dependencies ... OK
* checking if this is a source package ... OK
* checking if there is a namespace ... OK
* checking for hidden files and directories ... OK
* checking for portable file names ... OK
* checking for sufficient/correct file permissions ... OK
* checking whether package ‘sparrow’ can be installed ... OK
* checking installed package size ... OK
* checking package directory ... OK
* checking ‘build’ directory ... OK
* checking DESCRIPTION meta-information ... NOTE
License stub is invalid DCF.
* checking top-level files ... OK
* checking for left-over files ... OK
* checking index information ... OK
* checking package subdirectories ... OK
* checking code files for non-ASCII characters ... OK
* checking R files for syntax errors ... OK
* checking whether the package can be loaded ... OK
* checking whether the package can be loaded with stated dependencies ... OK
* checking whether the package can be unloaded cleanly ... OK
* checking whether the namespace can be loaded with stated dependencies ... OK
* checking whether the namespace can be unloaded cleanly ... OK
* checking whether startup messages can be suppressed ... OK
* checking dependencies in R code ... OK
* checking S3 generic/method consistency ... OK
* checking replacement functions ... OK
* checking foreign function calls ... OK
* checking R code for possible problems ... NOTE
.map_ids_orthogene: no visible binding for global variable ‘gspecies’
.map_ids_orthogene: no visible binding for global variable ‘species’
.map_ids_orthogene: no visible binding for global variable ‘input_ensg’
.map_ids_orthogene: no visible binding for global variable
‘ortholog_ensg’
.map_ids_orthogene: no visible binding for global variable
‘ortholog_gene’
.map_ids_orthogene: no visible binding for global variable ‘symbol’
.map_ids_orthogene: no visible binding for global variable ‘input_id’
.map_ids_orthogene: no visible global function definition for
‘starts_with’
.map_ids_orthogene: no visible global function definition for
‘last_col’
.map_ids_orthogene: no visible binding for global variable ‘rm_na’
geneSetsStats: no visible binding for global variable ‘direction’
getMSigGeneSetDb: no visible binding for global variable ‘ncbi_gene’
getMSigGeneSetDb: no visible binding for global variable ‘db_species’
getMSigGeneSetDb: no visible binding for global variable
‘msigdb_collection’
getMSigGeneSetDb: no visible binding for global variable ‘gene_symbol’
getMSigGeneSetDb: no visible binding for global variable
‘gs_collection_name’
getMSigGeneSetDb: no visible binding for global variable ‘gs_url’
convertIdentifiers,GeneSetDb: no visible binding for global variable
‘.convert_ids_with_babelgene’
convertIdentifiers,GeneSetDb: no visible global function definition for
‘.map_ids_babelgene’
Undefined global functions or variables:
.convert_ids_with_babelgene .map_ids_babelgene db_species direction
gene_symbol gs_collection_name gs_url gspecies input_ensg input_id
last_col msigdb_collection ncbi_gene ortholog_ensg ortholog_gene
rm_na species starts_with symbol
* checking Rd files ... OK
* checking Rd metadata ... OK
* checking Rd cross-references ... NOTE
Non-topic package-anchored link(s) in Rd file 'GeneSetDb-class.Rd':
‘[GSEABase:GeneIdentifierType-constructors]{GSEABase::EntrezIdentifier()}’
Non-topic package-anchored link(s) in Rd file 'calculateIndividualLogFC.Rd':
‘[limma:ebayes]{limma::eBayes()}’
Non-topic package-anchored link(s) in Rd file 'collectionMetadata.Rd':
‘[GSEABase:GeneIdentifierType-constructors]{GSEABase::EntrezIdentifier()}’
Non-topic package-anchored link(s) in Rd file 'seas.Rd':
‘[limma:toptable]{limma::topTable()}’
‘[limma:dupcor]{limma::duplicateCorrelation()}’
See section 'Cross-references' in the 'Writing R Extensions' manual.
Found the following Rd file(s) with Rd \link{} targets missing package
anchors:
seas.Rd: BiocParallel
Please provide package anchors for all Rd \link{} targets not in the
package itself and the base packages.
* checking for missing documentation entries ... OK
* checking for code/documentation mismatches ... OK
* checking Rd \usage sections ... OK
* checking Rd contents ... OK
* checking for unstated dependencies in examples ... OK
* checking line endings in Makefiles ... OK
* checking for GNU extensions in Makefiles ... OK
* checking include directives in Makefiles ... OK
* checking files in ‘vignettes’ ... OK
* checking examples ... OK
Examples with CPU (user + system) or elapsed time > 5s
user system elapsed
goseq 9.838 0.459 10.020
seas 7.469 0.298 7.443
SparrowResult-utilities 5.718 0.121 5.159
geneSetsStats 5.571 0.161 4.888
scoreSingleSamples 5.351 0.322 5.698
logFC 5.273 0.161 4.766
* checking for unstated dependencies in ‘tests’ ... OK
* checking tests ...
Running ‘testthat.R’
OK
* checking for unstated dependencies in vignettes ... OK
* checking package vignettes ... OK
* checking running R code from vignettes ... SKIPPED
* checking re-building of vignette outputs ... SKIPPED
* checking PDF version of manual ... OK
* DONE
Status: 3 NOTEs
See
‘/Users/biocbuild/bbs-3.21-bioc/meat/sparrow.Rcheck/00check.log’
for details.
sparrow.Rcheck/00install.out
############################################################################## ############################################################################## ### ### Running command: ### ### /Library/Frameworks/R.framework/Resources/bin/R CMD INSTALL sparrow ### ############################################################################## ############################################################################## * installing to library ‘/Library/Frameworks/R.framework/Versions/4.5-arm64/Resources/library’ * installing *source* package ‘sparrow’ ... ** this is package ‘sparrow’ version ‘1.14.0’ ** using staged installation ** R ** inst ** byte-compile and prepare package for lazy loading ** help *** installing help indices *** copying figures ** building package indices ** installing vignettes ** testing if installed package can be loaded from temporary location ** testing if installed package can be loaded from final location ** testing if installed package keeps a record of temporary installation path * DONE (sparrow)
sparrow.Rcheck/tests/testthat.Rout
R version 4.5.1 Patched (2025-06-14 r88325) -- "Great Square Root"
Copyright (C) 2025 The R Foundation for Statistical Computing
Platform: aarch64-apple-darwin20
R is free software and comes with ABSOLUTELY NO WARRANTY.
You are welcome to redistribute it under certain conditions.
Type 'license()' or 'licence()' for distribution details.
R is a collaborative project with many contributors.
Type 'contributors()' for more information and
'citation()' on how to cite R or R packages in publications.
Type 'demo()' for some demos, 'help()' for on-line help, or
'help.start()' for an HTML browser interface to help.
Type 'q()' to quit R.
> library("sparrow")
> library("testthat")
> library("data.table")
> library("dplyr")
Attaching package: 'dplyr'
The following objects are masked from 'package:data.table':
between, first, last
The following object is masked from 'package:testthat':
matches
The following object is masked from 'package:sparrow':
combine
The following objects are masked from 'package:stats':
filter, lag
The following objects are masked from 'package:base':
intersect, setdiff, setequal, union
>
> test_check("sparrow")
Attaching package: 'magrittr'
The following objects are masked from 'package:testthat':
equals, is_less_than, not
[ FAIL 0 | WARN 0 | SKIP 6 | PASS 1447 ]
══ Skipped tests (6) ═══════════════════════════════════════════════════════════
• empty test (1): 'test-MultiGSEAResult.R:3:1'
• {misgdbdf} is not installed (5): 'test-get-msigdb.R:6:3',
'test-get-msigdb.R:14:3', 'test-get-msigdb.R:27:3', 'test-get-msigdb.R:65:3',
'test-get-msigdb.R:99:3'
[ FAIL 0 | WARN 0 | SKIP 6 | PASS 1447 ]
>
> ## Remove temporary files that were generated
> test.dir <- system.file('tests', package = "sparrow")
> pdfs <- dir(test.dir, "\\.pdf$", full.names=TRUE)
> if (length(pdfs)) {
+ unlink(pdfs)
+ }
>
>
> proc.time()
user system elapsed
299.571 16.887 295.148
sparrow.Rcheck/sparrow-Ex.timings
| name | user | system | elapsed | |
| GeneSetDb-class | 0.074 | 0.005 | 0.081 | |
| SparrowResult-utilities | 5.718 | 0.121 | 5.159 | |
| addGeneSetMetadata | 0.076 | 0.003 | 0.080 | |
| annotateGeneSetMembership | 4.253 | 0.144 | 4.055 | |
| calculateIndividualLogFC | 1.501 | 0.049 | 1.554 | |
| collectionMetadata | 0.125 | 0.005 | 0.100 | |
| combine-GeneSetDb-GeneSetDb-method | 0.225 | 0.006 | 0.164 | |
| combine-SparrowResult-SparrowResult-method | 0.187 | 0.012 | 0.200 | |
| conform | 1.215 | 0.026 | 1.235 | |
| conversion | 0.779 | 0.030 | 0.711 | |
| convertIdentifiers | 0.387 | 0.017 | 0.299 | |
| corplot | 0.084 | 0.004 | 0.088 | |
| eigenWeightedMean | 4.332 | 0.153 | 4.455 | |
| examples | 0.321 | 0.077 | 0.399 | |
| failWith | 0 | 0 | 0 | |
| featureIdMap | 0.490 | 0.018 | 0.500 | |
| featureIds | 0.473 | 0.028 | 0.503 | |
| geneSet | 0.154 | 0.007 | 0.133 | |
| geneSetCollectionURLfunction | 0.118 | 0.005 | 0.094 | |
| geneSetSummaryByGenes | 3.979 | 0.155 | 3.621 | |
| geneSets | 0.088 | 0.004 | 0.081 | |
| geneSetsStats | 5.571 | 0.161 | 4.888 | |
| getKeggCollection | 0 | 0 | 0 | |
| getMSigCollection | 0 | 0 | 0 | |
| getPantherCollection | 0.001 | 0.000 | 0.001 | |
| getReactomeCollection | 0 | 0 | 0 | |
| goseq | 9.838 | 0.459 | 10.020 | |
| gsdScore | 0.968 | 0.062 | 1.016 | |
| gskey | 0.003 | 0.001 | 0.004 | |
| hasGeneSet | 0.074 | 0.003 | 0.072 | |
| hasGeneSetCollection | 0.070 | 0.003 | 0.068 | |
| incidenceMatrix | 1.108 | 0.084 | 1.190 | |
| iplot | 1.767 | 0.117 | 1.891 | |
| is.active | 0.418 | 0.047 | 0.463 | |
| logFC | 5.273 | 0.161 | 4.766 | |
| mgheatmap | 0 | 0 | 0 | |
| mgheatmap2 | 0.001 | 0.001 | 0.000 | |
| msg | 0 | 0 | 0 | |
| ora | 0.272 | 0.014 | 0.289 | |
| p.matrix | 0.115 | 0.002 | 0.118 | |
| randomGeneSetDb | 0.112 | 0.014 | 0.127 | |
| renameCollections | 0.151 | 0.006 | 0.131 | |
| renameRows | 0.457 | 0.019 | 0.479 | |
| results | 0.145 | 0.006 | 0.152 | |
| scale_rows | 0.006 | 0.001 | 0.007 | |
| scoreSingleSamples | 5.351 | 0.322 | 5.698 | |
| seas | 7.469 | 0.298 | 7.443 | |
| sparrow_methods | 0.004 | 0.001 | 0.005 | |
| species_info | 0.006 | 0.002 | 0.008 | |
| subset.GeneSetDb | 0.085 | 0.004 | 0.084 | |
| subsetByFeatures | 0.159 | 0.007 | 0.137 | |
| validateInputs | 0.149 | 0.012 | 0.160 | |
| volcanoPlot | 2.699 | 0.150 | 2.882 | |
| volcanoStatsTable | 0.096 | 0.005 | 0.103 | |
| zScore | 0.832 | 0.087 | 0.914 | |